Workbook
Name Elem_1_X_Axis: Formulas!$R$9:$R$369
Name Elem_1_Y_Axis: Formulas!$S$9:$S$369
Name Elem_10_X_Axis: Formulas!$CC$9:$CC$369
Name Elem_10_Y_Axis: Formulas!$CD$9:$CD$369
Name Elem_11_X_Axis: Formulas!$CJ$9:$CJ$369
Name Elem_11_Y_Axis: Formulas!$CK$9:$CK$369
Name Elem_12_X_Axis: Formulas!$CQ$9:$CQ$369
Name Elem_12_Y_Axis: Formulas!$CR$9:$CR$369
Name Elem_13_X_Axis: Formulas!$CX$9:$CX$369
Name Elem_13_Y_Axis: Formulas!$CY$9:$CY$369
Name Elem_2_X_Axis: Formulas!$Y$9:$Y$369
Name Elem_2_Y_Axis: Formulas!$Z$9:$Z$369
Name Elem_3_X_Axis: Formulas!$AF$9:$AF$369
Name Elem_3_Y_Axis: Formulas!$AG1:$AG$369
Name Elem_4_X_Axis: Formulas!$AM$9:$AM$369
Name Elem_4_Y_Axis: Formulas!$AN$9:$AN$369
Name Elem_5_X_Axis: Formulas!$AT$9:$AT$369
Name Elem_5_Y_Axis: Formulas!$AU$9:$AU$369
Name Elem_6_X_Axis: Formulas!$BA$9:$BA$369
Name Elem_6_Y_Axis: Formulas!$BB$9:$BB$369
Name Elem_7_X_Axis: Formulas!$BH$9:$BH$369
Name Elem_7_Y_Axis: Formulas!$BI$9:$BI$369
Name Elem_8_X_Axis: Formulas!$BO$9:$BO$369
Name Elem_8_Y_Axis: Formulas!$BP$9:$BP$369
Name Elem_9_X_Axis: Formulas!$BV$9:$BV$369
Name Elem_9_Y_Axis: Formulas!$BW$9:$BW$369
Name OD_X_Axis: Formulas!$I$9:$I$369
Name OD_Y_Axis: Formulas!$J$9:$J$369
Name Units: Formulas!#REF!

Sheet Pattern Entry
A1: Pendant Jig Pattern Tool (10 Index Jig) | H1: Note: | O1: NOTE: | Q1: Ref "E3"
A2: Pattern Name: | C2: Test Pattern 4: 6-Rotating Rings | P2: Cells and Formula's are NOT PROTECTED. Any changes or | Q2: Rotation of
B3: Units: | C3: Inches | D3: Rotation: | E3: 157 | P3: modifactions are done at your own risk. | Q3: Hole to
C4: Offset Hole | D4: Index Hole | E4: Radius - 1 | F4: Notes: | Q4: Straight Up | R4: Hole No.
B5: Pendant Shape: | C5: 1 | D5: 0 | E5: 1.5 | F5: 3-0" OD | O5: Instructions (See "Instruction" Sheet for more details | Q5: n/a | R5: 1
C6: Select 1 - 10 | D6: Select 1 - 24 (24 = 0) | E6: Enter Radius | O6: 1: Press "NEW" Text Box to erase all current data and start a new pattern. | Q6: n/a | R6: 2
P7: Note: If you prefer to not use the MACRO Version you will need to | Q7: =360-Formulas!B20+90 -> 143 | R7: 3
A8: Color | B8: Cut # | C8: Offset Hole | D8: Index Hole | E8: Radius - 2 | P8: delete the previously data to start with a new pattern | Q8: =360-Formulas!B21+90 -> 450 | R8: 4
B9: 1 | C9: 2 | D9: 0 | E9: 0.75 | F9: groove | O9: 2: Enter "PATTERN NAME" (Optional), in Cell: "C2" | Q9: =360-Formulas!B22+90 -> 403 | R9: 5
B10: 2 | C10: 2 | D10: 4 | E10: 0.75 | F10: groove | O10: 3: "UNITS" noted in Cell: "C3" are in "Inches" | Q10: =360-Formulas!B23+90 -> 360 | R10: 6
B11: 3 | C11: 2 | D11: 8 | E11: 0.75 | F11: groove | P11: Note: This Worksheet only allows Inches | Q11: =360-Formulas!B24+90 -> 320 | R11: 7
B12: 4 | C12: 2 | D12: 12 | E12: 0.75 | F12: groove | O12: 4: Enter the "ROTATION" in Cell: "E3". | Q12: =360-Formulas!B25+90 -> 284 | R12: 8
B13: 5 | C13: 2 | D13: 16 | E13: 0.75 | F13: groove | P13: Note: Must be 0 through 360 | Q13: =360-Formulas!B26+90 -> 250 | R13: 9
B14: 6 | C14: 2 | D14: 20 | E14: 0.75 | F14: groove | P14: Note: For screen display only. | Q14: =360-Formulas!B27+90 -> 219 | R14: 10
B15: 7 | O15: 5: Enter the "OFFSET HOLE No." in Cells: "C5" & "C9:C32". | Q15: Note: Once a rotation number is enter in "E3", these reference number change.
B16: 8 | P16: Note: Must be 1 through 10.
B17: 9 | P17: Note: If not used, leave blank.
B18: 10 | O18: 6: Enter the "INDEX HOLE No," in Cells: "D5" and "D9:D32".
B19: 11 | P19: Note: Must be 1 through 24. Note: #24 is the same as #0
B20: 12 | P20: Note: If not used, leave blank.
B21: 13 | O21: 7: Enter "RADIUS #1" in Cell: "E5", in decimal's (0.75, 1.0, 1.25…)
B22: 14 | P22: Note: This is the radius of the Pendant Outside Diameter
B23: 15 | P23: Note: A Radius must be entered for the plot to show
B24: 16 | O24: 8: Enter "RADIUS - 2" in Cells: "E9:E32", in decimal's (ref: 0.25, 0.5, 0.75…)
B25: 17 | P25: Note these radius represent the pattern on the Pendant.
B26: 18 | P26: Note: If not used, leave blank.
B27: 19 | O27: 9: Enter any Notes you want displayed on your printout in Cell: "I1"
B28: 20 | O28: 10: Print out pattern for use on the lathe or to file for future reference
B29: 21
B30: 22
B31: 23
B32: 24

Sheet Test Pattern 1

Sheet Test Pattern 2

Sheet Test Patern 3

Sheet Test Pattern 4

Sheet Introduction and Comments
A1: Introduction & Comments on Using this Pendant Design Tool with the new 10-Offset Hole Joyner's Off-Center Chuck
A2: Acknowledgement: | B2: Original Spreadsheet was developed by Bill Kloepping of Greenville, TX in December, 2012.
B3: Bill did a tremendous amount of work on the original 8 Offset Hole spreadsheet and it works very well.
B4: In Oct, 2022, I purchased the new designed Joyner Eccentric Chuck (10 Offset Holes), and while reading several
B5: articles I realized there was a spreadsheet available for developing patterns. The search began and I finally
B6: found a copy on the web. Upon downloading I quickly realized that it was for a 8 Offset Hole (the original
B7: version), so I began modifying the spreadsheet only to realize that the original 8 Offset holes were in
B8: different locations than the new 10 Offset Hole chuck.
B9: Because of this and to gain a better understanding of the logic Bill used I decided to develop a
B10: new 10 Offset Hole version utilizing Bill's work. So with thanks once again to Bill Kloepping here is my version.
B12: My thanks also goes out to Carl Jacobson at Niles Bottle Stopper for his support in allow the distribution
B13: of this program. Please Enjoy!
B15: This spreadsheet was provided unsupported and free of charge to Niles Bottle Stopper from the author,
B16: for the sole purpose to pass on to their customers or other users - free of charge, of course.
B17: If necessary and or if time allows I will provide updated versions to Niles Bottle Stoppers
A19: Author: | B19: Alan E Spears
B20: nature.turned@gmail.com
B21: January 2023
A23: Disclaimer: | B23: Tests show good agreement with plotted patterns and actual patterns made with my jig on a lathe, however,
B24: variations in offset hole positions from jig to jig, as well as variations in measurement and/or turning techniques
B25: may result in noticible deviations between the plotted and the final resultant turned designs.
A27: Introduction: | B27: This spreadsheet will prototype patterns that can be made using the NEW 10-Index Hole Richard Joyner Pendant Jig.
B28: - Up to 24 elements can be patterned at one time on a circular pendant using this spreadsheet.
B29: - It allows selection of all 10 offset holes on the base plate and all 24 index positions on the index plate.
B30: - It allows you to size the pendant and elements to any size you wish (i.e. no scaling is required)
B31: - This worksheet will only display and work in "INCHES"
B32: - It allows you to assign a name to the design and enter notes
B33: - You can print the plotted design with jig setup configurations for each element to use at the lathe.
B34: - You can save the design to a file that can be modified later without having to start from scratch.
A36: Software Notes: | B36: The spreadsheet has been "protected" so you can only enter data into the proper cells for designs.
B37: You can unprotect the sheet if you wish to get to locked cells but you're on your own if you do that.
B39: Aspect ratio differences between different computers/monitors and Excel versions may cause widgets
B40: and/or plots to be distorted. You can resize/move the plot and/or widgets to match your system display.
B41: (you will have to "unprotect" the spreadsheet (from an Excel pull-down menu) to move/resize items)
B43: Calculations are located in the columns starting at the "Q" Column "Pattern" worksheet and have been
B44: hidden to reduce confusion and prevent you from accidentally fat fingering critical data into mush.
B45: You may 'unhide' the columns If you wish to see the computations (you're on your own if you do that…)
A47: Version Info: | B47: 1 | C47: Original release of the 10-Index, 24-Offset Joyner Offset Chuck
B48: 2.0 | C48: 5/2/2026 Excel formulas corrected so the pendant display's the view of the actual cutting pattern from the lathe.

Sheet Formulas
A1: Rotated Offset Hole Coordinates (Summary) | H1: Pendant Outside Shape | N1: Element #: | O1: 1 | U1: Element #: | V1: 2 | AB1: Element #: | AC1: 3 | AI1: Element #: | AJ1: 4 | AP1: Element #: | AQ1: 5 | AW1: Element #: | AX1: 6 | BD1: Element #: | BE1: 7 | BK1: Element #: | BL1: 8 | BR1: Element #: | BS1: 9 | BY1: Element #: | BZ1: 10 | CF1: Element #: | CG1: 11 | CM1: Element #: | CN1: 12 | CT1: Element #: | CU1: 13 | DA1: Element #: | DB1: 14 | DH1: Element #: | DI1: 15 | DO1: Element #: | DP1: 16 | DV1: Element #: | DW1: 17 | EC1: Element #: | ED1: 18 | EJ1: Element #: | EK1: 19 | EQ1: Element #: | ER1: 20 | EX1: Element #: | EY1: 21 | FE1: Element #: | FF1: 22 | FL1: Element #: | FM1: 23 | FS1: Element #: | FT1: 24
A2: Hole # | B2: X | C2: Y | D2: Quad | E2: Angle | F2: Distance | H2: Offset Hole: | I2: =IF(OR('Pattern Entry'!$C$5<1,'Pattern Entry'!$C$5>11),"Error",'Pattern Entry'!$C$5) -> 1 | N2: Offset Hole: | O2: {=INDEX('Pattern Entry'!$C$9:$C$32,O1)} -> 2 | U2: Offset Hole: | V2: {=INDEX('Pattern Entry'!$C$9:$C$32,V1)} -> 2 | AB2: Offset Hole: | AC2: {=INDEX('Pattern Entry'!$C$9:$C$32,AC1)} -> 2 | AI2: Offset Hole: | AJ2: {=INDEX('Pattern Entry'!$C$9:$C$32,AJ1)} -> 2 | AP2: Offset Hole: | AQ2: {=INDEX('Pattern Entry'!$C$9:$C$32,AQ1)} -> 2 | AW2: Offset Hole: | AX2: {=INDEX('Pattern Entry'!$C$9:$C$32,AX1)} -> 2 | BD2: Offset Hole: | BE2: {=INDEX('Pattern Entry'!$C$9:$C$32,BE1)} -> 0 | BK2: Offset Hole: | BL2: {=INDEX('Pattern Entry'!$C$9:$C$32,BL1)} -> 0 | BR2: Offset Hole: | BS2: {=INDEX('Pattern Entry'!$C$9:$C$32,BS1)} -> 0 | BY2: Offset Hole: | BZ2: {=INDEX('Pattern Entry'!$C$9:$C$32,BZ1)} -> 0 | CF2: Offset Hole: | CG2: {=INDEX('Pattern Entry'!$C$9:$C$32,CG1)} -> 0 | CM2: Offset Hole: | CN2: {=INDEX('Pattern Entry'!$C$9:$C$32,CN1)} -> 0 | CT2: Offset Hole: | CU2: {=INDEX('Pattern Entry'!$C$9:$C$32,CU1)} -> 0 | DA2: Offset Hole: | DB2: {=INDEX('Pattern Entry'!$C$9:$C$32,DB1)} -> 0 | DH2: Offset Hole: | DI2: {=INDEX('Pattern Entry'!$C$9:$C$32,DI1)} -> 0 | DO2: Offset Hole: | DP2: {=INDEX('Pattern Entry'!$C$9:$C$32,DP1)} -> 0 | DV2: Offset Hole: | DW2: {=INDEX('Pattern Entry'!$C$9:$C$32,DW1)} -> 0 | EC2: Offset Hole: | ED2: {=INDEX('Pattern Entry'!$C$9:$C$32,ED1)} -> 0 | EJ2: Offset Hole: | EK2: {=INDEX('Pattern Entry'!$C$9:$C$32,EK1)} -> 0 | EQ2: Offset Hole: | ER2: {=INDEX('Pattern Entry'!$C$9:$C$32,ER1)} -> 0 | EX2: Offset Hole: | EY2: {=INDEX('Pattern Entry'!$C$9:$C$32,EY1)} -> 0 | FE2: Offset Hole: | FF2: {=INDEX('Pattern Entry'!$C$9:$C$32,FF1)} -> 0 | FL2: Offset Hole: | FM2: {=INDEX('Pattern Entry'!$C$9:$C$32,FM1)} -> 0 | FS2: Offset Hole: | FT2: {=INDEX('Pattern Entry'!$C$9:$C$32,FT1)} -> 0
A3: 1 | B3: =D18 -> 0 | C3: =E18 -> 0 | D3: =F18 -> 1 | E3: =B18 -> 0 | F3: =C18 -> 0 | H3: Index Hole: | I3: ='Pattern Entry'!D5 -> 0 | K3: Index Angle: | L3: =360-(I3*15) -> 360 | N3: Index Hole: | O3: {=INDEX('Pattern Entry'!$D$9:$D$32,O1)} -> 0 | Q3: Index Angle: | R3: =360-(O3*15) -> 360 | U3: Index Hole: | V3: {=INDEX('Pattern Entry'!$D$9:$D$32,V1)} -> 4 | X3: Index Angle: | Y3: =360-(V3*15) -> 300 | AB3: Index Hole: | AC3: {=INDEX('Pattern Entry'!$D$9:$D$32,AC1)} -> 8 | AE3: Index Angle: | AF3: =360-(AC3*15) -> 240 | AI3: Index Hole: | AJ3: {=INDEX('Pattern Entry'!$D$9:$D$32,AJ1)} -> 12 | AL3: Index Angle: | AM3: =360-(AJ3*15) -> 180 | AP3: Index Hole: | AQ3: {=INDEX('Pattern Entry'!$D$9:$D$32,AQ1)} -> 16 | AS3: Index Angle: | AT3: =360-(AQ3*15) -> 120 | AW3: Index Hole: | AX3: {=INDEX('Pattern Entry'!$D$9:$D$32,AX1)} -> 20 | AZ3: Index Angle: | BA3: =360-(AX3*15) -> 60 | BD3: Index Hole: | BE3: {=INDEX('Pattern Entry'!$D$9:$D$32,BE1)} -> 0 | BG3: Index Angle: | BH3: =360-(BE3*15) -> 360 | BK3: Index Hole: | BL3: {=INDEX('Pattern Entry'!$D$9:$D$32,BL1)} -> 0 | BN3: Index Angle: | BO3: =360-(BL3*15) -> 360 | BR3: Index Hole: | BS3: {=INDEX('Pattern Entry'!$D$9:$D$32,BS1)} -> 0 | BU3: Index Angle: | BV3: =360-(BS3*15) -> 360 | BY3: Index Hole: | BZ3: {=INDEX('Pattern Entry'!$D$9:$D$32,BZ1)} -> 0 | CB3: Index Angle: | CC3: =360-(BZ3*15) -> 360 | CF3: Index Hole: | CG3: {=INDEX('Pattern Entry'!$D$9:$D$32,CG1)} -> 0 | CI3: Index Angle: | CJ3: =360-(CG3*15) -> 360 | CM3: Index Hole: | CN3: {=INDEX('Pattern Entry'!$D$9:$D$32,CN1)} -> 0 | CP3: Index Angle: | CQ3: =360-(CN3*15) -> 360 | CT3: Index Hole: | CU3: {=INDEX('Pattern Entry'!$D$9:$D$32,CU1)} -> 0 | CW3: Index Angle: | CX3: =360-(CU3*15) -> 360 | DA3: Index Hole: | DB3: {=INDEX('Pattern Entry'!$D$9:$D$32,DB1)} -> 0 | DD3: Index Angle: | DE3: =360-(DB3*15) -> 360 | DH3: Index Hole: | DI3: {=INDEX('Pattern Entry'!$D$9:$D$32,DI1)} -> 0 | DK3: Index Angle: | DL3: =360-(DI3*15) -> 360 | DO3: Index Hole: | DP3: {=INDEX('Pattern Entry'!$D$9:$D$32,DP1)} -> 0 | DR3: Index Angle: | DS3: =360-(DP3*15) -> 360 | DV3: Index Hole: | DW3: {=INDEX('Pattern Entry'!$D$9:$D$32,DW1)} -> 0 | DY3: Index Angle: | DZ3: =360-(DW3*15) -> 360 | EC3: Index Hole: | ED3: {=INDEX('Pattern Entry'!$D$9:$D$32,ED1)} -> 0 | EF3: Index Angle: | EG3: =360-(ED3*15) -> 360 | EJ3: Index Hole: | EK3: {=INDEX('Pattern Entry'!$D$9:$D$32,EK1)} -> 0 | EM3: Index Angle: | EN3: =360-(EK3*15) -> 360 | EQ3: Index Hole: | ER3: {=INDEX('Pattern Entry'!$D$9:$D$32,ER1)} -> 0 | ET3: Index Angle: | EU3: =360-(ER3*15) -> 360 | EX3: Index Hole: | EY3: {=INDEX('Pattern Entry'!$D$9:$D$32,EY1)} -> 0 | FA3: Index Angle: | FB3: =360-(EY3*15) -> 360 | FE3: Index Hole: | FF3: {=INDEX('Pattern Entry'!$D$9:$D$32,FF1)} -> 0 | FH3: Index Angle: | FI3: =360-(FF3*15) -> 360 | FL3: Index Hole: | FM3: {=INDEX('Pattern Entry'!$D$9:$D$32,FM1)} -> 0 | FO3: Index Angle: | FP3: =360-(FM3*15) -> 360 | FS3: Index Hole: | FT3: {=INDEX('Pattern Entry'!$D$9:$D$32,FT1)} -> 0 | FV3: Index Angle: | FW3: =360-(FT3*15) -> 360
A4: 2 | B4: =D19 -> -0.15629245 | C4: =E19 -> -0.36820194 | D4: =F19 -> 3 | E4: =B19 -> 247 | F4: =C19 -> 0.4 | H4: Element: | I4: Angle: | J4: {=MOD(INDEX(E3:$E$12,I2)+L3,360)} -> 0 | K4: Distance: | L4: =VLOOKUP(I2,$A$3:$F$12,6) -> 0 | N4: Element: | O4: Angle: | P4: {=MOD(INDEX($E$3:$E$12,O2)+R3,360)} -> 247 | Q4: Distance: | R4: =VLOOKUP(O2,$A$3:$F$12,6) -> 0.4 | U4: Element: | V4: Angle: | W4: {=MOD(INDEX($E$3:$E$12,V2)+Y3,360)} -> 187 | X4: Distance: | Y4: =VLOOKUP(V2,$A$3:$F$12,6) -> 0.4 | AB4: Element: | AC4: Angle: | AD4: {=MOD(INDEX($E$3:$E$12,AC2)+AF3,360)} -> 127 | AE4: Distance: | AF4: =VLOOKUP(AC2,$A$3:$F$12,6) -> 0.4 | AI4: Element: | AJ4: Angle: | AK4: {=MOD(INDEX($E$3:$E$12,AJ2)+AM3,360)} -> 67 | AL4: Distance: | AM4: =VLOOKUP(AJ2,$A$3:$F$12,6) -> 0.4 | AP4: Element: | AQ4: Angle: | AR4: {=MOD(INDEX($E$3:$E$12,AQ2)+AT3,360)} -> 7 | AS4: Distance: | AT4: =VLOOKUP(AQ2,$A$3:$F$12,6) -> 0.4 | AW4: Element: | AX4: Angle: | AY4: {=MOD(INDEX($E$3:$E$12,AX2)+BA3,360)} -> 307 | AZ4: Distance: | BA4: =VLOOKUP(AX2,$A$3:$F$12,6) -> 0.4 | BD4: Element: | BE4: Angle: | BF4: {=MOD(INDEX($E$3:$E$12,BE2)+BH3,360)} -> #VALUE! | BG4: Distance: | BH4: =VLOOKUP(BE2,$A$3:$F$12,6) -> #N/A | BK4: Element: | BL4: Angle: | BM4: {=MOD(INDEX($E$3:$E$12,BL2)+BO3,360)} -> #VALUE! | BN4: Distance: | BO4: =VLOOKUP(BL2,$A$3:$F$12,6) -> #N/A | BR4: Element: | BS4: Angle: | BT4: {=MOD(INDEX($E$3:$E$12,BS2)+BV3,360)} -> #VALUE! | BU4: Distance: | BV4: =VLOOKUP(BS2,$A$3:$F$12,6) -> #N/A | BY4: Element: | BZ4: Angle: | CA4: {=MOD(INDEX($E$3:$E$12,BZ2)+CC3,360)} -> #VALUE! | CB4: Distance: | CC4: =VLOOKUP(BZ2,$A$3:$F$12,6) -> #N/A | CF4: Element: | CG4: Angle: | CH4: {=MOD(INDEX($E$3:$E$12,CG2)+CJ3,360)} -> #VALUE! | CI4: Distance: | CJ4: =VLOOKUP(CG2,$A$3:$F$12,6) -> #N/A | CM4: Element: | CN4: Angle: | CO4: {=MOD(INDEX($E$3:$E$12,CN2)+CQ3,360)} -> #VALUE! | CP4: Distance: | CQ4: =VLOOKUP(CN2,$A$3:$F$12,6) -> #N/A | CT4: Element: | CU4: Angle: | CV4: {=MOD(INDEX($E$3:$E$12,CU2)+CX3,360)} -> #VALUE! | CW4: Distance: | CX4: =VLOOKUP(CU2,$A$3:$F$12,6) -> #N/A | DA4: Element: | DB4: Angle: | DC4: {=MOD(INDEX($E$3:$E$12,DB2)+DE3,360)} -> #VALUE! | DD4: Distance: | DE4: =VLOOKUP(DB2,$A$3:$F$12,6) -> #N/A | DH4: Element: | DI4: Angle: | DJ4: {=MOD(INDEX($E$3:$E$12,DI2)+DL3,360)} -> #VALUE! | DK4: Distance: | DL4: =VLOOKUP(DI2,$A$3:$F$12,6) -> #N/A | DO4: Element: | DP4: Angle: | DQ4: {=MOD(INDEX($E$3:$E$12,DP2)+DS3,360)} -> #VALUE! | DR4: Distance: | DS4: =VLOOKUP(DP2,$A$3:$F$12,6) -> #N/A | DV4: Element: | DW4: Angle: | DX4: {=MOD(INDEX($E$3:$E$12,DW2)+DZ3,360)} -> #VALUE! | DY4: Distance: | DZ4: =VLOOKUP(DW2,$A$3:$F$12,6) -> #N/A | EC4: Element: | ED4: Angle: | EE4: {=MOD(INDEX($E$3:$E$12,ED2)+EG3,360)} -> #VALUE! | EF4: Distance: | EG4: =VLOOKUP(ED2,$A$3:$F$12,6) -> #N/A | EJ4: Element: | EK4: Angle: | EL4: {=MOD(INDEX($E$3:$E$12,EK2)+EN3,360)} -> #VALUE! | EM4: Distance: | EN4: =VLOOKUP(EK2,$A$3:$F$12,6) -> #N/A | EQ4: Element: | ER4: Angle: | ES4: {=MOD(INDEX($E$3:$E$12,ER2)+EU3,360)} -> #VALUE! | ET4: Distance: | EU4: =VLOOKUP(ER2,$A$3:$F$12,6) -> #N/A | EX4: Element: | EY4: Angle: | EZ4: {=MOD(INDEX($E$3:$E$12,EY2)+FB3,360)} -> #VALUE! | FA4: Distance: | FB4: =VLOOKUP(EY2,$A$3:$F$12,6) -> #N/A | FE4: Element: | FF4: Angle: | FG4: {=MOD(INDEX($E$3:$E$12,FF2)+FI3,360)} -> #VALUE! | FH4: Distance: | FI4: =VLOOKUP(FF2,$A$3:$F$12,6) -> #N/A | FL4: Element: | FM4: Angle: | FN4: {=MOD(INDEX($E$3:$E$12,FM2)+FP3,360)} -> #VALUE! | FO4: Distance: | FP4: =VLOOKUP(FM2,$A$3:$F$12,6) -> #N/A | FS4: Element: | FT4: Angle: | FU4: {=MOD(INDEX($E$3:$E$12,FT2)+FW3,360)} -> #VALUE! | FV4: Distance: | FW4: =VLOOKUP(FT2,$A$3:$F$12,6) -> #N/A
A5: 3 | B5: =D20 -> 0.27081676 | C5: =E20 -> -0.35938598 | D5: =F20 -> 4 | E5: =B20 -> 307 | F5: =C20 -> 0.45 | H5: Center Pt: | I5: X - Axis: | J5: =L4*COS(J4*PI()/180) -> 0 | K5: Y - Axis: | L5: =L4*SIN(J4*PI()/180) -> 0 | N5: Center Pt: | O5: X - Axis: | P5: =R4*COS(P4*PI()/180) -> -0.15629245 | Q5: Y - Axis: | R5: =R4*SIN(P4*PI()/180) -> -0.36820194 | U5: Center Pt: | V5: X - Axis: | W5: =Y4*COS(W4*PI()/180) -> -0.39701846 | X5: Y - Axis: | Y5: =Y4*SIN(W4*PI()/180) -> -0.048747737 | AB5: Center Pt: | AC5: X - Axis: | AD5: =AF4*COS(AD4*PI()/180) -> -0.24072601 | AE5: Y - Axis: | AF5: =AF4*SIN(AD4*PI()/180) -> 0.3194542 | AI5: Center Pt: | AJ5: X - Axis: | AK5: =AM4*COS(AK4*PI()/180) -> 0.15629245 | AL5: Y - Axis: | AM5: =AM4*SIN(AK4*PI()/180) -> 0.36820194 | AP5: Center Pt: | AQ5: X - Axis: | AR5: =AT4*COS(AR4*PI()/180) -> 0.39701846 | AS5: Y - Axis: | AT5: =AT4*SIN(AR4*PI()/180) -> 0.048747737 | AW5: Center Pt: | AX5: X - Axis: | AY5: =BA4*COS(AY4*PI()/180) -> 0.24072601 | AZ5: Y - Axis: | BA5: =BA4*SIN(AY4*PI()/180) -> -0.3194542 | BD5: Center Pt: | BE5: X - Axis: | BF5: =BH4*COS(BF4*PI()/180) -> #N/A | BG5: Y - Axis: | BH5: =BH4*SIN(BF4*PI()/180) -> #N/A | BK5: Center Pt: | BL5: X - Axis: | BM5: =BO4*COS(BM4*PI()/180) -> #N/A | BN5: Y - Axis: | BO5: =BO4*SIN(BM4*PI()/180) -> #N/A | BR5: Center Pt: | BS5: X - Axis: | BT5: =BV4*COS(BT4*PI()/180) -> #N/A | BU5: Y - Axis: | BV5: =BV4*SIN(BT4*PI()/180) -> #N/A | BY5: Center Pt: | BZ5: X - Axis: | CA5: =CC4*COS(CA4*PI()/180) -> #N/A | CB5: Y - Axis: | CC5: =CC4*SIN(CA4*PI()/180) -> #N/A | CF5: Center Pt: | CG5: X - Axis: | CH5: =CJ4*COS(CH4*PI()/180) -> #N/A | CI5: Y - Axis: | CJ5: =CJ4*SIN(CH4*PI()/180) -> #N/A | CM5: Center Pt: | CN5: X - Axis: | CO5: =CQ4*COS(CO4*PI()/180) -> #N/A | CP5: Y - Axis: | CQ5: =CQ4*SIN(CO4*PI()/180) -> #N/A | CT5: Center Pt: | CU5: X - Axis: | CV5: =CX4*COS(CV4*PI()/180) -> #N/A | CW5: Y - Axis: | CX5: =CX4*SIN(CV4*PI()/180) -> #N/A | DA5: Center Pt: | DB5: X - Axis: | DC5: =DE4*COS(DC4*PI()/180) -> #N/A | DD5: Y - Axis: | DE5: =DE4*SIN(DC4*PI()/180) -> #N/A | DH5: Center Pt: | DI5: X - Axis: | DJ5: =DL4*COS(DJ4*PI()/180) -> #N/A | DK5: Y - Axis: | DL5: =DL4*SIN(DJ4*PI()/180) -> #N/A | DO5: Center Pt: | DP5: X - Axis: | DQ5: =DS4*COS(DQ4*PI()/180) -> #N/A | DR5: Y - Axis: | DS5: =DS4*SIN(DQ4*PI()/180) -> #N/A | DV5: Center Pt: | DW5: X - Axis: | DX5: =DZ4*COS(DX4*PI()/180) -> #N/A | DY5: Y - Axis: | DZ5: =DZ4*SIN(DX4*PI()/180) -> #N/A | EC5: Center Pt: | ED5: X - Axis: | EE5: =EG4*COS(EE4*PI()/180) -> #N/A | EF5: Y - Axis: | EG5: =EG4*SIN(EE4*PI()/180) -> #N/A | EJ5: Center Pt: | EK5: X - Axis: | EL5: =EN4*COS(EL4*PI()/180) -> #N/A | EM5: Y - Axis: | EN5: =EN4*SIN(EL4*PI()/180) -> #N/A | EQ5: Center Pt: | ER5: X - Axis: | ES5: =EU4*COS(ES4*PI()/180) -> #N/A | ET5: Y - Axis: | EU5: =EU4*SIN(ES4*PI()/180) -> #N/A | EX5: Center Pt: | EY5: X - Axis: | EZ5: =FB4*COS(EZ4*PI()/180) -> #N/A | FA5: Y - Axis: | FB5: =FB4*SIN(EZ4*PI()/180) -> #N/A | FE5: Center Pt: | FF5: X - Axis: | FG5: =FI4*COS(FG4*PI()/180) -> #N/A | FH5: Y - Axis: | FI5: =FI4*SIN(FG4*PI()/180) -> #N/A | FL5: Center Pt: | FM5: X - Axis: | FN5: =FP4*COS(FN4*PI()/180) -> #N/A | FO5: Y - Axis: | FP5: =FP4*SIN(FN4*PI()/180) -> #N/A | FS5: Center Pt: | FT5: X - Axis: | FU5: =FW4*COS(FU4*PI()/180) -> #N/A | FV5: Y - Axis: | FW5: =FW4*SIN(FU4*PI()/180) -> #N/A
A6: 4 | B6: =D21 -> 0.5 | C6: =E21 -> 0 | D6: =F21 -> 1 | E6: =B21 -> 0 | F6: =C21 -> 0.5 | H6: Radius: | I6: ='Pattern Entry'!$E$5 -> 1.5 | N6: Radius: | O6: {=INDEX('Pattern Entry'!$E$9:$E$32,O1)} -> 0.75 | U6: Radius: | V6: {=INDEX('Pattern Entry'!$E$9:$E$32,V1)} -> 0.75 | AB6: Radius: | AC6: {=INDEX('Pattern Entry'!$E$9:$E$32,AC1)} -> 0.75 | AI6: Radius: | AJ6: {=INDEX('Pattern Entry'!$E$9:$E$32,AJ1)} -> 0.75 | AP6: Radius: | AQ6: {=INDEX('Pattern Entry'!$E$9:$E$32,AQ1)} -> 0.75 | AW6: Radius: | AX6: {=INDEX('Pattern Entry'!$E$9:$E$32,AX1)} -> 0.75 | BD6: Radius: | BE6: {=INDEX('Pattern Entry'!$E$9:$E$32,BE1)} -> 0 | BK6: Radius: | BL6: {=INDEX('Pattern Entry'!$E$9:$E$32,BL1)} -> 0 | BR6: Radius: | BS6: {=INDEX('Pattern Entry'!$E$9:$E$32,BS1)} -> 0 | BY6: Radius: | BZ6: {=INDEX('Pattern Entry'!$E$9:$E$32,BZ1)} -> 0 | CF6: Radius: | CG6: {=INDEX('Pattern Entry'!$E$9:$E$32,CG1)} -> 0 | CM6: Radius: | CN6: {=INDEX('Pattern Entry'!$E$9:$E$32,CN1)} -> 0 | CT6: Radius: | CU6: {=INDEX('Pattern Entry'!$E$9:$E$32,CU1)} -> 0 | DA6: Radius: | DB6: {=INDEX('Pattern Entry'!$E$9:$E$32,DB1)} -> 0 | DH6: Radius: | DI6: {=INDEX('Pattern Entry'!$E$9:$E$32,DI1)} -> 0 | DO6: Radius: | DP6: {=INDEX('Pattern Entry'!$E$9:$E$32,DP1)} -> 0 | DV6: Radius: | DW6: {=INDEX('Pattern Entry'!$E$9:$E$32,DW1)} -> 0 | EC6: Radius: | ED6: {=INDEX('Pattern Entry'!$E$9:$E$32,ED1)} -> 0 | EJ6: Radius: | EK6: {=INDEX('Pattern Entry'!$E$9:$E$32,EK1)} -> 0 | EQ6: Radius: | ER6: {=INDEX('Pattern Entry'!$E$9:$E$32,ER1)} -> 0 | EX6: Radius: | EY6: {=INDEX('Pattern Entry'!$E$9:$E$32,EY1)} -> 0 | FE6: Radius: | FF6: {=INDEX('Pattern Entry'!$E$9:$E$32,FF1)} -> 0 | FL6: Radius: | FM6: {=INDEX('Pattern Entry'!$E$9:$E$32,FM1)} -> 0 | FS6: Radius: | FT6: {=INDEX('Pattern Entry'!$E$9:$E$32,FT1)} -> 0
A7: 5 | B7: =D22 -> 0.3750991 | C7: =E22 -> 0.40224454 | D7: =F22 -> 1 | E7: =B22 -> 47 | F7: =C22 -> 0.55 | H7: Points In The Circle | N7: Points In The Circle | R7: Plot Data For Graph | U7: Points In The Circle | Y7: Plot Data For Graph | AB7: Points In The Circle | AF7: Plot Data For Graph | AI7: Points In The Circle | AM7: Plot Data For Graph | AP7: Points In The Circle | AT7: Plot Data For Graph | AW7: Points In The Circle | BA7: Plot Data For Graph | BD7: Points In The Circle | BH7: Plot Data For Graph | BK7: Points In The Circle | BO7: Plot Data For Graph | BR7: Points In The Circle | BV7: Plot Data For Graph | BY7: Points In The Circle | CC7: Plot Data For Graph | CF7: Points In The Circle | CJ7: Plot Data For Graph | CM7: Points In The Circle | CQ7: Plot Data For Graph | CT7: Points In The Circle | CX7: Plot Data For Graph | DA7: Points In The Circle | DE7: Plot Data For Graph | DH7: Points In The Circle | DL7: Plot Data For Graph | DO7: Points In The Circle | DS7: Plot Data For Graph | DV7: Points In The Circle | DZ7: Plot Data For Graph | EC7: Points In The Circle | EG7: Plot Data For Graph | EJ7: Points In The Circle | EN7: Plot Data For Graph | EQ7: Points In The Circle | EU7: Plot Data For Graph | EX7: Points In The Circle | FB7: Plot Data For Graph | FE7: Points In The Circle | FI7: Plot Data For Graph | FL7: Points In The Circle | FP7: Plot Data For Graph | FS7: Points In The Circle | FW7: Plot Data For Graph
A8: 6 | B8: =D23 -> 3.6739404e-17 | C8: =E23 -> 0.6 | D8: =F23 -> 2 | E8: =B23 -> 90 | F8: =C23 -> 0.6 | H8: Angle | I8: X-Axis | J8: Y-Axis | N8: Angle | O8: X-Axis | P8: Y-Axis | Q8: Plot? | R8: X-Axis | S8: Y-Axis | U8: Angle | V8: X-Axis | W8: Y-Axis | X8: Plot? | Y8: X-Axis | Z8: Y-Axis | AB8: Angle | AC8: X-Axis | AD8: Y-Axis | AE8: Plot? | AF8: X-Axis | AG8: Y-Axis | AI8: Angle | AJ8: X-Axis | AK8: Y-Axis | AL8: Plot? | AM8: X-Axis | AN8: Y-Axis | AP8: Angle | AQ8: X-Axis | AR8: Y-Axis | AS8: Plot? | AT8: X-Axis | AU8: Y-Axis | AW8: Angle | AX8: X-Axis | AY8: Y-Axis | AZ8: Plot? | BA8: X-Axis | BB8: Y-Axis | BD8: Angle | BE8: X-Axis | BF8: Y-Axis | BG8: Plot? | BH8: X-Axis | BI8: Y-Axis | BK8: Angle | BL8: X-Axis | BM8: Y-Axis | BN8: Plot? | BO8: X-Axis | BP8: Y-Axis | BR8: Angle | BS8: X-Axis | BT8: Y-Axis | BU8: Plot? | BV8: X-Axis | BW8: Y-Axis | BY8: Angle | BZ8: X-Axis | CA8: Y-Axis | CB8: Plot? | CC8: X-Axis | CD8: Y-Axis | CF8: Angle | CG8: X-Axis | CH8: Y-Axis | CI8: Plot? | CJ8: X-Axis | CK8: Y-Axis | CM8: Angle | CN8: X-Axis | CO8: Y-Axis | CP8: Plot? | CQ8: X-Axis | CR8: Y-Axis | CT8: Angle | CU8: X-Axis | CV8: Y-Axis | CW8: Plot? | CX8: X-Axis | CY8: Y-Axis | DA8: Angle | DB8: X-Axis | DC8: Y-Axis | DD8: Plot? | DE8: X-Axis | DF8: Y-Axis | DH8: Angle | DI8: X-Axis | DJ8: Y-Axis | DK8: Plot? | DL8: X-Axis | DM8: Y-Axis | DO8: Angle | DP8: X-Axis | DQ8: Y-Axis | DR8: Plot? | DS8: X-Axis | DT8: Y-Axis | DV8: Angle | DW8: X-Axis | DX8: Y-Axis | DY8: Plot? | DZ8: X-Axis | EA8: Y-Axis | EC8: Angle | ED8: X-Axis | EE8: Y-Axis | EF8: Plot? | EG8: X-Axis | EH8: Y-Axis | EJ8: Angle | EK8: X-Axis | EL8: Y-Axis | EM8: Plot? | EN8: X-Axis | EO8: Y-Axis | EQ8: Angle | ER8: X-Axis | ES8: Y-Axis | ET8: Plot? | EU8: X-Axis | EV8: Y-Axis | EX8: Angle | EY8: X-Axis | EZ8: Y-Axis | FA8: Plot? | FB8: X-Axis | FC8: Y-Axis | FE8: Angle | FF8: X-Axis | FG8: Y-Axis | FH8: Plot? | FI8: X-Axis | FJ8: Y-Axis | FL8: Angle | FM8: X-Axis | FN8: Y-Axis | FO8: Plot? | FP8: X-Axis | FQ8: Y-Axis | FS8: Angle | FT8: X-Axis | FU8: Y-Axis | FV8: Plot? | FW8: X-Axis | FX8: Y-Axis
A9: 7 | B9: =D24 -> -0.41781195 | C9: =E24 -> 0.49792889 | D9: =F24 -> 2 | E9: =B24 -> 130 | F9: =C24 -> 0.65 | H9: 0 | I9: =$I$6*COS(H9*PI()/180)+$J$5 -> 1.5 | J9: =$I$6*SIN(H9*PI()/180)+$L$5 -> 0 | N9: 0 | O9: =O$6*COS(N9*PI()/180)+P$5 -> 0.59370755 | P9: =O$6*SIN(N9*PI()/180)+R$5 -> -0.36820194 | Q9: =IF(SQRT((O9-$J$5)^2+(P9-$L$5)^2)<$I$6,1,0) -> 1 | R9: =O9*Q9 -> 0.59370755 | S9: =P9*Q9 -> -0.36820194 | U9: 0 | V9: =V$6*COS(U9*PI()/180)+W$5 -> 0.35298154 | W9: =V$6*SIN(U9*PI()/180)+Y$5 -> -0.048747737 | X9: =IF(SQRT((V9-$J$5)^2+(W9-$L$5)^2)<$I$6,1,0) -> 1 | Y9: =V9*X9 -> 0.35298154 | Z9: =W9*X9 -> -0.048747737 | AB9: 0 | AC9: =AC$6*COS(AB9*PI()/180)+AD$5 -> 0.50927399 | AD9: =AC$6*SIN(AB9*PI()/180)+AF$5 -> 0.3194542 | AE9: =IF(SQRT((AC9-$J$5)^2+(AD9-$L$5)^2)<$I$6,1,0) -> 1 | AF9: =AC9*AE9 -> 0.50927399 | AG9: =AD9*AE9 -> 0.3194542 | AI9: 0 | AJ9: =AJ$6*COS(AI9*PI()/180)+AK$5 -> 0.90629245 | AK9: =AJ$6*SIN(AI9*PI()/180)+AM$5 -> 0.36820194 | AL9: =IF(SQRT((AJ9-$J$5)^2+(AK9-$L$5)^2)<$I$6,1,0) -> 1 | AM9: =AJ9*AL9 -> 0.90629245 | AN9: =AK9*AL9 -> 0.36820194 | AP9: 0 | AQ9: =AQ$6*COS(AP9*PI()/180)+AR$5 -> 1.1470185 | AR9: =AQ$6*SIN(AP9*PI()/180)+AT$5 -> 0.048747737 | AS9: =IF(SQRT((AQ9-$J$5)^2+(AR9-$L$5)^2)<$I$6,1,0) -> 1 | AT9: =AQ9*AS9 -> 1.1470185 | AU9: =AR9*AS9 -> 0.048747737 | AW9: 0 | AX9: =AX$6*COS(AW9*PI()/180)+AY$5 -> 0.99072601 | AY9: =AX$6*SIN(AW9*PI()/180)+BA$5 -> -0.3194542 | AZ9: =IF(SQRT((AX9-$J$5)^2+(AY9-$L$5)^2)<$I$6,1,0) -> 1 | BA9: =AX9*AZ9 -> 0.99072601 | BB9: =AY9*AZ9 -> -0.3194542 | BD9: 0 | BE9: =BE$6*COS(BD9*PI()/180)+BF$5 -> #N/A | BF9: =BE$6*SIN(BD9*PI()/180)+BH$5 -> #N/A | BG9: =IF(SQRT((BE9-$J$5)^2+(BF9-$L$5)^2)<$I$6,1,0) -> #N/A | BH9: =BE9*BG9 -> #N/A | BI9: =BF9*BG9 -> #N/A | BK9: 0 | BL9: =BL$6*COS(BK9*PI()/180)+BM$5 -> #N/A | BM9: =BL$6*SIN(BK9*PI()/180)+BO$5 -> #N/A | BN9: =IF(SQRT((BL9-$J$5)^2+(BM9-$L$5)^2)<$I$6,1,0) -> #N/A | BO9: =BL9*BN9 -> #N/A | BP9: =BM9*BN9 -> #N/A | BR9: 0 | BS9: =BS$6*COS(BR9*PI()/180)+BT$5 -> #N/A | BT9: =BS$6*SIN(BR9*PI()/180)+BV$5 -> #N/A | BU9: =IF(SQRT((BS9-$J$5)^2+(BT9-$L$5)^2)<$I$6,1,0) -> #N/A | BV9: =BS9*BU9 -> #N/A | BW9: =BT9*BU9 -> #N/A | BY9: 0 | BZ9: =BZ$6*COS(BY9*PI()/180)+CA$5 -> #N/A | CA9: =BZ$6*SIN(BY9*PI()/180)+CC$5 -> #N/A | CB9: =IF(SQRT((BZ9-$J$5)^2+(CA9-$L$5)^2)<$I$6,1,0) -> #N/A | CC9: =BZ9*CB9 -> #N/A | CD9: =CA9*CB9 -> #N/A | CF9: 0 | CG9: =CG$6*COS(CF9*PI()/180)+CH$5 -> #N/A | CH9: =CG$6*SIN(CF9*PI()/180)+CJ$5 -> #N/A | CI9: =IF(SQRT((CG9-$J$5)^2+(CH9-$L$5)^2)<$I$6,1,0) -> #N/A | CJ9: =CG9*CI9 -> #N/A | CK9: =CH9*CI9 -> #N/A | CM9: 0 | CN9: =CN$6*COS(CM9*PI()/180)+CO$5 -> #N/A | CO9: =CN$6*SIN(CM9*PI()/180)+CQ$5 -> #N/A | CP9: =IF(SQRT((CN9-$J$5)^2+(CO9-$L$5)^2)<$I$6,1,0) -> #N/A | CQ9: =CN9*CP9 -> #N/A | CR9: =CO9*CP9 -> #N/A | CT9: 0 | CU9: =CU$6*COS(CT9*PI()/180)+CV$5 -> #N/A | CV9: =CU$6*SIN(CT9*PI()/180)+CX$5 -> #N/A | CW9: =IF(SQRT((CU9-$J$5)^2+(CV9-$L$5)^2)<$I$6,1,0) -> #N/A | CX9: =CU9*CW9 -> #N/A | CY9: =CV9*CW9 -> #N/A | DA9: 0 | DB9: =DB$6*COS(DA9*PI()/180)+DC$5 -> #N/A | DC9: =DB$6*SIN(DA9*PI()/180)+DE$5 -> #N/A | DD9: =IF(SQRT((DB9-$J$5)^2+(DC9-$L$5)^2)<$I$6,1,0) -> #N/A | DE9: =DB9*DD9 -> #N/A | DF9: =DC9*DD9 -> #N/A | DH9: 0 | DI9: =DI$6*COS(DH9*PI()/180)+DJ$5 -> #N/A | DJ9: =DI$6*SIN(DH9*PI()/180)+DL$5 -> #N/A | DK9: =IF(SQRT((DI9-$J$5)^2+(DJ9-$L$5)^2)<$I$6,1,0) -> #N/A | DL9: =DI9*DK9 -> #N/A | DM9: =DJ9*DK9 -> #N/A | DO9: 0 | DP9: =DP$6*COS(DO9*PI()/180)+DQ$5 -> #N/A | DQ9: =DP$6*SIN(DO9*PI()/180)+DS$5 -> #N/A | DR9: =IF(SQRT((DP9-$J$5)^2+(DQ9-$L$5)^2)<$I$6,1,0) -> #N/A | DS9: =DP9*DR9 -> #N/A | DT9: =DQ9*DR9 -> #N/A | DV9: 0 | DW9: =DW$6*COS(DV9*PI()/180)+DX$5 -> #N/A | DX9: =DW$6*SIN(DV9*PI()/180)+DZ$5 -> #N/A | DY9: =IF(SQRT((DW9-$J$5)^2+(DX9-$L$5)^2)<$I$6,1,0) -> #N/A | DZ9: =DW9*DY9 -> #N/A | EA9: =DX9*DY9 -> #N/A | EC9: 0 | ED9: =ED$6*COS(EC9*PI()/180)+EE$5 -> #N/A | EE9: =ED$6*SIN(EC9*PI()/180)+EG$5 -> #N/A | EF9: =IF(SQRT((ED9-$J$5)^2+(EE9-$L$5)^2)<$I$6,1,0) -> #N/A | EG9: =ED9*EF9 -> #N/A | EH9: =EE9*EF9 -> #N/A | EJ9: 0 | EK9: =EK$6*COS(EJ9*PI()/180)+EL$5 -> #N/A | EL9: =EK$6*SIN(EJ9*PI()/180)+EN$5 -> #N/A | EM9: =IF(SQRT((EK9-$J$5)^2+(EL9-$L$5)^2)<$I$6,1,0) -> #N/A | EN9: =EK9*EM9 -> #N/A | EO9: =EL9*EM9 -> #N/A | EQ9: 0 | ER9: =ER$6*COS(EQ9*PI()/180)+ES$5 -> #N/A | ES9: =ER$6*SIN(EQ9*PI()/180)+EU$5 -> #N/A | ET9: =IF(SQRT((ER9-$J$5)^2+(ES9-$L$5)^2)<$I$6,1,0) -> #N/A | EU9: =ER9*ET9 -> #N/A | EV9: =ES9*ET9 -> #N/A | EX9: 0 | EY9: =EY$6*COS(EX9*PI()/180)+EZ$5 -> #N/A | EZ9: =EY$6*SIN(EX9*PI()/180)+FB$5 -> #N/A | FA9: =IF(SQRT((EY9-$J$5)^2+(EZ9-$L$5)^2)<$I$6,1,0) -> #N/A | FB9: =EY9*FA9 -> #N/A | FC9: =EZ9*FA9 -> #N/A | FE9: 0 | FF9: =FF$6*COS(FE9*PI()/180)+FG$5 -> #N/A | FG9: =FF$6*SIN(FE9*PI()/180)+FI$5 -> #N/A | FH9: =IF(SQRT((FF9-$J$5)^2+(FG9-$L$5)^2)<$I$6,1,0) -> #N/A | FI9: =FF9*FH9 -> #N/A | FJ9: =FG9*FH9 -> #N/A | FL9: 0 | FM9: =FM$6*COS(FL9*PI()/180)+FN$5 -> #N/A | FN9: =FM$6*SIN(FL9*PI()/180)+FP$5 -> #N/A | FO9: =IF(SQRT((FM9-$J$5)^2+(FN9-$L$5)^2)<$I$6,1,0) -> #N/A | FP9: =FM9*FO9 -> #N/A | FQ9: =FN9*FO9 -> #N/A | FS9: 0 | FT9: =FT$6*COS(FS9*PI()/180)+FU$5 -> #N/A | FU9: =FT$6*SIN(FS9*PI()/180)+FW$5 -> #N/A | FV9: =IF(SQRT((FT9-$J$5)^2+(FU9-$L$5)^2)<$I$6,1,0) -> #N/A | FW9: =FT9*FV9 -> #N/A | FX9: =FU9*FV9 -> #N/A
A10: 8 | B10: =D25 -> -0.67920701 | C10: =E25 -> 0.16934533 | D10: =F25 -> 2 | E10: =B25 -> 166 | F10: =C25 -> 0.7 | H10: 1 | I10: =$I$6*COS(H10*PI()/180)+$J$5 -> 1.4997715 | J10: =$I$6*SIN(H10*PI()/180)+$L$5 -> 0.02617861 | N10: 1 | O10: =$O$6*COS($N10*PI()/180)+$P$5 -> 0.59359332 | P10: =$O$6*SIN($N10*PI()/180)+$R$5 -> -0.35511264 | Q10: =IF(SQRT((O10-$J$5)^2+(P10-$L$5)^2)<$I$6,1,0) -> 1 | R10: =O10*Q10 -> 0.59359332 | S10: =P10*Q10 -> -0.35511264 | U10: 1 | V10: =V$6*COS(U10*PI()/180)+W$5 -> 0.35286731 | W10: =V$6*SIN(U10*PI()/180)+Y$5 -> -0.035658433 | X10: =IF(SQRT((V10-$J$5)^2+(W10-$L$5)^2)<$I$6,1,0) -> 1 | Y10: =V10*X10 -> 0.35286731 | Z10: =W10*X10 -> -0.035658433 | AB10: 1 | AC10: =AC$6*COS(AB10*PI()/180)+AD$5 -> 0.50915976 | AD10: =AC$6*SIN(AB10*PI()/180)+AF$5 -> 0.33254351 | AE10: =IF(SQRT((AC10-$J$5)^2+(AD10-$L$5)^2)<$I$6,1,0) -> 1 | AF10: =AC10*AE10 -> 0.50915976 | AG10: =AD10*AE10 -> 0.33254351 | AI10: 1 | AJ10: =AJ$6*COS(AI10*PI()/180)+AK$5 -> 0.90617822 | AK10: =AJ$6*SIN(AI10*PI()/180)+AM$5 -> 0.38129125 | AL10: =IF(SQRT((AJ10-$J$5)^2+(AK10-$L$5)^2)<$I$6,1,0) -> 1 | AM10: =AJ10*AL10 -> 0.90617822 | AN10: =AK10*AL10 -> 0.38129125 | AP10: 1 | AQ10: =AQ$6*COS(AP10*PI()/180)+AR$5 -> 1.1469042 | AR10: =AQ$6*SIN(AP10*PI()/180)+AT$5 -> 0.061837042 | AS10: =IF(SQRT((AQ10-$J$5)^2+(AR10-$L$5)^2)<$I$6,1,0) -> 1 | AT10: =AQ10*AS10 -> 1.1469042 | AU10: =AR10*AS10 -> 0.061837042 | AW10: 1 | AX10: =AX$6*COS(AW10*PI()/180)+AY$5 -> 0.99061178 | AY10: =AX$6*SIN(AW10*PI()/180)+BA$5 -> -0.3063649 | AZ10: =IF(SQRT((AX10-$J$5)^2+(AY10-$L$5)^2)<$I$6,1,0) -> 1 | BA10: =AX10*AZ10 -> 0.99061178 | BB10: =AY10*AZ10 -> -0.3063649 | BD10: 1 | BE10: =BE$6*COS(BD10*PI()/180)+BF$5 -> #N/A | BF10: =BE$6*SIN(BD10*PI()/180)+BH$5 -> #N/A | BG10: =IF(SQRT((BE10-$J$5)^2+(BF10-$L$5)^2)<$I$6,1,0) -> #N/A | BH10: =BE10*BG10 -> #N/A | BI10: =BF10*BG10 -> #N/A | BK10: 1 | BL10: =BL$6*COS(BK10*PI()/180)+BM$5 -> #N/A | BM10: =BL$6*SIN(BK10*PI()/180)+BO$5 -> #N/A | BN10: =IF(SQRT((BL10-$J$5)^2+(BM10-$L$5)^2)<$I$6,1,0) -> #N/A | BO10: =BL10*BN10 -> #N/A | BP10: =BM10*BN10 -> #N/A | BR10: 1 | BS10: =BS$6*COS(BR10*PI()/180)+BT$5 -> #N/A | BT10: =BS$6*SIN(BR10*PI()/180)+BV$5 -> #N/A | BU10: =IF(SQRT((BS10-$J$5)^2+(BT10-$L$5)^2)<$I$6,1,0) -> #N/A | BV10: =BS10*BU10 -> #N/A | BW10: =BT10*BU10 -> #N/A | BY10: 1 | BZ10: =BZ$6*COS(BY10*PI()/180)+CA$5 -> #N/A | CA10: =BZ$6*SIN(BY10*PI()/180)+CC$5 -> #N/A | CB10: =IF(SQRT((BZ10-$J$5)^2+(CA10-$L$5)^2)<$I$6,1,0) -> #N/A | CC10: =BZ10*CB10 -> #N/A | CD10: =CA10*CB10 -> #N/A | CF10: 1 | CG10: =CG$6*COS(CF10*PI()/180)+CH$5 -> #N/A | CH10: =CG$6*SIN(CF10*PI()/180)+CJ$5 -> #N/A | CI10: =IF(SQRT((CG10-$J$5)^2+(CH10-$L$5)^2)<$I$6,1,0) -> #N/A | CJ10: =CG10*CI10 -> #N/A | CK10: =CH10*CI10 -> #N/A | CM10: 1 | CN10: =CN$6*COS(CM10*PI()/180)+CO$5 -> #N/A | CO10: =CN$6*SIN(CM10*PI()/180)+CQ$5 -> #N/A | CP10: =IF(SQRT((CN10-$J$5)^2+(CO10-$L$5)^2)<$I$6,1,0) -> #N/A | CQ10: =CN10*CP10 -> #N/A | CR10: =CO10*CP10 -> #N/A | CT10: 1 | CU10: =CU$6*COS(CT10*PI()/180)+CV$5 -> #N/A | CV10: =CU$6*SIN(CT10*PI()/180)+CX$5 -> #N/A | CW10: =IF(SQRT((CU10-$J$5)^2+(CV10-$L$5)^2)<$I$6,1,0) -> #N/A | CX10: =CU10*CW10 -> #N/A | CY10: =CV10*CW10 -> #N/A | DA10: 1 | DB10: =DB$6*COS(DA10*PI()/180)+DC$5 -> #N/A | DC10: =DB$6*SIN(DA10*PI()/180)+DE$5 -> #N/A | DD10: =IF(SQRT((DB10-$J$5)^2+(DC10-$L$5)^2)<$I$6,1,0) -> #N/A | DE10: =DB10*DD10 -> #N/A | DF10: =DC10*DD10 -> #N/A | DH10: 1 | DI10: =DI$6*COS(DH10*PI()/180)+DJ$5 -> #N/A | DJ10: =DI$6*SIN(DH10*PI()/180)+DL$5 -> #N/A | DK10: =IF(SQRT((DI10-$J$5)^2+(DJ10-$L$5)^2)<$I$6,1,0) -> #N/A | DL10: =DI10*DK10 -> #N/A | DM10: =DJ10*DK10 -> #N/A | DO10: 1 | DP10: =DP$6*COS(DO10*PI()/180)+DQ$5 -> #N/A | DQ10: =DP$6*SIN(DO10*PI()/180)+DS$5 -> #N/A | DR10: =IF(SQRT((DP10-$J$5)^2+(DQ10-$L$5)^2)<$I$6,1,0) -> #N/A | DS10: =DP10*DR10 -> #N/A | DT10: =DQ10*DR10 -> #N/A | DV10: 1 | DW10: =DW$6*COS(DV10*PI()/180)+DX$5 -> #N/A | DX10: =DW$6*SIN(DV10*PI()/180)+DZ$5 -> #N/A | DY10: =IF(SQRT((DW10-$J$5)^2+(DX10-$L$5)^2)<$I$6,1,0) -> #N/A | DZ10: =DW10*DY10 -> #N/A | EA10: =DX10*DY10 -> #N/A | EC10: 1 | ED10: =ED$6*COS(EC10*PI()/180)+EE$5 -> #N/A | EE10: =ED$6*SIN(EC10*PI()/180)+EG$5 -> #N/A | EF10: =IF(SQRT((ED10-$J$5)^2+(EE10-$L$5)^2)<$I$6,1,0) -> #N/A | EG10: =ED10*EF10 -> #N/A | EH10: =EE10*EF10 -> #N/A | EJ10: 1 | EK10: =EK$6*COS(EJ10*PI()/180)+EL$5 -> #N/A | EL10: =EK$6*SIN(EJ10*PI()/180)+EN$5 -> #N/A | EM10: =IF(SQRT((EK10-$J$5)^2+(EL10-$L$5)^2)<$I$6,1,0) -> #N/A | EN10: =EK10*EM10 -> #N/A | EO10: =EL10*EM10 -> #N/A | EQ10: 1 | ER10: =ER$6*COS(EQ10*PI()/180)+ES$5 -> #N/A | ES10: =ER$6*SIN(EQ10*PI()/180)+EU$5 -> #N/A | ET10: =IF(SQRT((ER10-$J$5)^2+(ES10-$L$5)^2)<$I$6,1,0) -> #N/A | EU10: =ER10*ET10 -> #N/A | EV10: =ES10*ET10 -> #N/A | EX10: 1 | EY10: =EY$6*COS(EX10*PI()/180)+EZ$5 -> #N/A | EZ10: =EY$6*SIN(EX10*PI()/180)+FB$5 -> #N/A | FA10: =IF(SQRT((EY10-$J$5)^2+(EZ10-$L$5)^2)<$I$6,1,0) -> #N/A | FB10: =EY10*FA10 -> #N/A | FC10: =EZ10*FA10 -> #N/A | FE10: 1 | FF10: =FF$6*COS(FE10*PI()/180)+FG$5 -> #N/A | FG10: =FF$6*SIN(FE10*PI()/180)+FI$5 -> #N/A | FH10: =IF(SQRT((FF10-$J$5)^2+(FG10-$L$5)^2)<$I$6,1,0) -> #N/A | FI10: =FF10*FH10 -> #N/A | FJ10: =FG10*FH10 -> #N/A | FL10: 1 | FM10: =FM$6*COS(FL10*PI()/180)+FN$5 -> #N/A | FN10: =FM$6*SIN(FL10*PI()/180)+FP$5 -> #N/A | FO10: =IF(SQRT((FM10-$J$5)^2+(FN10-$L$5)^2)<$I$6,1,0) -> #N/A | FP10: =FM10*FO10 -> #N/A | FQ10: =FN10*FO10 -> #N/A | FS10: 1 | FT10: =FT$6*COS(FS10*PI()/180)+FU$5 -> #N/A | FU10: =FT$6*SIN(FS10*PI()/180)+FW$5 -> #N/A | FV10: =IF(SQRT((FT10-$J$5)^2+(FU10-$L$5)^2)<$I$6,1,0) -> #N/A | FW10: =FT10*FV10 -> #N/A | FX10: =FU10*FV10 -> #N/A
A11: 9 | B11: =D26 -> -0.70476947 | C11: =E26 -> -0.25651511 | D11: =F26 -> 3 | E11: =B26 -> 200 | F11: =C26 -> 0.75 | H11: 2 | I11: =$I$6*COS(H11*PI()/180)+$J$5 -> 1.4990862 | J11: =$I$6*SIN(H11*PI()/180)+$L$5 -> 0.052349245 | N11: 2 | O11: =$O$6*COS($N11*PI()/180)+$P$5 -> 0.59325067 | P11: =$O$6*SIN($N11*PI()/180)+$R$5 -> -0.34202732 | Q11: =IF(SQRT((O11-$J$5)^2+(P11-$L$5)^2)<$I$6,1,0) -> 1 | R11: =O11*Q11 -> 0.59325067 | S11: =P11*Q11 -> -0.34202732 | U11: 2 | V11: =V$6*COS(U11*PI()/180)+W$5 -> 0.35252466 | W11: =V$6*SIN(U11*PI()/180)+Y$5 -> -0.022573115 | X11: =IF(SQRT((V11-$J$5)^2+(W11-$L$5)^2)<$I$6,1,0) -> 1 | Y11: =V11*X11 -> 0.35252466 | Z11: =W11*X11 -> -0.022573115 | AB11: 2 | AC11: =AC$6*COS(AB11*PI()/180)+AD$5 -> 0.50881711 | AD11: =AC$6*SIN(AB11*PI()/180)+AF$5 -> 0.34562883 | AE11: =IF(SQRT((AC11-$J$5)^2+(AD11-$L$5)^2)<$I$6,1,0) -> 1 | AF11: =AC11*AE11 -> 0.50881711 | AG11: =AD11*AE11 -> 0.34562883 | AI11: 2 | AJ11: =AJ$6*COS(AI11*PI()/180)+AK$5 -> 0.90583557 | AK11: =AJ$6*SIN(AI11*PI()/180)+AM$5 -> 0.39437656 | AL11: =IF(SQRT((AJ11-$J$5)^2+(AK11-$L$5)^2)<$I$6,1,0) -> 1 | AM11: =AJ11*AL11 -> 0.90583557 | AN11: =AK11*AL11 -> 0.39437656 | AP11: 2 | AQ11: =AQ$6*COS(AP11*PI()/180)+AR$5 -> 1.1465616 | AR11: =AQ$6*SIN(AP11*PI()/180)+AT$5 -> 0.07492236 | AS11: =IF(SQRT((AQ11-$J$5)^2+(AR11-$L$5)^2)<$I$6,1,0) -> 1 | AT11: =AQ11*AS11 -> 1.1465616 | AU11: =AR11*AS11 -> 0.07492236 | AW11: 2 | AX11: =AX$6*COS(AW11*PI()/180)+AY$5 -> 0.99026913 | AY11: =AX$6*SIN(AW11*PI()/180)+BA$5 -> -0.29327958 | AZ11: =IF(SQRT((AX11-$J$5)^2+(AY11-$L$5)^2)<$I$6,1,0) -> 1 | BA11: =AX11*AZ11 -> 0.99026913 | BB11: =AY11*AZ11 -> -0.29327958 | BD11: 2 | BE11: =BE$6*COS(BD11*PI()/180)+BF$5 -> #N/A | BF11: =BE$6*SIN(BD11*PI()/180)+BH$5 -> #N/A | BG11: =IF(SQRT((BE11-$J$5)^2+(BF11-$L$5)^2)<$I$6,1,0) -> #N/A | BH11: =BE11*BG11 -> #N/A | BI11: =BF11*BG11 -> #N/A | BK11: 2 | BL11: =BL$6*COS(BK11*PI()/180)+BM$5 -> #N/A | BM11: =BL$6*SIN(BK11*PI()/180)+BO$5 -> #N/A | BN11: =IF(SQRT((BL11-$J$5)^2+(BM11-$L$5)^2)<$I$6,1,0) -> #N/A | BO11: =BL11*BN11 -> #N/A | BP11: =BM11*BN11 -> #N/A | BR11: 2 | BS11: =BS$6*COS(BR11*PI()/180)+BT$5 -> #N/A | BT11: =BS$6*SIN(BR11*PI()/180)+BV$5 -> #N/A | BU11: =IF(SQRT((BS11-$J$5)^2+(BT11-$L$5)^2)<$I$6,1,0) -> #N/A | BV11: =BS11*BU11 -> #N/A | BW11: =BT11*BU11 -> #N/A | BY11: 2 | BZ11: =BZ$6*COS(BY11*PI()/180)+CA$5 -> #N/A | CA11: =BZ$6*SIN(BY11*PI()/180)+CC$5 -> #N/A | CB11: =IF(SQRT((BZ11-$J$5)^2+(CA11-$L$5)^2)<$I$6,1,0) -> #N/A | CC11: =BZ11*CB11 -> #N/A | CD11: =CA11*CB11 -> #N/A | CF11: 2 | CG11: =CG$6*COS(CF11*PI()/180)+CH$5 -> #N/A | CH11: =CG$6*SIN(CF11*PI()/180)+CJ$5 -> #N/A | CI11: =IF(SQRT((CG11-$J$5)^2+(CH11-$L$5)^2)<$I$6,1,0) -> #N/A | CJ11: =CG11*CI11 -> #N/A | CK11: =CH11*CI11 -> #N/A | CM11: 2 | CN11: =CN$6*COS(CM11*PI()/180)+CO$5 -> #N/A | CO11: =CN$6*SIN(CM11*PI()/180)+CQ$5 -> #N/A | CP11: =IF(SQRT((CN11-$J$5)^2+(CO11-$L$5)^2)<$I$6,1,0) -> #N/A | CQ11: =CN11*CP11 -> #N/A | CR11: =CO11*CP11 -> #N/A | CT11: 2 | CU11: =CU$6*COS(CT11*PI()/180)+CV$5 -> #N/A | CV11: =CU$6*SIN(CT11*PI()/180)+CX$5 -> #N/A | CW11: =IF(SQRT((CU11-$J$5)^2+(CV11-$L$5)^2)<$I$6,1,0) -> #N/A | CX11: =CU11*CW11 -> #N/A | CY11: =CV11*CW11 -> #N/A | DA11: 2 | DB11: =DB$6*COS(DA11*PI()/180)+DC$5 -> #N/A | DC11: =DB$6*SIN(DA11*PI()/180)+DE$5 -> #N/A | DD11: =IF(SQRT((DB11-$J$5)^2+(DC11-$L$5)^2)<$I$6,1,0) -> #N/A | DE11: =DB11*DD11 -> #N/A | DF11: =DC11*DD11 -> #N/A | DH11: 2 | DI11: =DI$6*COS(DH11*PI()/180)+DJ$5 -> #N/A | DJ11: =DI$6*SIN(DH11*PI()/180)+DL$5 -> #N/A | DK11: =IF(SQRT((DI11-$J$5)^2+(DJ11-$L$5)^2)<$I$6,1,0) -> #N/A | DL11: =DI11*DK11 -> #N/A | DM11: =DJ11*DK11 -> #N/A | DO11: 2 | DP11: =DP$6*COS(DO11*PI()/180)+DQ$5 -> #N/A | DQ11: =DP$6*SIN(DO11*PI()/180)+DS$5 -> #N/A | DR11: =IF(SQRT((DP11-$J$5)^2+(DQ11-$L$5)^2)<$I$6,1,0) -> #N/A | DS11: =DP11*DR11 -> #N/A | DT11: =DQ11*DR11 -> #N/A | DV11: 2 | DW11: =DW$6*COS(DV11*PI()/180)+DX$5 -> #N/A | DX11: =DW$6*SIN(DV11*PI()/180)+DZ$5 -> #N/A | DY11: =IF(SQRT((DW11-$J$5)^2+(DX11-$L$5)^2)<$I$6,1,0) -> #N/A | DZ11: =DW11*DY11 -> #N/A | EA11: =DX11*DY11 -> #N/A | EC11: 2 | ED11: =ED$6*COS(EC11*PI()/180)+EE$5 -> #N/A | EE11: =ED$6*SIN(EC11*PI()/180)+EG$5 -> #N/A | EF11: =IF(SQRT((ED11-$J$5)^2+(EE11-$L$5)^2)<$I$6,1,0) -> #N/A | EG11: =ED11*EF11 -> #N/A | EH11: =EE11*EF11 -> #N/A | EJ11: 2 | EK11: =EK$6*COS(EJ11*PI()/180)+EL$5 -> #N/A | EL11: =EK$6*SIN(EJ11*PI()/180)+EN$5 -> #N/A | EM11: =IF(SQRT((EK11-$J$5)^2+(EL11-$L$5)^2)<$I$6,1,0) -> #N/A | EN11: =EK11*EM11 -> #N/A | EO11: =EL11*EM11 -> #N/A | EQ11: 2 | ER11: =ER$6*COS(EQ11*PI()/180)+ES$5 -> #N/A | ES11: =ER$6*SIN(EQ11*PI()/180)+EU$5 -> #N/A | ET11: =IF(SQRT((ER11-$J$5)^2+(ES11-$L$5)^2)<$I$6,1,0) -> #N/A | EU11: =ER11*ET11 -> #N/A | EV11: =ES11*ET11 -> #N/A | EX11: 2 | EY11: =EY$6*COS(EX11*PI()/180)+EZ$5 -> #N/A | EZ11: =EY$6*SIN(EX11*PI()/180)+FB$5 -> #N/A | FA11: =IF(SQRT((EY11-$J$5)^2+(EZ11-$L$5)^2)<$I$6,1,0) -> #N/A | FB11: =EY11*FA11 -> #N/A | FC11: =EZ11*FA11 -> #N/A | FE11: 2 | FF11: =FF$6*COS(FE11*PI()/180)+FG$5 -> #N/A | FG11: =FF$6*SIN(FE11*PI()/180)+FI$5 -> #N/A | FH11: =IF(SQRT((FF11-$J$5)^2+(FG11-$L$5)^2)<$I$6,1,0) -> #N/A | FI11: =FF11*FH11 -> #N/A | FJ11: =FG11*FH11 -> #N/A | FL11: 2 | FM11: =FM$6*COS(FL11*PI()/180)+FN$5 -> #N/A | FN11: =FM$6*SIN(FL11*PI()/180)+FP$5 -> #N/A | FO11: =IF(SQRT((FM11-$J$5)^2+(FN11-$L$5)^2)<$I$6,1,0) -> #N/A | FP11: =FM11*FO11 -> #N/A | FQ11: =FN11*FO11 -> #N/A | FS11: 2 | FT11: =FT$6*COS(FS11*PI()/180)+FU$5 -> #N/A | FU11: =FT$6*SIN(FS11*PI()/180)+FW$5 -> #N/A | FV11: =IF(SQRT((FT11-$J$5)^2+(FU11-$L$5)^2)<$I$6,1,0) -> #N/A | FW11: =FT11*FV11 -> #N/A | FX11: =FU11*FV11 -> #N/A
A12: 10 | B12: =D27 -> -0.50345631 | C12: =E27 -> -0.62171677 | D12: =F27 -> 3 | E12: =B27 -> 231 | F12: =C27 -> 0.8 | H12: 3 | I12: =$I$6*COS(H12*PI()/180)+$J$5 -> 1.4979443 | J12: =$I$6*SIN(H12*PI()/180)+$L$5 -> 0.078503934 | N12: 3 | O12: =$O$6*COS($N12*PI()/180)+$P$5 -> 0.5926797 | P12: =$O$6*SIN($N12*PI()/180)+$R$5 -> -0.32894997 | Q12: =IF(SQRT((O12-$J$5)^2+(P12-$L$5)^2)<$I$6,1,0) -> 1 | R12: =O12*Q12 -> 0.5926797 | S12: =P12*Q12 -> -0.32894997 | U12: 3 | V12: =V$6*COS(U12*PI()/180)+W$5 -> 0.35195369 | W12: =V$6*SIN(U12*PI()/180)+Y$5 -> -0.0094957702 | X12: =IF(SQRT((V12-$J$5)^2+(W12-$L$5)^2)<$I$6,1,0) -> 1 | Y12: =V12*X12 -> 0.35195369 | Z12: =W12*X12 -> -0.0094957702 | AB12: 3 | AC12: =AC$6*COS(AB12*PI()/180)+AD$5 -> 0.50824614 | AD12: =AC$6*SIN(AB12*PI()/180)+AF$5 -> 0.35870617 | AE12: =IF(SQRT((AC12-$J$5)^2+(AD12-$L$5)^2)<$I$6,1,0) -> 1 | AF12: =AC12*AE12 -> 0.50824614 | AG12: =AD12*AE12 -> 0.35870617 | AI12: 3 | AJ12: =AJ$6*COS(AI12*PI()/180)+AK$5 -> 0.9052646 | AK12: =AJ$6*SIN(AI12*PI()/180)+AM$5 -> 0.40745391 | AL12: =IF(SQRT((AJ12-$J$5)^2+(AK12-$L$5)^2)<$I$6,1,0) -> 1 | AM12: =AJ12*AL12 -> 0.9052646 | AN12: =AK12*AL12 -> 0.40745391 | AP12: 3 | AQ12: =AQ$6*COS(AP12*PI()/180)+AR$5 -> 1.1459906 | AR12: =AQ$6*SIN(AP12*PI()/180)+AT$5 -> 0.087999705 | AS12: =IF(SQRT((AQ12-$J$5)^2+(AR12-$L$5)^2)<$I$6,1,0) -> 1 | AT12: =AQ12*AS12 -> 1.1459906 | AU12: =AR12*AS12 -> 0.087999705 | AW12: 3 | AX12: =AX$6*COS(AW12*PI()/180)+AY$5 -> 0.98969816 | AY12: =AX$6*SIN(AW12*PI()/180)+BA$5 -> -0.28020224 | AZ12: =IF(SQRT((AX12-$J$5)^2+(AY12-$L$5)^2)<$I$6,1,0) -> 1 | BA12: =AX12*AZ12 -> 0.98969816 | BB12: =AY12*AZ12 -> -0.28020224 | BD12: 3 | BE12: =BE$6*COS(BD12*PI()/180)+BF$5 -> #N/A | BF12: =BE$6*SIN(BD12*PI()/180)+BH$5 -> #N/A | BG12: =IF(SQRT((BE12-$J$5)^2+(BF12-$L$5)^2)<$I$6,1,0) -> #N/A | BH12: =BE12*BG12 -> #N/A | BI12: =BF12*BG12 -> #N/A | BK12: 3 | BL12: =BL$6*COS(BK12*PI()/180)+BM$5 -> #N/A | BM12: =BL$6*SIN(BK12*PI()/180)+BO$5 -> #N/A | BN12: =IF(SQRT((BL12-$J$5)^2+(BM12-$L$5)^2)<$I$6,1,0) -> #N/A | BO12: =BL12*BN12 -> #N/A | BP12: =BM12*BN12 -> #N/A | BR12: 3 | BS12: =BS$6*COS(BR12*PI()/180)+BT$5 -> #N/A | BT12: =BS$6*SIN(BR12*PI()/180)+BV$5 -> #N/A | BU12: =IF(SQRT((BS12-$J$5)^2+(BT12-$L$5)^2)<$I$6,1,0) -> #N/A | BV12: =BS12*BU12 -> #N/A | BW12: =BT12*BU12 -> #N/A | BY12: 3 | BZ12: =BZ$6*COS(BY12*PI()/180)+CA$5 -> #N/A | CA12: =BZ$6*SIN(BY12*PI()/180)+CC$5 -> #N/A | CB12: =IF(SQRT((BZ12-$J$5)^2+(CA12-$L$5)^2)<$I$6,1,0) -> #N/A | CC12: =BZ12*CB12 -> #N/A | CD12: =CA12*CB12 -> #N/A | CF12: 3 | CG12: =CG$6*COS(CF12*PI()/180)+CH$5 -> #N/A | CH12: =CG$6*SIN(CF12*PI()/180)+CJ$5 -> #N/A | CI12: =IF(SQRT((CG12-$J$5)^2+(CH12-$L$5)^2)<$I$6,1,0) -> #N/A | CJ12: =CG12*CI12 -> #N/A | CK12: =CH12*CI12 -> #N/A | CM12: 3 | CN12: =CN$6*COS(CM12*PI()/180)+CO$5 -> #N/A | CO12: =CN$6*SIN(CM12*PI()/180)+CQ$5 -> #N/A | CP12: =IF(SQRT((CN12-$J$5)^2+(CO12-$L$5)^2)<$I$6,1,0) -> #N/A | CQ12: =CN12*CP12 -> #N/A | CR12: =CO12*CP12 -> #N/A | CT12: 3 | CU12: =CU$6*COS(CT12*PI()/180)+CV$5 -> #N/A | CV12: =CU$6*SIN(CT12*PI()/180)+CX$5 -> #N/A | CW12: =IF(SQRT((CU12-$J$5)^2+(CV12-$L$5)^2)<$I$6,1,0) -> #N/A | CX12: =CU12*CW12 -> #N/A | CY12: =CV12*CW12 -> #N/A | DA12: 3 | DB12: =DB$6*COS(DA12*PI()/180)+DC$5 -> #N/A | DC12: =DB$6*SIN(DA12*PI()/180)+DE$5 -> #N/A | DD12: =IF(SQRT((DB12-$J$5)^2+(DC12-$L$5)^2)<$I$6,1,0) -> #N/A | DE12: =DB12*DD12 -> #N/A | DF12: =DC12*DD12 -> #N/A | DH12: 3 | DI12: =DI$6*COS(DH12*PI()/180)+DJ$5 -> #N/A | DJ12: =DI$6*SIN(DH12*PI()/180)+DL$5 -> #N/A | DK12: =IF(SQRT((DI12-$J$5)^2+(DJ12-$L$5)^2)<$I$6,1,0) -> #N/A | DL12: =DI12*DK12 -> #N/A | DM12: =DJ12*DK12 -> #N/A | DO12: 3 | DP12: =DP$6*COS(DO12*PI()/180)+DQ$5 -> #N/A | DQ12: =DP$6*SIN(DO12*PI()/180)+DS$5 -> #N/A | DR12: =IF(SQRT((DP12-$J$5)^2+(DQ12-$L$5)^2)<$I$6,1,0) -> #N/A | DS12: =DP12*DR12 -> #N/A | DT12: =DQ12*DR12 -> #N/A | DV12: 3 | DW12: =DW$6*COS(DV12*PI()/180)+DX$5 -> #N/A | DX12: =DW$6*SIN(DV12*PI()/180)+DZ$5 -> #N/A | DY12: =IF(SQRT((DW12-$J$5)^2+(DX12-$L$5)^2)<$I$6,1,0) -> #N/A | DZ12: =DW12*DY12 -> #N/A | EA12: =DX12*DY12 -> #N/A | EC12: 3 | ED12: =ED$6*COS(EC12*PI()/180)+EE$5 -> #N/A | EE12: =ED$6*SIN(EC12*PI()/180)+EG$5 -> #N/A | EF12: =IF(SQRT((ED12-$J$5)^2+(EE12-$L$5)^2)<$I$6,1,0) -> #N/A | EG12: =ED12*EF12 -> #N/A | EH12: =EE12*EF12 -> #N/A | EJ12: 3 | EK12: =EK$6*COS(EJ12*PI()/180)+EL$5 -> #N/A | EL12: =EK$6*SIN(EJ12*PI()/180)+EN$5 -> #N/A | EM12: =IF(SQRT((EK12-$J$5)^2+(EL12-$L$5)^2)<$I$6,1,0) -> #N/A | EN12: =EK12*EM12 -> #N/A | EO12: =EL12*EM12 -> #N/A | EQ12: 3 | ER12: =ER$6*COS(EQ12*PI()/180)+ES$5 -> #N/A | ES12: =ER$6*SIN(EQ12*PI()/180)+EU$5 -> #N/A | ET12: =IF(SQRT((ER12-$J$5)^2+(ES12-$L$5)^2)<$I$6,1,0) -> #N/A | EU12: =ER12*ET12 -> #N/A | EV12: =ES12*ET12 -> #N/A | EX12: 3 | EY12: =EY$6*COS(EX12*PI()/180)+EZ$5 -> #N/A | EZ12: =EY$6*SIN(EX12*PI()/180)+FB$5 -> #N/A | FA12: =IF(SQRT((EY12-$J$5)^2+(EZ12-$L$5)^2)<$I$6,1,0) -> #N/A | FB12: =EY12*FA12 -> #N/A | FC12: =EZ12*FA12 -> #N/A | FE12: 3 | FF12: =FF$6*COS(FE12*PI()/180)+FG$5 -> #N/A | FG12: =FF$6*SIN(FE12*PI()/180)+FI$5 -> #N/A | FH12: =IF(SQRT((FF12-$J$5)^2+(FG12-$L$5)^2)<$I$6,1,0) -> #N/A | FI12: =FF12*FH12 -> #N/A | FJ12: =FG12*FH12 -> #N/A | FL12: 3 | FM12: =FM$6*COS(FL12*PI()/180)+FN$5 -> #N/A | FN12: =FM$6*SIN(FL12*PI()/180)+FP$5 -> #N/A | FO12: =IF(SQRT((FM12-$J$5)^2+(FN12-$L$5)^2)<$I$6,1,0) -> #N/A | FP12: =FM12*FO12 -> #N/A | FQ12: =FN12*FO12 -> #N/A | FS12: 3 | FT12: =FT$6*COS(FS12*PI()/180)+FU$5 -> #N/A | FU12: =FT$6*SIN(FS12*PI()/180)+FW$5 -> #N/A | FV12: =IF(SQRT((FT12-$J$5)^2+(FU12-$L$5)^2)<$I$6,1,0) -> #N/A | FW12: =FT12*FV12 -> #N/A | FX12: =FU12*FV12 -> #N/A
H13: 4 | I13: =$I$6*COS(H13*PI()/180)+$J$5 -> 1.4963461 | J13: =$I$6*SIN(H13*PI()/180)+$L$5 -> 0.10463471 | N13: 4 | O13: =$O$6*COS($N13*PI()/180)+$P$5 -> 0.59188059 | P13: =$O$6*SIN($N13*PI()/180)+$R$5 -> -0.31588459 | Q13: =IF(SQRT((O13-$J$5)^2+(P13-$L$5)^2)<$I$6,1,0) -> 1 | R13: =O13*Q13 -> 0.59188059 | S13: =P13*Q13 -> -0.31588459 | U13: 4 | V13: =V$6*COS(U13*PI()/180)+W$5 -> 0.35115458 | W13: =V$6*SIN(U13*PI()/180)+Y$5 -> 0.0035696179 | X13: =IF(SQRT((V13-$J$5)^2+(W13-$L$5)^2)<$I$6,1,0) -> 1 | Y13: =V13*X13 -> 0.35115458 | Z13: =W13*X13 -> 0.0035696179 | AB13: 4 | AC13: =AC$6*COS(AB13*PI()/180)+AD$5 -> 0.50744703 | AD13: =AC$6*SIN(AB13*PI()/180)+AF$5 -> 0.37177156 | AE13: =IF(SQRT((AC13-$J$5)^2+(AD13-$L$5)^2)<$I$6,1,0) -> 1 | AF13: =AC13*AE13 -> 0.50744703 | AG13: =AD13*AE13 -> 0.37177156 | AI13: 4 | AJ13: =AJ$6*COS(AI13*PI()/180)+AK$5 -> 0.90446549 | AK13: =AJ$6*SIN(AI13*PI()/180)+AM$5 -> 0.4205193 | AL13: =IF(SQRT((AJ13-$J$5)^2+(AK13-$L$5)^2)<$I$6,1,0) -> 1 | AM13: =AJ13*AL13 -> 0.90446549 | AN13: =AK13*AL13 -> 0.4205193 | AP13: 4 | AQ13: =AQ$6*COS(AP13*PI()/180)+AR$5 -> 1.1451915 | AR13: =AQ$6*SIN(AP13*PI()/180)+AT$5 -> 0.10106509 | AS13: =IF(SQRT((AQ13-$J$5)^2+(AR13-$L$5)^2)<$I$6,1,0) -> 1 | AT13: =AQ13*AS13 -> 1.1451915 | AU13: =AR13*AS13 -> 0.10106509 | AW13: 4 | AX13: =AX$6*COS(AW13*PI()/180)+AY$5 -> 0.98889905 | AY13: =AX$6*SIN(AW13*PI()/180)+BA$5 -> -0.26713685 | AZ13: =IF(SQRT((AX13-$J$5)^2+(AY13-$L$5)^2)<$I$6,1,0) -> 1 | BA13: =AX13*AZ13 -> 0.98889905 | BB13: =AY13*AZ13 -> -0.26713685 | BD13: 4 | BE13: =BE$6*COS(BD13*PI()/180)+BF$5 -> #N/A | BF13: =BE$6*SIN(BD13*PI()/180)+BH$5 -> #N/A | BG13: =IF(SQRT((BE13-$J$5)^2+(BF13-$L$5)^2)<$I$6,1,0) -> #N/A | BH13: =BE13*BG13 -> #N/A | BI13: =BF13*BG13 -> #N/A | BK13: 4 | BL13: =BL$6*COS(BK13*PI()/180)+BM$5 -> #N/A | BM13: =BL$6*SIN(BK13*PI()/180)+BO$5 -> #N/A | BN13: =IF(SQRT((BL13-$J$5)^2+(BM13-$L$5)^2)<$I$6,1,0) -> #N/A | BO13: =BL13*BN13 -> #N/A | BP13: =BM13*BN13 -> #N/A | BR13: 4 | BS13: =BS$6*COS(BR13*PI()/180)+BT$5 -> #N/A | BT13: =BS$6*SIN(BR13*PI()/180)+BV$5 -> #N/A | BU13: =IF(SQRT((BS13-$J$5)^2+(BT13-$L$5)^2)<$I$6,1,0) -> #N/A | BV13: =BS13*BU13 -> #N/A | BW13: =BT13*BU13 -> #N/A | BY13: 4 | BZ13: =BZ$6*COS(BY13*PI()/180)+CA$5 -> #N/A | CA13: =BZ$6*SIN(BY13*PI()/180)+CC$5 -> #N/A | CB13: =IF(SQRT((BZ13-$J$5)^2+(CA13-$L$5)^2)<$I$6,1,0) -> #N/A | CC13: =BZ13*CB13 -> #N/A | CD13: =CA13*CB13 -> #N/A | CF13: 4 | CG13: =CG$6*COS(CF13*PI()/180)+CH$5 -> #N/A | CH13: =CG$6*SIN(CF13*PI()/180)+CJ$5 -> #N/A | CI13: =IF(SQRT((CG13-$J$5)^2+(CH13-$L$5)^2)<$I$6,1,0) -> #N/A | CJ13: =CG13*CI13 -> #N/A | CK13: =CH13*CI13 -> #N/A | CM13: 4 | CN13: =CN$6*COS(CM13*PI()/180)+CO$5 -> #N/A | CO13: =CN$6*SIN(CM13*PI()/180)+CQ$5 -> #N/A | CP13: =IF(SQRT((CN13-$J$5)^2+(CO13-$L$5)^2)<$I$6,1,0) -> #N/A | CQ13: =CN13*CP13 -> #N/A | CR13: =CO13*CP13 -> #N/A | CT13: 4 | CU13: =CU$6*COS(CT13*PI()/180)+CV$5 -> #N/A | CV13: =CU$6*SIN(CT13*PI()/180)+CX$5 -> #N/A | CW13: =IF(SQRT((CU13-$J$5)^2+(CV13-$L$5)^2)<$I$6,1,0) -> #N/A | CX13: =CU13*CW13 -> #N/A | CY13: =CV13*CW13 -> #N/A | DA13: 4 | DB13: =DB$6*COS(DA13*PI()/180)+DC$5 -> #N/A | DC13: =DB$6*SIN(DA13*PI()/180)+DE$5 -> #N/A | DD13: =IF(SQRT((DB13-$J$5)^2+(DC13-$L$5)^2)<$I$6,1,0) -> #N/A | DE13: =DB13*DD13 -> #N/A | DF13: =DC13*DD13 -> #N/A | DH13: 4 | DI13: =DI$6*COS(DH13*PI()/180)+DJ$5 -> #N/A | DJ13: =DI$6*SIN(DH13*PI()/180)+DL$5 -> #N/A | DK13: =IF(SQRT((DI13-$J$5)^2+(DJ13-$L$5)^2)<$I$6,1,0) -> #N/A | DL13: =DI13*DK13 -> #N/A | DM13: =DJ13*DK13 -> #N/A | DO13: 4 | DP13: =DP$6*COS(DO13*PI()/180)+DQ$5 -> #N/A | DQ13: =DP$6*SIN(DO13*PI()/180)+DS$5 -> #N/A | DR13: =IF(SQRT((DP13-$J$5)^2+(DQ13-$L$5)^2)<$I$6,1,0) -> #N/A | DS13: =DP13*DR13 -> #N/A | DT13: =DQ13*DR13 -> #N/A | DV13: 4 | DW13: =DW$6*COS(DV13*PI()/180)+DX$5 -> #N/A | DX13: =DW$6*SIN(DV13*PI()/180)+DZ$5 -> #N/A | DY13: =IF(SQRT((DW13-$J$5)^2+(DX13-$L$5)^2)<$I$6,1,0) -> #N/A | DZ13: =DW13*DY13 -> #N/A | EA13: =DX13*DY13 -> #N/A | EC13: 4 | ED13: =ED$6*COS(EC13*PI()/180)+EE$5 -> #N/A | EE13: =ED$6*SIN(EC13*PI()/180)+EG$5 -> #N/A | EF13: =IF(SQRT((ED13-$J$5)^2+(EE13-$L$5)^2)<$I$6,1,0) -> #N/A | EG13: =ED13*EF13 -> #N/A | EH13: =EE13*EF13 -> #N/A | EJ13: 4 | EK13: =EK$6*COS(EJ13*PI()/180)+EL$5 -> #N/A | EL13: =EK$6*SIN(EJ13*PI()/180)+EN$5 -> #N/A | EM13: =IF(SQRT((EK13-$J$5)^2+(EL13-$L$5)^2)<$I$6,1,0) -> #N/A | EN13: =EK13*EM13 -> #N/A | EO13: =EL13*EM13 -> #N/A | EQ13: 4 | ER13: =ER$6*COS(EQ13*PI()/180)+ES$5 -> #N/A | ES13: =ER$6*SIN(EQ13*PI()/180)+EU$5 -> #N/A | ET13: =IF(SQRT((ER13-$J$5)^2+(ES13-$L$5)^2)<$I$6,1,0) -> #N/A | EU13: =ER13*ET13 -> #N/A | EV13: =ES13*ET13 -> #N/A | EX13: 4 | EY13: =EY$6*COS(EX13*PI()/180)+EZ$5 -> #N/A | EZ13: =EY$6*SIN(EX13*PI()/180)+FB$5 -> #N/A | FA13: =IF(SQRT((EY13-$J$5)^2+(EZ13-$L$5)^2)<$I$6,1,0) -> #N/A | FB13: =EY13*FA13 -> #N/A | FC13: =EZ13*FA13 -> #N/A | FE13: 4 | FF13: =FF$6*COS(FE13*PI()/180)+FG$5 -> #N/A | FG13: =FF$6*SIN(FE13*PI()/180)+FI$5 -> #N/A | FH13: =IF(SQRT((FF13-$J$5)^2+(FG13-$L$5)^2)<$I$6,1,0) -> #N/A | FI13: =FF13*FH13 -> #N/A | FJ13: =FG13*FH13 -> #N/A | FL13: 4 | FM13: =FM$6*COS(FL13*PI()/180)+FN$5 -> #N/A | FN13: =FM$6*SIN(FL13*PI()/180)+FP$5 -> #N/A | FO13: =IF(SQRT((FM13-$J$5)^2+(FN13-$L$5)^2)<$I$6,1,0) -> #N/A | FP13: =FM13*FO13 -> #N/A | FQ13: =FN13*FO13 -> #N/A | FS13: 4 | FT13: =FT$6*COS(FS13*PI()/180)+FU$5 -> #N/A | FU13: =FT$6*SIN(FS13*PI()/180)+FW$5 -> #N/A | FV13: =IF(SQRT((FT13-$J$5)^2+(FU13-$L$5)^2)<$I$6,1,0) -> #N/A | FW13: =FT13*FV13 -> #N/A | FX13: =FU13*FV13 -> #N/A
H14: 5 | I14: =$I$6*COS(H14*PI()/180)+$J$5 -> 1.494292 | J14: =$I$6*SIN(H14*PI()/180)+$L$5 -> 0.13073361 | N14: 5 | O14: =$O$6*COS($N14*PI()/180)+$P$5 -> 0.59085357 | P14: =$O$6*SIN($N14*PI()/180)+$R$5 -> -0.30283513 | Q14: =IF(SQRT((O14-$J$5)^2+(P14-$L$5)^2)<$I$6,1,0) -> 1 | R14: =O14*Q14 -> 0.59085357 | S14: =P14*Q14 -> -0.30283513 | U14: 5 | V14: =V$6*COS(U14*PI()/180)+W$5 -> 0.35012756 | W14: =V$6*SIN(U14*PI()/180)+Y$5 -> 0.01661907 | X14: =IF(SQRT((V14-$J$5)^2+(W14-$L$5)^2)<$I$6,1,0) -> 1 | Y14: =V14*X14 -> 0.35012756 | Z14: =W14*X14 -> 0.01661907 | AB14: 5 | AC14: =AC$6*COS(AB14*PI()/180)+AD$5 -> 0.50642001 | AD14: =AC$6*SIN(AB14*PI()/180)+AF$5 -> 0.38482101 | AE14: =IF(SQRT((AC14-$J$5)^2+(AD14-$L$5)^2)<$I$6,1,0) -> 1 | AF14: =AC14*AE14 -> 0.50642001 | AG14: =AD14*AE14 -> 0.38482101 | AI14: 5 | AJ14: =AJ$6*COS(AI14*PI()/180)+AK$5 -> 0.90343847 | AK14: =AJ$6*SIN(AI14*PI()/180)+AM$5 -> 0.43356875 | AL14: =IF(SQRT((AJ14-$J$5)^2+(AK14-$L$5)^2)<$I$6,1,0) -> 1 | AM14: =AJ14*AL14 -> 0.90343847 | AN14: =AK14*AL14 -> 0.43356875 | AP14: 5 | AQ14: =AQ$6*COS(AP14*PI()/180)+AR$5 -> 1.1441645 | AR14: =AQ$6*SIN(AP14*PI()/180)+AT$5 -> 0.11411454 | AS14: =IF(SQRT((AQ14-$J$5)^2+(AR14-$L$5)^2)<$I$6,1,0) -> 1 | AT14: =AQ14*AS14 -> 1.1441645 | AU14: =AR14*AS14 -> 0.11411454 | AW14: 5 | AX14: =AX$6*COS(AW14*PI()/180)+AY$5 -> 0.98787203 | AY14: =AX$6*SIN(AW14*PI()/180)+BA$5 -> -0.2540874 | AZ14: =IF(SQRT((AX14-$J$5)^2+(AY14-$L$5)^2)<$I$6,1,0) -> 1 | BA14: =AX14*AZ14 -> 0.98787203 | BB14: =AY14*AZ14 -> -0.2540874 | BD14: 5 | BE14: =BE$6*COS(BD14*PI()/180)+BF$5 -> #N/A | BF14: =BE$6*SIN(BD14*PI()/180)+BH$5 -> #N/A | BG14: =IF(SQRT((BE14-$J$5)^2+(BF14-$L$5)^2)<$I$6,1,0) -> #N/A | BH14: =BE14*BG14 -> #N/A | BI14: =BF14*BG14 -> #N/A | BK14: 5 | BL14: =BL$6*COS(BK14*PI()/180)+BM$5 -> #N/A | BM14: =BL$6*SIN(BK14*PI()/180)+BO$5 -> #N/A | BN14: =IF(SQRT((BL14-$J$5)^2+(BM14-$L$5)^2)<$I$6,1,0) -> #N/A | BO14: =BL14*BN14 -> #N/A | BP14: =BM14*BN14 -> #N/A | BR14: 5 | BS14: =BS$6*COS(BR14*PI()/180)+BT$5 -> #N/A | BT14: =BS$6*SIN(BR14*PI()/180)+BV$5 -> #N/A | BU14: =IF(SQRT((BS14-$J$5)^2+(BT14-$L$5)^2)<$I$6,1,0) -> #N/A | BV14: =BS14*BU14 -> #N/A | BW14: =BT14*BU14 -> #N/A | BY14: 5 | BZ14: =BZ$6*COS(BY14*PI()/180)+CA$5 -> #N/A | CA14: =BZ$6*SIN(BY14*PI()/180)+CC$5 -> #N/A | CB14: =IF(SQRT((BZ14-$J$5)^2+(CA14-$L$5)^2)<$I$6,1,0) -> #N/A | CC14: =BZ14*CB14 -> #N/A | CD14: =CA14*CB14 -> #N/A | CF14: 5 | CG14: =CG$6*COS(CF14*PI()/180)+CH$5 -> #N/A | CH14: =CG$6*SIN(CF14*PI()/180)+CJ$5 -> #N/A | CI14: =IF(SQRT((CG14-$J$5)^2+(CH14-$L$5)^2)<$I$6,1,0) -> #N/A | CJ14: =CG14*CI14 -> #N/A | CK14: =CH14*CI14 -> #N/A | CM14: 5 | CN14: =CN$6*COS(CM14*PI()/180)+CO$5 -> #N/A | CO14: =CN$6*SIN(CM14*PI()/180)+CQ$5 -> #N/A | CP14: =IF(SQRT((CN14-$J$5)^2+(CO14-$L$5)^2)<$I$6,1,0) -> #N/A | CQ14: =CN14*CP14 -> #N/A | CR14: =CO14*CP14 -> #N/A | CT14: 5 | CU14: =CU$6*COS(CT14*PI()/180)+CV$5 -> #N/A | CV14: =CU$6*SIN(CT14*PI()/180)+CX$5 -> #N/A | CW14: =IF(SQRT((CU14-$J$5)^2+(CV14-$L$5)^2)<$I$6,1,0) -> #N/A | CX14: =CU14*CW14 -> #N/A | CY14: =CV14*CW14 -> #N/A | DA14: 5 | DB14: =DB$6*COS(DA14*PI()/180)+DC$5 -> #N/A | DC14: =DB$6*SIN(DA14*PI()/180)+DE$5 -> #N/A | DD14: =IF(SQRT((DB14-$J$5)^2+(DC14-$L$5)^2)<$I$6,1,0) -> #N/A | DE14: =DB14*DD14 -> #N/A | DF14: =DC14*DD14 -> #N/A | DH14: 5 | DI14: =DI$6*COS(DH14*PI()/180)+DJ$5 -> #N/A | DJ14: =DI$6*SIN(DH14*PI()/180)+DL$5 -> #N/A | DK14: =IF(SQRT((DI14-$J$5)^2+(DJ14-$L$5)^2)<$I$6,1,0) -> #N/A | DL14: =DI14*DK14 -> #N/A | DM14: =DJ14*DK14 -> #N/A | DO14: 5 | DP14: =DP$6*COS(DO14*PI()/180)+DQ$5 -> #N/A | DQ14: =DP$6*SIN(DO14*PI()/180)+DS$5 -> #N/A | DR14: =IF(SQRT((DP14-$J$5)^2+(DQ14-$L$5)^2)<$I$6,1,0) -> #N/A | DS14: =DP14*DR14 -> #N/A | DT14: =DQ14*DR14 -> #N/A | DV14: 5 | DW14: =DW$6*COS(DV14*PI()/180)+DX$5 -> #N/A | DX14: =DW$6*SIN(DV14*PI()/180)+DZ$5 -> #N/A | DY14: =IF(SQRT((DW14-$J$5)^2+(DX14-$L$5)^2)<$I$6,1,0) -> #N/A | DZ14: =DW14*DY14 -> #N/A | EA14: =DX14*DY14 -> #N/A | EC14: 5 | ED14: =ED$6*COS(EC14*PI()/180)+EE$5 -> #N/A | EE14: =ED$6*SIN(EC14*PI()/180)+EG$5 -> #N/A | EF14: =IF(SQRT((ED14-$J$5)^2+(EE14-$L$5)^2)<$I$6,1,0) -> #N/A | EG14: =ED14*EF14 -> #N/A | EH14: =EE14*EF14 -> #N/A | EJ14: 5 | EK14: =EK$6*COS(EJ14*PI()/180)+EL$5 -> #N/A | EL14: =EK$6*SIN(EJ14*PI()/180)+EN$5 -> #N/A | EM14: =IF(SQRT((EK14-$J$5)^2+(EL14-$L$5)^2)<$I$6,1,0) -> #N/A | EN14: =EK14*EM14 -> #N/A | EO14: =EL14*EM14 -> #N/A | EQ14: 5 | ER14: =ER$6*COS(EQ14*PI()/180)+ES$5 -> #N/A | ES14: =ER$6*SIN(EQ14*PI()/180)+EU$5 -> #N/A | ET14: =IF(SQRT((ER14-$J$5)^2+(ES14-$L$5)^2)<$I$6,1,0) -> #N/A | EU14: =ER14*ET14 -> #N/A | EV14: =ES14*ET14 -> #N/A | EX14: 5 | EY14: =EY$6*COS(EX14*PI()/180)+EZ$5 -> #N/A | EZ14: =EY$6*SIN(EX14*PI()/180)+FB$5 -> #N/A | FA14: =IF(SQRT((EY14-$J$5)^2+(EZ14-$L$5)^2)<$I$6,1,0) -> #N/A | FB14: =EY14*FA14 -> #N/A | FC14: =EZ14*FA14 -> #N/A | FE14: 5 | FF14: =FF$6*COS(FE14*PI()/180)+FG$5 -> #N/A | FG14: =FF$6*SIN(FE14*PI()/180)+FI$5 -> #N/A | FH14: =IF(SQRT((FF14-$J$5)^2+(FG14-$L$5)^2)<$I$6,1,0) -> #N/A | FI14: =FF14*FH14 -> #N/A | FJ14: =FG14*FH14 -> #N/A | FL14: 5 | FM14: =FM$6*COS(FL14*PI()/180)+FN$5 -> #N/A | FN14: =FM$6*SIN(FL14*PI()/180)+FP$5 -> #N/A | FO14: =IF(SQRT((FM14-$J$5)^2+(FN14-$L$5)^2)<$I$6,1,0) -> #N/A | FP14: =FM14*FO14 -> #N/A | FQ14: =FN14*FO14 -> #N/A | FS14: 5 | FT14: =FT$6*COS(FS14*PI()/180)+FU$5 -> #N/A | FU14: =FT$6*SIN(FS14*PI()/180)+FW$5 -> #N/A | FV14: =IF(SQRT((FT14-$J$5)^2+(FU14-$L$5)^2)<$I$6,1,0) -> #N/A | FW14: =FT14*FV14 -> #N/A | FX14: =FU14*FV14 -> #N/A
