Workbook
Name Elem_1_X_Axis: Formulas!$R$9:$R$369
Name Elem_1_Y_Axis: Formulas!$S$9:$S$369
Name Elem_10_X_Axis: Formulas!$CC$9:$CC$369
Name Elem_10_Y_Axis: Formulas!$CD$9:$CD$369
Name Elem_11_X_Axis: Formulas!$CJ$9:$CJ$369
Name Elem_11_Y_Axis: Formulas!$CK$9:$CK$369
Name Elem_12_X_Axis: Formulas!$CQ$9:$CQ$369
Name Elem_12_Y_Axis: Formulas!$CR$9:$CR$369
Name Elem_13_X_Axis: Formulas!$CX$9:$CX$369
Name Elem_13_Y_Axis: Formulas!$CY$9:$CY$369
Name Elem_2_X_Axis: Formulas!$Y$9:$Y$369
Name Elem_2_Y_Axis: Formulas!$Z$9:$Z$369
Name Elem_3_X_Axis: Formulas!$AF$9:$AF$369
Name Elem_3_Y_Axis: Formulas!$AG1:$AG$369
Name Elem_4_X_Axis: Formulas!$AM$9:$AM$369
Name Elem_4_Y_Axis: Formulas!$AN$9:$AN$369
Name Elem_5_X_Axis: Formulas!$AT$9:$AT$369
Name Elem_5_Y_Axis: Formulas!$AU$9:$AU$369
Name Elem_6_X_Axis: Formulas!$BA$9:$BA$369
Name Elem_6_Y_Axis: Formulas!$BB$9:$BB$369
Name Elem_7_X_Axis: Formulas!$BH$9:$BH$369
Name Elem_7_Y_Axis: Formulas!$BI$9:$BI$369
Name Elem_8_X_Axis: Formulas!$BO$9:$BO$369
Name Elem_8_Y_Axis: Formulas!$BP$9:$BP$369
Name Elem_9_X_Axis: Formulas!$BV$9:$BV$369
Name Elem_9_Y_Axis: Formulas!$BW$9:$BW$369
Name OD_X_Axis: Formulas!$I$9:$I$369
Name OD_Y_Axis: Formulas!$J$9:$J$369
Name Units: Formulas!#REF!

Sheet Pattern Entry
A1: Pendant Jig Pattern Tool (10 Index Jig) | H1: Note: | O1: NOTE: | Q1: Ref "E3"
A2: Pattern Name: | C2: Test Pattern 4: 6-Rotating Rings | P2: Cells and Formula's are NOT PROTECTED. Any changes or | Q2: Rotation of
B3: Units: | C3: Inches | D3: Rotation: | E3: 157 | P3: modifactions are done at your own risk. | Q3: Hole to
C4: Offset Hole | D4: Index Hole | E4: Radius - 1 | F4: Notes: | Q4: Straight Up | R4: Hole No.
B5: Pendant Shape: | C5: 1 | D5: 0 | E5: 1.5 | F5: 3-0" OD | O5: Instructions (See "Instruction" Sheet for more details | Q5: n/a | R5: 1
C6: Select 1 - 10 | D6: Select 1 - 24 (24 = 0) | E6: Enter Radius | O6: 1: Press "NEW" Text Box to erase all current data and start a new pattern. | Q6: n/a | R6: 2
P7: Note: If you prefer to not use the MACRO Version you will need to | Q7: =360-Formulas!B20+90 -> 143 | R7: 3
A8: Color | B8: Cut # | C8: Offset Hole | D8: Index Hole | E8: Radius - 2 | P8: delete the previously data to start with a new pattern | Q8: =360-Formulas!B21+90 -> 450 | R8: 4
B9: 1 | C9: 2 | D9: 0 | E9: 0.75 | F9: groove | O9: 2: Enter "PATTERN NAME" (Optional), in Cell: "C2" | Q9: =360-Formulas!B22+90 -> 403 | R9: 5
B10: 2 | C10: 2 | D10: 4 | E10: 0.75 | F10: groove | O10: 3: "UNITS" noted in Cell: "C3" are in "Inches" | Q10: =360-Formulas!B23+90 -> 360 | R10: 6
B11: 3 | C11: 2 | D11: 8 | E11: 0.75 | F11: groove | P11: Note: This Worksheet only allows Inches | Q11: =360-Formulas!B24+90 -> 320 | R11: 7
B12: 4 | C12: 2 | D12: 12 | E12: 0.75 | F12: groove | O12: 4: Enter the "ROTATION" in Cell: "E3". | Q12: =360-Formulas!B25+90 -> 284 | R12: 8
B13: 5 | C13: 2 | D13: 16 | E13: 0.75 | F13: groove | P13: Note: Must be 0 through 360 | Q13: =360-Formulas!B26+90 -> 250 | R13: 9
B14: 6 | C14: 2 | D14: 20 | E14: 0.75 | F14: groove | P14: Note: For screen display only. | Q14: =360-Formulas!B27+90 -> 219 | R14: 10
B15: 7 | O15: 5: Enter the "OFFSET HOLE No." in Cells: "C5" & "C9:C32". | Q15: Note: Once a rotation number is enter in "E3", these reference number change.
B16: 8 | P16: Note: Must be 1 through 10.
B17: 9 | P17: Note: If not used, leave blank.
B18: 10 | O18: 6: Enter the "INDEX HOLE No," in Cells: "D5" and "D9:D32".
B19: 11 | P19: Note: Must be 1 through 24. Note: #24 is the same as #0
B20: 12 | P20: Note: If not used, leave blank.
B21: 13 | O21: 7: Enter "RADIUS #1" in Cell: "E5", in decimal's (0.75, 1.0, 1.25…)
B22: 14 | P22: Note: This is the radius of the Pendant Outside Diameter
B23: 15 | P23: Note: A Radius must be entered for the plot to show
B24: 16 | O24: 8: Enter "RADIUS - 2" in Cells: "E9:E32", in decimal's (ref: 0.25, 0.5, 0.75…)
B25: 17 | P25: Note these radius represent the pattern on the Pendant.
B26: 18 | P26: Note: If not used, leave blank.
B27: 19 | O27: 9: Enter any Notes you want displayed on your printout in Cell: "I1"
B28: 20 | O28: 10: Print out pattern for use on the lathe or to file for future reference
B29: 21
B30: 22
B31: 23
B32: 24

Sheet Test Pattern 1

Sheet Test Pattern 2

Sheet Test Patern 3

Sheet Test Pattern 4

Sheet Introduction and Comments
A1: Introduction & Comments on Using this Pendant Design Tool with the new 10-Offset Hole Joyner's Off-Center Chuck
A2: Acknowledgement: | B2: Original Spreadsheet was developed by Bill Kloepping of Greenville, TX in December, 2012.
B3: Bill did a tremendous amount of work on the original 8 Offset Hole spreadsheet and it works very well.
B4: In Oct, 2022, I purchased the new designed Joyner Eccentric Chuck (10 Offset Holes), and while reading several
B5: articles I realized there was a spreadsheet available for developing patterns. The search began and I finally
B6: found a copy on the web. Upon downloading I quickly realized that it was for a 8 Offset Hole (the original
B7: version), so I began modifying the spreadsheet only to realize that the original 8 Offset holes were in
B8: different locations than the new 10 Offset Hole chuck.
B9: Because of this and to gain a better understanding of the logic Bill used I decided to develop a
B10: new 10 Offset Hole version utilizing Bill's work. So with thanks once again to Bill Kloepping here is my version.
B12: My thanks also goes out to Carl Jacobson at Niles Bottle Stopper for his support in allow the distribution
B13: of this program. Please Enjoy!
B15: This spreadsheet was provided unsupported and free of charge to Niles Bottle Stopper from the author,
B16: for the sole purpose to pass on to their customers or other users - free of charge, of course.
B17: If necessary and or if time allows I will provide updated versions to Niles Bottle Stoppers
A19: Author: | B19: Alan E Spears
B20: nature.turned@gmail.com
B21: January 2023
A23: Disclaimer: | B23: Tests show good agreement with plotted patterns and actual patterns made with my jig on a lathe, however,
B24: variations in offset hole positions from jig to jig, as well as variations in measurement and/or turning techniques
B25: may result in noticible deviations between the plotted and the final resultant turned designs.
A27: Introduction: | B27: This spreadsheet will prototype patterns that can be made using the NEW 10-Index Hole Richard Joyner Pendant Jig.
B28: - Up to 24 elements can be patterned at one time on a circular pendant using this spreadsheet.
B29: - It allows selection of all 10 offset holes on the base plate and all 24 index positions on the index plate.
B30: - It allows you to size the pendant and elements to any size you wish (i.e. no scaling is required)
B31: - This worksheet will only display and work in "INCHES"
B32: - It allows you to assign a name to the design and enter notes
B33: - You can print the plotted design with jig setup configurations for each element to use at the lathe.
B34: - You can save the design to a file that can be modified later without having to start from scratch.
A36: Software Notes: | B36: The spreadsheet has been "protected" so you can only enter data into the proper cells for designs.
B37: You can unprotect the sheet if you wish to get to locked cells but you're on your own if you do that.
B39: Aspect ratio differences between different computers/monitors and Excel versions may cause widgets
B40: and/or plots to be distorted. You can resize/move the plot and/or widgets to match your system display.
B41: (you will have to "unprotect" the spreadsheet (from an Excel pull-down menu) to move/resize items)
B43: Calculations are located in the columns starting at the "Q" Column "Pattern" worksheet and have been
B44: hidden to reduce confusion and prevent you from accidentally fat fingering critical data into mush.
B45: You may 'unhide' the columns If you wish to see the computations (you're on your own if you do that…)
A47: Version Info: | B47: 1 | C47: Original release of the 10-Index, 24-Offset Joyner Offset Chuck
B48: 2.0 | C48: 5/2/2026 Excel formulas corrected so the pendant display's the view of the actual cutting pattern from the lathe.

Sheet Formulas
A1: Rotated Offset Hole Coordinates (Summary) | H1: Pendant Outside Shape | N1: Element #: | O1: 1 | U1: Element #: | V1: 2 | AB1: Element #: | AC1: 3 | AI1: Element #: | AJ1: 4 | AP1: Element #: | AQ1: 5 | AW1: Element #: | AX1: 6 | BD1: Element #: | BE1: 7 | BK1: Element #: | BL1: 8 | BR1: Element #: | BS1: 9 | BY1: Element #: | BZ1: 10 | CF1: Element #: | CG1: 11 | CM1: Element #: | CN1: 12 | CT1: Element #: | CU1: 13 | DA1: Element #: | DB1: 14 | DH1: Element #: | DI1: 15 | DO1: Element #: | DP1: 16 | DV1: Element #: | DW1: 17 | EC1: Element #: | ED1: 18 | EJ1: Element #: | EK1: 19 | EQ1: Element #: | ER1: 20 | EX1: Element #: | EY1: 21 | FE1: Element #: | FF1: 22 | FL1: Element #: | FM1: 23 | FS1: Element #: | FT1: 24
A2: Hole # | B2: X | C2: Y | D2: Quad | E2: Angle | F2: Distance | H2: Offset Hole: | I2: =IF(OR('Pattern Entry'!$C$5<1,'Pattern Entry'!$C$5>11),"Error",'Pattern Entry'!$C$5) -> 1 | N2: Offset Hole: | O2: {=INDEX('Pattern Entry'!$C$9:$C$32,O1)} -> 2 | U2: Offset Hole: | V2: {=INDEX('Pattern Entry'!$C$9:$C$32,V1)} -> 2 | AB2: Offset Hole: | AC2: {=INDEX('Pattern Entry'!$C$9:$C$32,AC1)} -> 2 | AI2: Offset Hole: | AJ2: {=INDEX('Pattern Entry'!$C$9:$C$32,AJ1)} -> 2 | AP2: Offset Hole: | AQ2: {=INDEX('Pattern Entry'!$C$9:$C$32,AQ1)} -> 2 | AW2: Offset Hole: | AX2: {=INDEX('Pattern Entry'!$C$9:$C$32,AX1)} -> 2 | BD2: Offset Hole: | BE2: {=INDEX('Pattern Entry'!$C$9:$C$32,BE1)} -> 0 | BK2: Offset Hole: | BL2: {=INDEX('Pattern Entry'!$C$9:$C$32,BL1)} -> 0 | BR2: Offset Hole: | BS2: {=INDEX('Pattern Entry'!$C$9:$C$32,BS1)} -> 0 | BY2: Offset Hole: | BZ2: {=INDEX('Pattern Entry'!$C$9:$C$32,BZ1)} -> 0 | CF2: Offset Hole: | CG2: {=INDEX('Pattern Entry'!$C$9:$C$32,CG1)} -> 0 | CM2: Offset Hole: | CN2: {=INDEX('Pattern Entry'!$C$9:$C$32,CN1)} -> 0 | CT2: Offset Hole: | CU2: {=INDEX('Pattern Entry'!$C$9:$C$32,CU1)} -> 0 | DA2: Offset Hole: | DB2: {=INDEX('Pattern Entry'!$C$9:$C$32,DB1)} -> 0 | DH2: Offset Hole: | DI2: {=INDEX('Pattern Entry'!$C$9:$C$32,DI1)} -> 0 | DO2: Offset Hole: | DP2: {=INDEX('Pattern Entry'!$C$9:$C$32,DP1)} -> 0 | DV2: Offset Hole: | DW2: {=INDEX('Pattern Entry'!$C$9:$C$32,DW1)} -> 0 | EC2: Offset Hole: | ED2: {=INDEX('Pattern Entry'!$C$9:$C$32,ED1)} -> 0 | EJ2: Offset Hole: | EK2: {=INDEX('Pattern Entry'!$C$9:$C$32,EK1)} -> 0 | EQ2: Offset Hole: | ER2: {=INDEX('Pattern Entry'!$C$9:$C$32,ER1)} -> 0 | EX2: Offset Hole: | EY2: {=INDEX('Pattern Entry'!$C$9:$C$32,EY1)} -> 0 | FE2: Offset Hole: | FF2: {=INDEX('Pattern Entry'!$C$9:$C$32,FF1)} -> 0 | FL2: Offset Hole: | FM2: {=INDEX('Pattern Entry'!$C$9:$C$32,FM1)} -> 0 | FS2: Offset Hole: | FT2: {=INDEX('Pattern Entry'!$C$9:$C$32,FT1)} -> 0
A3: 1 | B3: =D18 -> 0 | C3: =E18 -> 0 | D3: =F18 -> 1 | E3: =B18 -> 0 | F3: =C18 -> 0 | H3: Index Hole: | I3: ='Pattern Entry'!D5 -> 0 | K3: Index Angle: | L3: =360-(I3*15) -> 360 | N3: Index Hole: | O3: {=INDEX('Pattern Entry'!$D$9:$D$32,O1)} -> 0 | Q3: Index Angle: | R3: =360-(O3*15) -> 360 | U3: Index Hole: | V3: {=INDEX('Pattern Entry'!$D$9:$D$32,V1)} -> 4 | X3: Index Angle: | Y3: =360-(V3*15) -> 300 | AB3: Index Hole: | AC3: {=INDEX('Pattern Entry'!$D$9:$D$32,AC1)} -> 8 | AE3: Index Angle: | AF3: =360-(AC3*15) -> 240 | AI3: Index Hole: | AJ3: {=INDEX('Pattern Entry'!$D$9:$D$32,AJ1)} -> 12 | AL3: Index Angle: | AM3: =360-(AJ3*15) -> 180 | AP3: Index Hole: | AQ3: {=INDEX('Pattern Entry'!$D$9:$D$32,AQ1)} -> 16 | AS3: Index Angle: | AT3: =360-(AQ3*15) -> 120 | AW3: Index Hole: | AX3: {=INDEX('Pattern Entry'!$D$9:$D$32,AX1)} -> 20 | AZ3: Index Angle: | BA3: =360-(AX3*15) -> 60 | BD3: Index Hole: | BE3: {=INDEX('Pattern Entry'!$D$9:$D$32,BE1)} -> 0 | BG3: Index Angle: | BH3: =360-(BE3*15) -> 360 | BK3: Index Hole: | BL3: {=INDEX('Pattern Entry'!$D$9:$D$32,BL1)} -> 0 | BN3: Index Angle: | BO3: =360-(BL3*15) -> 360 | BR3: Index Hole: | BS3: {=INDEX('Pattern Entry'!$D$9:$D$32,BS1)} -> 0 | BU3: Index Angle: | BV3: =360-(BS3*15) -> 360 | BY3: Index Hole: | BZ3: {=INDEX('Pattern Entry'!$D$9:$D$32,BZ1)} -> 0 | CB3: Index Angle: | CC3: =360-(BZ3*15) -> 360 | CF3: Index Hole: | CG3: {=INDEX('Pattern Entry'!$D$9:$D$32,CG1)} -> 0 | CI3: Index Angle: | CJ3: =360-(CG3*15) -> 360 | CM3: Index Hole: | CN3: {=INDEX('Pattern Entry'!$D$9:$D$32,CN1)} -> 0 | CP3: Index Angle: | CQ3: =360-(CN3*15) -> 360 | CT3: Index Hole: | CU3: {=INDEX('Pattern Entry'!$D$9:$D$32,CU1)} -> 0 | CW3: Index Angle: | CX3: =360-(CU3*15) -> 360 | DA3: Index Hole: | DB3: {=INDEX('Pattern Entry'!$D$9:$D$32,DB1)} -> 0 | DD3: Index Angle: | DE3: =360-(DB3*15) -> 360 | DH3: Index Hole: | DI3: {=INDEX('Pattern Entry'!$D$9:$D$32,DI1)} -> 0 | DK3: Index Angle: | DL3: =360-(DI3*15) -> 360 | DO3: Index Hole: | DP3: {=INDEX('Pattern Entry'!$D$9:$D$32,DP1)} -> 0 | DR3: Index Angle: | DS3: =360-(DP3*15) -> 360 | DV3: Index Hole: | DW3: {=INDEX('Pattern Entry'!$D$9:$D$32,DW1)} -> 0 | DY3: Index Angle: | DZ3: =360-(DW3*15) -> 360 | EC3: Index Hole: | ED3: {=INDEX('Pattern Entry'!$D$9:$D$32,ED1)} -> 0 | EF3: Index Angle: | EG3: =360-(ED3*15) -> 360 | EJ3: Index Hole: | EK3: {=INDEX('Pattern Entry'!$D$9:$D$32,EK1)} -> 0 | EM3: Index Angle: | EN3: =360-(EK3*15) -> 360 | EQ3: Index Hole: | ER3: {=INDEX('Pattern Entry'!$D$9:$D$32,ER1)} -> 0 | ET3: Index Angle: | EU3: =360-(ER3*15) -> 360 | EX3: Index Hole: | EY3: {=INDEX('Pattern Entry'!$D$9:$D$32,EY1)} -> 0 | FA3: Index Angle: | FB3: =360-(EY3*15) -> 360 | FE3: Index Hole: | FF3: {=INDEX('Pattern Entry'!$D$9:$D$32,FF1)} -> 0 | FH3: Index Angle: | FI3: =360-(FF3*15) -> 360 | FL3: Index Hole: | FM3: {=INDEX('Pattern Entry'!$D$9:$D$32,FM1)} -> 0 | FO3: Index Angle: | FP3: =360-(FM3*15) -> 360 | FS3: Index Hole: | FT3: {=INDEX('Pattern Entry'!$D$9:$D$32,FT1)} -> 0 | FV3: Index Angle: | FW3: =360-(FT3*15) -> 360
A4: 2 | B4: =D19 -> -0.15629245 | C4: =E19 -> -0.36820194 | D4: =F19 -> 3 | E4: =B19 -> 247 | F4: =C19 -> 0.4 | H4: Element: | I4: Angle: | J4: {=MOD(INDEX(E3:$E$12,I2)+L3,360)} -> 0 | K4: Distance: | L4: =VLOOKUP(I2,$A$3:$F$12,6) -> 0 | N4: Element: | O4: Angle: | P4: {=MOD(INDEX($E$3:$E$12,O2)+R3,360)} -> 247 | Q4: Distance: | R4: =VLOOKUP(O2,$A$3:$F$12,6) -> 0.4 | U4: Element: | V4: Angle: | W4: {=MOD(INDEX($E$3:$E$12,V2)+Y3,360)} -> 187 | X4: Distance: | Y4: =VLOOKUP(V2,$A$3:$F$12,6) -> 0.4 | AB4: Element: | AC4: Angle: | AD4: {=MOD(INDEX($E$3:$E$12,AC2)+AF3,360)} -> 127 | AE4: Distance: | AF4: =VLOOKUP(AC2,$A$3:$F$12,6) -> 0.4 | AI4: Element: | AJ4: Angle: | AK4: {=MOD(INDEX($E$3:$E$12,AJ2)+AM3,360)} -> 67 | AL4: Distance: | AM4: =VLOOKUP(AJ2,$A$3:$F$12,6) -> 0.4 | AP4: Element: | AQ4: Angle: | AR4: {=MOD(INDEX($E$3:$E$12,AQ2)+AT3,360)} -> 7 | AS4: Distance: | AT4: =VLOOKUP(AQ2,$A$3:$F$12,6) -> 0.4 | AW4: Element: | AX4: Angle: | AY4: {=MOD(INDEX($E$3:$E$12,AX2)+BA3,360)} -> 307 | AZ4: Distance: | BA4: =VLOOKUP(AX2,$A$3:$F$12,6) -> 0.4 | BD4: Element: | BE4: Angle: | BF4: {=MOD(INDEX($E$3:$E$12,BE2)+BH3,360)} -> #VALUE! | BG4: Distance: | BH4: =VLOOKUP(BE2,$A$3:$F$12,6) -> #N/A | BK4: Element: | BL4: Angle: | BM4: {=MOD(INDEX($E$3:$E$12,BL2)+BO3,360)} -> #VALUE! | BN4: Distance: | BO4: =VLOOKUP(BL2,$A$3:$F$12,6) -> #N/A | BR4: Element: | BS4: Angle: | BT4: {=MOD(INDEX($E$3:$E$12,BS2)+BV3,360)} -> #VALUE! | BU4: Distance: | BV4: =VLOOKUP(BS2,$A$3:$F$12,6) -> #N/A | BY4: Element: | BZ4: Angle: | CA4: {=MOD(INDEX($E$3:$E$12,BZ2)+CC3,360)} -> #VALUE! | CB4: Distance: | CC4: =VLOOKUP(BZ2,$A$3:$F$12,6) -> #N/A | CF4: Element: | CG4: Angle: | CH4: {=MOD(INDEX($E$3:$E$12,CG2)+CJ3,360)} -> #VALUE! | CI4: Distance: | CJ4: =VLOOKUP(CG2,$A$3:$F$12,6) -> #N/A | CM4: Element: | CN4: Angle: | CO4: {=MOD(INDEX($E$3:$E$12,CN2)+CQ3,360)} -> #VALUE! | CP4: Distance: | CQ4: =VLOOKUP(CN2,$A$3:$F$12,6) -> #N/A | CT4: Element: | CU4: Angle: | CV4: {=MOD(INDEX($E$3:$E$12,CU2)+CX3,360)} -> #VALUE! | CW4: Distance: | CX4: =VLOOKUP(CU2,$A$3:$F$12,6) -> #N/A | DA4: Element: | DB4: Angle: | DC4: {=MOD(INDEX($E$3:$E$12,DB2)+DE3,360)} -> #VALUE! | DD4: Distance: | DE4: =VLOOKUP(DB2,$A$3:$F$12,6) -> #N/A | DH4: Element: | DI4: Angle: | DJ4: {=MOD(INDEX($E$3:$E$12,DI2)+DL3,360)} -> #VALUE! | DK4: Distance: | DL4: =VLOOKUP(DI2,$A$3:$F$12,6) -> #N/A | DO4: Element: | DP4: Angle: | DQ4: {=MOD(INDEX($E$3:$E$12,DP2)+DS3,360)} -> #VALUE! | DR4: Distance: | DS4: =VLOOKUP(DP2,$A$3:$F$12,6) -> #N/A | DV4: Element: | DW4: Angle: | DX4: {=MOD(INDEX($E$3:$E$12,DW2)+DZ3,360)} -> #VALUE! | DY4: Distance: | DZ4: =VLOOKUP(DW2,$A$3:$F$12,6) -> #N/A | EC4: Element: | ED4: Angle: | EE4: {=MOD(INDEX($E$3:$E$12,ED2)+EG3,360)} -> #VALUE! | EF4: Distance: | EG4: =VLOOKUP(ED2,$A$3:$F$12,6) -> #N/A | EJ4: Element: | EK4: Angle: | EL4: {=MOD(INDEX($E$3:$E$12,EK2)+EN3,360)} -> #VALUE! | EM4: Distance: | EN4: =VLOOKUP(EK2,$A$3:$F$12,6) -> #N/A | EQ4: Element: | ER4: Angle: | ES4: {=MOD(INDEX($E$3:$E$12,ER2)+EU3,360)} -> #VALUE! | ET4: Distance: | EU4: =VLOOKUP(ER2,$A$3:$F$12,6) -> #N/A | EX4: Element: | EY4: Angle: | EZ4: {=MOD(INDEX($E$3:$E$12,EY2)+FB3,360)} -> #VALUE! | FA4: Distance: | FB4: =VLOOKUP(EY2,$A$3:$F$12,6) -> #N/A | FE4: Element: | FF4: Angle: | FG4: {=MOD(INDEX($E$3:$E$12,FF2)+FI3,360)} -> #VALUE! | FH4: Distance: | FI4: =VLOOKUP(FF2,$A$3:$F$12,6) -> #N/A | FL4: Element: | FM4: Angle: | FN4: {=MOD(INDEX($E$3:$E$12,FM2)+FP3,360)} -> #VALUE! | FO4: Distance: | FP4: =VLOOKUP(FM2,$A$3:$F$12,6) -> #N/A | FS4: Element: | FT4: Angle: | FU4: {=MOD(INDEX($E$3:$E$12,FT2)+FW3,360)} -> #VALUE! | FV4: Distance: | FW4: =VLOOKUP(FT2,$A$3:$F$12,6) -> #N/A
A5: 3 | B5: =D20 -> 0.27081676 | C5: =E20 -> -0.35938598 | D5: =F20 -> 4 | E5: =B20 -> 307 | F5: =C20 -> 0.45 | H5: Center Pt: | I5: X - Axis: | J5: =L4*COS(J4*PI()/180) -> 0 | K5: Y - Axis: | L5: =L4*SIN(J4*PI()/180) -> 0 | N5: Center Pt: | O5: X - Axis: | P5: =R4*COS(P4*PI()/180) -> -0.15629245 | Q5: Y - Axis: | R5: =R4*SIN(P4*PI()/180) -> -0.36820194 | U5: Center Pt: | V5: X - Axis: | W5: =Y4*COS(W4*PI()/180) -> -0.39701846 | X5: Y - Axis: | Y5: =Y4*SIN(W4*PI()/180) -> -0.048747737 | AB5: Center Pt: | AC5: X - Axis: | AD5: =AF4*COS(AD4*PI()/180) -> -0.24072601 | AE5: Y - Axis: | AF5: =AF4*SIN(AD4*PI()/180) -> 0.3194542 | AI5: Center Pt: | AJ5: X - Axis: | AK5: =AM4*COS(AK4*PI()/180) -> 0.15629245 | AL5: Y - Axis: | AM5: =AM4*SIN(AK4*PI()/180) -> 0.36820194 | AP5: Center Pt: | AQ5: X - Axis: | AR5: =AT4*COS(AR4*PI()/180) -> 0.39701846 | AS5: Y - Axis: | AT5: =AT4*SIN(AR4*PI()/180) -> 0.048747737 | AW5: Center Pt: | AX5: X - Axis: | AY5: =BA4*COS(AY4*PI()/180) -> 0.24072601 | AZ5: Y - Axis: | BA5: =BA4*SIN(AY4*PI()/180) -> -0.3194542 | BD5: Center Pt: | BE5: X - Axis: | BF5: =BH4*COS(BF4*PI()/180) -> #N/A | BG5: Y - Axis: | BH5: =BH4*SIN(BF4*PI()/180) -> #N/A | BK5: Center Pt: | BL5: X - Axis: | BM5: =BO4*COS(BM4*PI()/180) -> #N/A | BN5: Y - Axis: | BO5: =BO4*SIN(BM4*PI()/180) -> #N/A | BR5: Center Pt: | BS5: X - Axis: | BT5: =BV4*COS(BT4*PI()/180) -> #N/A | BU5: Y - Axis: | BV5: =BV4*SIN(BT4*PI()/180) -> #N/A | BY5: Center Pt: | BZ5: X - Axis: | CA5: =CC4*COS(CA4*PI()/180) -> #N/A | CB5: Y - Axis: | CC5: =CC4*SIN(CA4*PI()/180) -> #N/A | CF5: Center Pt: | CG5: X - Axis: | CH5: =CJ4*COS(CH4*PI()/180) -> #N/A | CI5: Y - Axis: | CJ5: =CJ4*SIN(CH4*PI()/180) -> #N/A | CM5: Center Pt: | CN5: X - Axis: | CO5: =CQ4*COS(CO4*PI()/180) -> #N/A | CP5: Y - Axis: | CQ5: =CQ4*SIN(CO4*PI()/180) -> #N/A | CT5: Center Pt: | CU5: X - Axis: | CV5: =CX4*COS(CV4*PI()/180) -> #N/A | CW5: Y - Axis: | CX5: =CX4*SIN(CV4*PI()/180) -> #N/A | DA5: Center Pt: | DB5: X - Axis: | DC5: =DE4*COS(DC4*PI()/180) -> #N/A | DD5: Y - Axis: | DE5: =DE4*SIN(DC4*PI()/180) -> #N/A | DH5: Center Pt: | DI5: X - Axis: | DJ5: =DL4*COS(DJ4*PI()/180) -> #N/A | DK5: Y - Axis: | DL5: =DL4*SIN(DJ4*PI()/180) -> #N/A | DO5: Center Pt: | DP5: X - Axis: | DQ5: =DS4*COS(DQ4*PI()/180) -> #N/A | DR5: Y - Axis: | DS5: =DS4*SIN(DQ4*PI()/180) -> #N/A | DV5: Center Pt: | DW5: X - Axis: | DX5: =DZ4*COS(DX4*PI()/180) -> #N/A | DY5: Y - Axis: | DZ5: =DZ4*SIN(DX4*PI()/180) -> #N/A | EC5: Center Pt: | ED5: X - Axis: | EE5: =EG4*COS(EE4*PI()/180) -> #N/A | EF5: Y - Axis: | EG5: =EG4*SIN(EE4*PI()/180) -> #N/A | EJ5: Center Pt: | EK5: X - Axis: | EL5: =EN4*COS(EL4*PI()/180) -> #N/A | EM5: Y - Axis: | EN5: =EN4*SIN(EL4*PI()/180) -> #N/A | EQ5: Center Pt: | ER5: X - Axis: | ES5: =EU4*COS(ES4*PI()/180) -> #N/A | ET5: Y - Axis: | EU5: =EU4*SIN(ES4*PI()/180) -> #N/A | EX5: Center Pt: | EY5: X - Axis: | EZ5: =FB4*COS(EZ4*PI()/180) -> #N/A | FA5: Y - Axis: | FB5: =FB4*SIN(EZ4*PI()/180) -> #N/A | FE5: Center Pt: | FF5: X - Axis: | FG5: =FI4*COS(FG4*PI()/180) -> #N/A | FH5: Y - Axis: | FI5: =FI4*SIN(FG4*PI()/180) -> #N/A | FL5: Center Pt: | FM5: X - Axis: | FN5: =FP4*COS(FN4*PI()/180) -> #N/A | FO5: Y - Axis: | FP5: =FP4*SIN(FN4*PI()/180) -> #N/A | FS5: Center Pt: | FT5: X - Axis: | FU5: =FW4*COS(FU4*PI()/180) -> #N/A | FV5: Y - Axis: | FW5: =FW4*SIN(FU4*PI()/180) -> #N/A
A6: 4 | B6: =D21 -> 0.5 | C6: =E21 -> 0 | D6: =F21 -> 1 | E6: =B21 -> 0 | F6: =C21 -> 0.5 | H6: Radius: | I6: ='Pattern Entry'!$E$5 -> 1.5 | N6: Radius: | O6: {=INDEX('Pattern Entry'!$E$9:$E$32,O1)} -> 0.75 | U6: Radius: | V6: {=INDEX('Pattern Entry'!$E$9:$E$32,V1)} -> 0.75 | AB6: Radius: | AC6: {=INDEX('Pattern Entry'!$E$9:$E$32,AC1)} -> 0.75 | AI6: Radius: | AJ6: {=INDEX('Pattern Entry'!$E$9:$E$32,AJ1)} -> 0.75 | AP6: Radius: | AQ6: {=INDEX('Pattern Entry'!$E$9:$E$32,AQ1)} -> 0.75 | AW6: Radius: | AX6: {=INDEX('Pattern Entry'!$E$9:$E$32,AX1)} -> 0.75 | BD6: Radius: | BE6: {=INDEX('Pattern Entry'!$E$9:$E$32,BE1)} -> 0 | BK6: Radius: | BL6: {=INDEX('Pattern Entry'!$E$9:$E$32,BL1)} -> 0 | BR6: Radius: | BS6: {=INDEX('Pattern Entry'!$E$9:$E$32,BS1)} -> 0 | BY6: Radius: | BZ6: {=INDEX('Pattern Entry'!$E$9:$E$32,BZ1)} -> 0 | CF6: Radius: | CG6: {=INDEX('Pattern Entry'!$E$9:$E$32,CG1)} -> 0 | CM6: Radius: | CN6: {=INDEX('Pattern Entry'!$E$9:$E$32,CN1)} -> 0 | CT6: Radius: | CU6: {=INDEX('Pattern Entry'!$E$9:$E$32,CU1)} -> 0 | DA6: Radius: | DB6: {=INDEX('Pattern Entry'!$E$9:$E$32,DB1)} -> 0 | DH6: Radius: | DI6: {=INDEX('Pattern Entry'!$E$9:$E$32,DI1)} -> 0 | DO6: Radius: | DP6: {=INDEX('Pattern Entry'!$E$9:$E$32,DP1)} -> 0 | DV6: Radius: | DW6: {=INDEX('Pattern Entry'!$E$9:$E$32,DW1)} -> 0 | EC6: Radius: | ED6: {=INDEX('Pattern Entry'!$E$9:$E$32,ED1)} -> 0 | EJ6: Radius: | EK6: {=INDEX('Pattern Entry'!$E$9:$E$32,EK1)} -> 0 | EQ6: Radius: | ER6: {=INDEX('Pattern Entry'!$E$9:$E$32,ER1)} -> 0 | EX6: Radius: | EY6: {=INDEX('Pattern Entry'!$E$9:$E$32,EY1)} -> 0 | FE6: Radius: | FF6: {=INDEX('Pattern Entry'!$E$9:$E$32,FF1)} -> 0 | FL6: Radius: | FM6: {=INDEX('Pattern Entry'!$E$9:$E$32,FM1)} -> 0 | FS6: Radius: | FT6: {=INDEX('Pattern Entry'!$E$9:$E$32,FT1)} -> 0
A7: 5 | B7: =D22 -> 0.3750991 | C7: =E22 -> 0.40224454 | D7: =F22 -> 1 | E7: =B22 -> 47 | F7: =C22 -> 0.55 | H7: Points In The Circle | N7: Points In The Circle | R7: Plot Data For Graph | U7: Points In The Circle | Y7: Plot Data For Graph | AB7: Points In The Circle | AF7: Plot Data For Graph | AI7: Points In The Circle | AM7: Plot Data For Graph | AP7: Points In The Circle | AT7: Plot Data For Graph | AW7: Points In The Circle | BA7: Plot Data For Graph | BD7: Points In The Circle | BH7: Plot Data For Graph | BK7: Points In The Circle | BO7: Plot Data For Graph | BR7: Points In The Circle | BV7: Plot Data For Graph | BY7: Points In The Circle | CC7: Plot Data For Graph | CF7: Points In The Circle | CJ7: Plot Data For Graph | CM7: Points In The Circle | CQ7: Plot Data For Graph | CT7: Points In The Circle | CX7: Plot Data For Graph | DA7: Points In The Circle | DE7: Plot Data For Graph | DH7: Points In The Circle | DL7: Plot Data For Graph | DO7: Points In The Circle | DS7: Plot Data For Graph | DV7: Points In The Circle | DZ7: Plot Data For Graph | EC7: Points In The Circle | EG7: Plot Data For Graph | EJ7: Points In The Circle | EN7: Plot Data For Graph | EQ7: Points In The Circle | EU7: Plot Data For Graph | EX7: Points In The Circle | FB7: Plot Data For Graph | FE7: Points In The Circle | FI7: Plot Data For Graph | FL7: Points In The Circle | FP7: Plot Data For Graph | FS7: Points In The Circle | FW7: Plot Data For Graph
A8: 6 | B8: =D23 -> 3.6739404e-17 | C8: =E23 -> 0.6 | D8: =F23 -> 2 | E8: =B23 -> 90 | F8: =C23 -> 0.6 | H8: Angle | I8: X-Axis | J8: Y-Axis | N8: Angle | O8: X-Axis | P8: Y-Axis | Q8: Plot? | R8: X-Axis | S8: Y-Axis | U8: Angle | V8: X-Axis | W8: Y-Axis | X8: Plot? | Y8: X-Axis | Z8: Y-Axis | AB8: Angle | AC8: X-Axis | AD8: Y-Axis | AE8: Plot? | AF8: X-Axis | AG8: Y-Axis | AI8: Angle | AJ8: X-Axis | AK8: Y-Axis | AL8: Plot? | AM8: X-Axis | AN8: Y-Axis | AP8: Angle | AQ8: X-Axis | AR8: Y-Axis | AS8: Plot? | AT8: X-Axis | AU8: Y-Axis | AW8: Angle | AX8: X-Axis | AY8: Y-Axis | AZ8: Plot? | BA8: X-Axis | BB8: Y-Axis | BD8: Angle | BE8: X-Axis | BF8: Y-Axis | BG8: Plot? | BH8: X-Axis | BI8: Y-Axis | BK8: Angle | BL8: X-Axis | BM8: Y-Axis | BN8: Plot? | BO8: X-Axis | BP8: Y-Axis | BR8: Angle | BS8: X-Axis | BT8: Y-Axis | BU8: Plot? | BV8: X-Axis | BW8: Y-Axis | BY8: Angle | BZ8: X-Axis | CA8: Y-Axis | CB8: Plot? | CC8: X-Axis | CD8: Y-Axis | CF8: Angle | CG8: X-Axis | CH8: Y-Axis | CI8: Plot? | CJ8: X-Axis | CK8: Y-Axis | CM8: Angle | CN8: X-Axis | CO8: Y-Axis | CP8: Plot? | CQ8: X-Axis | CR8: Y-Axis | CT8: Angle | CU8: X-Axis | CV8: Y-Axis | CW8: Plot? | CX8: X-Axis | CY8: Y-Axis | DA8: Angle | DB8: X-Axis | DC8: Y-Axis | DD8: Plot? | DE8: X-Axis | DF8: Y-Axis | DH8: Angle | DI8: X-Axis | DJ8: Y-Axis | DK8: Plot? | DL8: X-Axis | DM8: Y-Axis | DO8: Angle | DP8: X-Axis | DQ8: Y-Axis | DR8: Plot? | DS8: X-Axis | DT8: Y-Axis | DV8: Angle | DW8: X-Axis | DX8: Y-Axis | DY8: Plot? | DZ8: X-Axis | EA8: Y-Axis | EC8: Angle | ED8: X-Axis | EE8: Y-Axis | EF8: Plot? | EG8: X-Axis | EH8: Y-Axis | EJ8: Angle | EK8: X-Axis | EL8: Y-Axis | EM8: Plot? | EN8: X-Axis | EO8: Y-Axis | EQ8: Angle | ER8: X-Axis | ES8: Y-Axis | ET8: Plot? | EU8: X-Axis | EV8: Y-Axis | EX8: Angle | EY8: X-Axis | EZ8: Y-Axis | FA8: Plot? | FB8: X-Axis | FC8: Y-Axis | FE8: Angle | FF8: X-Axis | FG8: Y-Axis | FH8: Plot? | FI8: X-Axis | FJ8: Y-Axis | FL8: Angle | FM8: X-Axis | FN8: Y-Axis | FO8: Plot? | FP8: X-Axis | FQ8: Y-Axis | FS8: Angle | FT8: X-Axis | FU8: Y-Axis | FV8: Plot? | FW8: X-Axis | FX8: Y-Axis
A9: 7 | B9: =D24 -> -0.41781195 | C9: =E24 -> 0.49792889 | D9: =F24 -> 2 | E9: =B24 -> 130 | F9: =C24 -> 0.65 | H9: 0 | I9: =$I$6*COS(H9*PI()/180)+$J$5 -> 1.5 | J9: =$I$6*SIN(H9*PI()/180)+$L$5 -> 0 | N9: 0 | O9: =O$6*COS(N9*PI()/180)+P$5 -> 0.59370755 | P9: =O$6*SIN(N9*PI()/180)+R$5 -> -0.36820194 | Q9: =IF(SQRT((O9-$J$5)^2+(P9-$L$5)^2)<$I$6,1,0) -> 1 | R9: =O9*Q9 -> 0.59370755 | S9: =P9*Q9 -> -0.36820194 | U9: 0 | V9: =V$6*COS(U9*PI()/180)+W$5 -> 0.35298154 | W9: =V$6*SIN(U9*PI()/180)+Y$5 -> -0.048747737 | X9: =IF(SQRT((V9-$J$5)^2+(W9-$L$5)^2)<$I$6,1,0) -> 1 | Y9: =V9*X9 -> 0.35298154 | Z9: =W9*X9 -> -0.048747737 | AB9: 0 | AC9: =AC$6*COS(AB9*PI()/180)+AD$5 -> 0.50927399 | AD9: =AC$6*SIN(AB9*PI()/180)+AF$5 -> 0.3194542 | AE9: =IF(SQRT((AC9-$J$5)^2+(AD9-$L$5)^2)<$I$6,1,0) -> 1 | AF9: =AC9*AE9 -> 0.50927399 | AG9: =AD9*AE9 -> 0.3194542 | AI9: 0 | AJ9: =AJ$6*COS(AI9*PI()/180)+AK$5 -> 0.90629245 | AK9: =AJ$6*SIN(AI9*PI()/180)+AM$5 -> 0.36820194 | AL9: =IF(SQRT((AJ9-$J$5)^2+(AK9-$L$5)^2)<$I$6,1,0) -> 1 | AM9: =AJ9*AL9 -> 0.90629245 | AN9: =AK9*AL9 -> 0.36820194 | AP9: 0 | AQ9: =AQ$6*COS(AP9*PI()/180)+AR$5 -> 1.1470185 | AR9: =AQ$6*SIN(AP9*PI()/180)+AT$5 -> 0.048747737 | AS9: =IF(SQRT((AQ9-$J$5)^2+(AR9-$L$5)^2)<$I$6,1,0) -> 1 | AT9: =AQ9*AS9 -> 1.1470185 | AU9: =AR9*AS9 -> 0.048747737 | AW9: 0 | AX9: =AX$6*COS(AW9*PI()/180)+AY$5 -> 0.99072601 | AY9: =AX$6*SIN(AW9*PI()/180)+BA$5 -> -0.3194542 | AZ9: =IF(SQRT((AX9-$J$5)^2+(AY9-$L$5)^2)<$I$6,1,0) -> 1 | BA9: =AX9*AZ9 -> 0.99072601 | BB9: =AY9*AZ9 -> -0.3194542 | BD9: 0 | BE9: =BE$6*COS(BD9*PI()/180)+BF$5 -> #N/A | BF9: =BE$6*SIN(BD9*PI()/180)+BH$5 -> #N/A | BG9: =IF(SQRT((BE9-$J$5)^2+(BF9-$L$5)^2)<$I$6,1,0) -> #N/A | BH9: =BE9*BG9 -> #N/A | BI9: =BF9*BG9 -> #N/A | BK9: 0 | BL9: =BL$6*COS(BK9*PI()/180)+BM$5 -> #N/A | BM9: =BL$6*SIN(BK9*PI()/180)+BO$5 -> #N/A | BN9: =IF(SQRT((BL9-$J$5)^2+(BM9-$L$5)^2)<$I$6,1,0) -> #N/A | BO9: =BL9*BN9 -> #N/A | BP9: =BM9*BN9 -> #N/A | BR9: 0 | BS9: =BS$6*COS(BR9*PI()/180)+BT$5 -> #N/A | BT9: =BS$6*SIN(BR9*PI()/180)+BV$5 -> #N/A | BU9: =IF(SQRT((BS9-$J$5)^2+(BT9-$L$5)^2)<$I$6,1,0) -> #N/A | BV9: =BS9*BU9 -> #N/A | BW9: =BT9*BU9 -> #N/A | BY9: 0 | BZ9: =BZ$6*COS(BY9*PI()/180)+CA$5 -> #N/A | CA9: =BZ$6*SIN(BY9*PI()/180)+CC$5 -> #N/A | CB9: =IF(SQRT((BZ9-$J$5)^2+(CA9-$L$5)^2)<$I$6,1,0) -> #N/A | CC9: =BZ9*CB9 -> #N/A | CD9: =CA9*CB9 -> #N/A | CF9: 0 | CG9: =CG$6*COS(CF9*PI()/180)+CH$5 -> #N/A | CH9: =CG$6*SIN(CF9*PI()/180)+CJ$5 -> #N/A | CI9: =IF(SQRT((CG9-$J$5)^2+(CH9-$L$5)^2)<$I$6,1,0) -> #N/A | CJ9: =CG9*CI9 -> #N/A | CK9: =CH9*CI9 -> #N/A | CM9: 0 | CN9: =CN$6*COS(CM9*PI()/180)+CO$5 -> #N/A | CO9: =CN$6*SIN(CM9*PI()/180)+CQ$5 -> #N/A | CP9: =IF(SQRT((CN9-$J$5)^2+(CO9-$L$5)^2)<$I$6,1,0) -> #N/A | CQ9: =CN9*CP9 -> #N/A | CR9: =CO9*CP9 -> #N/A | CT9: 0 | CU9: =CU$6*COS(CT9*PI()/180)+CV$5 -> #N/A | CV9: =CU$6*SIN(CT9*PI()/180)+CX$5 -> #N/A | CW9: =IF(SQRT((CU9-$J$5)^2+(CV9-$L$5)^2)<$I$6,1,0) -> #N/A | CX9: =CU9*CW9 -> #N/A | CY9: =CV9*CW9 -> #N/A | DA9: 0 | DB9: =DB$6*COS(DA9*PI()/180)+DC$5 -> #N/A | DC9: =DB$6*SIN(DA9*PI()/180)+DE$5 -> #N/A | DD9: =IF(SQRT((DB9-$J$5)^2+(DC9-$L$5)^2)<$I$6,1,0) -> #N/A | DE9: =DB9*DD9 -> #N/A | DF9: =DC9*DD9 -> #N/A | DH9: 0 | DI9: =DI$6*COS(DH9*PI()/180)+DJ$5 -> #N/A | DJ9: =DI$6*SIN(DH9*PI()/180)+DL$5 -> #N/A | DK9: =IF(SQRT((DI9-$J$5)^2+(DJ9-$L$5)^2)<$I$6,1,0) -> #N/A | DL9: =DI9*DK9 -> #N/A | DM9: =DJ9*DK9 -> #N/A | DO9: 0 | DP9: =DP$6*COS(DO9*PI()/180)+DQ$5 -> #N/A | DQ9: =DP$6*SIN(DO9*PI()/180)+DS$5 -> #N/A | DR9: =IF(SQRT((DP9-$J$5)^2+(DQ9-$L$5)^2)<$I$6,1,0) -> #N/A | DS9: =DP9*DR9 -> #N/A | DT9: =DQ9*DR9 -> #N/A | DV9: 0 | DW9: =DW$6*COS(DV9*PI()/180)+DX$5 -> #N/A | DX9: =DW$6*SIN(DV9*PI()/180)+DZ$5 -> #N/A | DY9: =IF(SQRT((DW9-$J$5)^2+(DX9-$L$5)^2)<$I$6,1,0) -> #N/A | DZ9: =DW9*DY9 -> #N/A | EA9: =DX9*DY9 -> #N/A | EC9: 0 | ED9: =ED$6*COS(EC9*PI()/180)+EE$5 -> #N/A | EE9: =ED$6*SIN(EC9*PI()/180)+EG$5 -> #N/A | EF9: =IF(SQRT((ED9-$J$5)^2+(EE9-$L$5)^2)<$I$6,1,0) -> #N/A | EG9: =ED9*EF9 -> #N/A | EH9: =EE9*EF9 -> #N/A | EJ9: 0 | EK9: =EK$6*COS(EJ9*PI()/180)+EL$5 -> #N/A | EL9: =EK$6*SIN(EJ9*PI()/180)+EN$5 -> #N/A | EM9: =IF(SQRT((EK9-$J$5)^2+(EL9-$L$5)^2)<$I$6,1,0) -> #N/A | EN9: =EK9*EM9 -> #N/A | EO9: =EL9*EM9 -> #N/A | EQ9: 0 | ER9: =ER$6*COS(EQ9*PI()/180)+ES$5 -> #N/A | ES9: =ER$6*SIN(EQ9*PI()/180)+EU$5 -> #N/A | ET9: =IF(SQRT((ER9-$J$5)^2+(ES9-$L$5)^2)<$I$6,1,0) -> #N/A | EU9: =ER9*ET9 -> #N/A | EV9: =ES9*ET9 -> #N/A | EX9: 0 | EY9: =EY$6*COS(EX9*PI()/180)+EZ$5 -> #N/A | EZ9: =EY$6*SIN(EX9*PI()/180)+FB$5 -> #N/A | FA9: =IF(SQRT((EY9-$J$5)^2+(EZ9-$L$5)^2)<$I$6,1,0) -> #N/A | FB9: =EY9*FA9 -> #N/A | FC9: =EZ9*FA9 -> #N/A | FE9: 0 | FF9: =FF$6*COS(FE9*PI()/180)+FG$5 -> #N/A | FG9: =FF$6*SIN(FE9*PI()/180)+FI$5 -> #N/A | FH9: =IF(SQRT((FF9-$J$5)^2+(FG9-$L$5)^2)<$I$6,1,0) -> #N/A | FI9: =FF9*FH9 -> #N/A | FJ9: =FG9*FH9 -> #N/A | FL9: 0 | FM9: =FM$6*COS(FL9*PI()/180)+FN$5 -> #N/A | FN9: =FM$6*SIN(FL9*PI()/180)+FP$5 -> #N/A | FO9: =IF(SQRT((FM9-$J$5)^2+(FN9-$L$5)^2)<$I$6,1,0) -> #N/A | FP9: =FM9*FO9 -> #N/A | FQ9: =FN9*FO9 -> #N/A | FS9: 0 | FT9: =FT$6*COS(FS9*PI()/180)+FU$5 -> #N/A | FU9: =FT$6*SIN(FS9*PI()/180)+FW$5 -> #N/A | FV9: =IF(SQRT((FT9-$J$5)^2+(FU9-$L$5)^2)<$I$6,1,0) -> #N/A | FW9: =FT9*FV9 -> #N/A | FX9: =FU9*FV9 -> #N/A
A10: 8 | B10: =D25 -> -0.67920701 | C10: =E25 -> 0.16934533 | D10: =F25 -> 2 | E10: =B25 -> 166 | F10: =C25 -> 0.7 | H10: 1 | I10: =$I$6*COS(H10*PI()/180)+$J$5 -> 1.4997715 | J10: =$I$6*SIN(H10*PI()/180)+$L$5 -> 0.02617861 | N10: 1 | O10: =$O$6*COS($N10*PI()/180)+$P$5 -> 0.59359332 | P10: =$O$6*SIN($N10*PI()/180)+$R$5 -> -0.35511264 | Q10: =IF(SQRT((O10-$J$5)^2+(P10-$L$5)^2)<$I$6,1,0) -> 1 | R10: =O10*Q10 -> 0.59359332 | S10: =P10*Q10 -> -0.35511264 | U10: 1 | V10: =V$6*COS(U10*PI()/180)+W$5 -> 0.35286731 | W10: =V$6*SIN(U10*PI()/180)+Y$5 -> -0.035658433 | X10: =IF(SQRT((V10-$J$5)^2+(W10-$L$5)^2)<$I$6,1,0) -> 1 | Y10: =V10*X10 -> 0.35286731 | Z10: =W10*X10 -> -0.035658433 | AB10: 1 | AC10: =AC$6*COS(AB10*PI()/180)+AD$5 -> 0.50915976 | AD10: =AC$6*SIN(AB10*PI()/180)+AF$5 -> 0.33254351 | AE10: =IF(SQRT((AC10-$J$5)^2+(AD10-$L$5)^2)<$I$6,1,0) -> 1 | AF10: =AC10*AE10 -> 0.50915976 | AG10: =AD10*AE10 -> 0.33254351 | AI10: 1 | AJ10: =AJ$6*COS(AI10*PI()/180)+AK$5 -> 0.90617822 | AK10: =AJ$6*SIN(AI10*PI()/180)+AM$5 -> 0.38129125 | AL10: =IF(SQRT((AJ10-$J$5)^2+(AK10-$L$5)^2)<$I$6,1,0) -> 1 | AM10: =AJ10*AL10 -> 0.90617822 | AN10: =AK10*AL10 -> 0.38129125 | AP10: 1 | AQ10: =AQ$6*COS(AP10*PI()/180)+AR$5 -> 1.1469042 | AR10: =AQ$6*SIN(AP10*PI()/180)+AT$5 -> 0.061837042 | AS10: =IF(SQRT((AQ10-$J$5)^2+(AR10-$L$5)^2)<$I$6,1,0) -> 1 | AT10: =AQ10*AS10 -> 1.1469042 | AU10: =AR10*AS10 -> 0.061837042 | AW10: 1 | AX10: =AX$6*COS(AW10*PI()/180)+AY$5 -> 0.99061178 | AY10: =AX$6*SIN(AW10*PI()/180)+BA$5 -> -0.3063649 | AZ10: =IF(SQRT((AX10-$J$5)^2+(AY10-$L$5)^2)<$I$6,1,0) -> 1 | BA10: =AX10*AZ10 -> 0.99061178 | BB10: =AY10*AZ10 -> -0.3063649 | BD10: 1 | BE10: =BE$6*COS(BD10*PI()/180)+BF$5 -> #N/A | BF10: =BE$6*SIN(BD10*PI()/180)+BH$5 -> #N/A | BG10: =IF(SQRT((BE10-$J$5)^2+(BF10-$L$5)^2)<$I$6,1,0) -> #N/A | BH10: =BE10*BG10 -> #N/A | BI10: =BF10*BG10 -> #N/A | BK10: 1 | BL10: =BL$6*COS(BK10*PI()/180)+BM$5 -> #N/A | BM10: =BL$6*SIN(BK10*PI()/180)+BO$5 -> #N/A | BN10: =IF(SQRT((BL10-$J$5)^2+(BM10-$L$5)^2)<$I$6,1,0) -> #N/A | BO10: =BL10*BN10 -> #N/A | BP10: =BM10*BN10 -> #N/A | BR10: 1 | BS10: =BS$6*COS(BR10*PI()/180)+BT$5 -> #N/A | BT10: =BS$6*SIN(BR10*PI()/180)+BV$5 -> #N/A | BU10: =IF(SQRT((BS10-$J$5)^2+(BT10-$L$5)^2)<$I$6,1,0) -> #N/A | BV10: =BS10*BU10 -> #N/A | BW10: =BT10*BU10 -> #N/A | BY10: 1 | BZ10: =BZ$6*COS(BY10*PI()/180)+CA$5 -> #N/A | CA10: =BZ$6*SIN(BY10*PI()/180)+CC$5 -> #N/A | CB10: =IF(SQRT((BZ10-$J$5)^2+(CA10-$L$5)^2)<$I$6,1,0) -> #N/A | CC10: =BZ10*CB10 -> #N/A | CD10: =CA10*CB10 -> #N/A | CF10: 1 | CG10: =CG$6*COS(CF10*PI()/180)+CH$5 -> #N/A | CH10: =CG$6*SIN(CF10*PI()/180)+CJ$5 -> #N/A | CI10: =IF(SQRT((CG10-$J$5)^2+(CH10-$L$5)^2)<$I$6,1,0) -> #N/A | CJ10: =CG10*CI10 -> #N/A | CK10: =CH10*CI10 -> #N/A | CM10: 1 | CN10: =CN$6*COS(CM10*PI()/180)+CO$5 -> #N/A | CO10: =CN$6*SIN(CM10*PI()/180)+CQ$5 -> #N/A | CP10: =IF(SQRT((CN10-$J$5)^2+(CO10-$L$5)^2)<$I$6,1,0) -> #N/A | CQ10: =CN10*CP10 -> #N/A | CR10: =CO10*CP10 -> #N/A | CT10: 1 | CU10: =CU$6*COS(CT10*PI()/180)+CV$5 -> #N/A | CV10: =CU$6*SIN(CT10*PI()/180)+CX$5 -> #N/A | CW10: =IF(SQRT((CU10-$J$5)^2+(CV10-$L$5)^2)<$I$6,1,0) -> #N/A | CX10: =CU10*CW10 -> #N/A | CY10: =CV10*CW10 -> #N/A | DA10: 1 | DB10: =DB$6*COS(DA10*PI()/180)+DC$5 -> #N/A | DC10: =DB$6*SIN(DA10*PI()/180)+DE$5 -> #N/A | DD10: =IF(SQRT((DB10-$J$5)^2+(DC10-$L$5)^2)<$I$6,1,0) -> #N/A | DE10: =DB10*DD10 -> #N/A | DF10: =DC10*DD10 -> #N/A | DH10: 1 | DI10: =DI$6*COS(DH10*PI()/180)+DJ$5 -> #N/A | DJ10: =DI$6*SIN(DH10*PI()/180)+DL$5 -> #N/A | DK10: =IF(SQRT((DI10-$J$5)^2+(DJ10-$L$5)^2)<$I$6,1,0) -> #N/A | DL10: =DI10*DK10 -> #N/A | DM10: =DJ10*DK10 -> #N/A | DO10: 1 | DP10: =DP$6*COS(DO10*PI()/180)+DQ$5 -> #N/A | DQ10: =DP$6*SIN(DO10*PI()/180)+DS$5 -> #N/A | DR10: =IF(SQRT((DP10-$J$5)^2+(DQ10-$L$5)^2)<$I$6,1,0) -> #N/A | DS10: =DP10*DR10 -> #N/A | DT10: =DQ10*DR10 -> #N/A | DV10: 1 | DW10: =DW$6*COS(DV10*PI()/180)+DX$5 -> #N/A | DX10: =DW$6*SIN(DV10*PI()/180)+DZ$5 -> #N/A | DY10: =IF(SQRT((DW10-$J$5)^2+(DX10-$L$5)^2)<$I$6,1,0) -> #N/A | DZ10: =DW10*DY10 -> #N/A | EA10: =DX10*DY10 -> #N/A | EC10: 1 | ED10: =ED$6*COS(EC10*PI()/180)+EE$5 -> #N/A | EE10: =ED$6*SIN(EC10*PI()/180)+EG$5 -> #N/A | EF10: =IF(SQRT((ED10-$J$5)^2+(EE10-$L$5)^2)<$I$6,1,0) -> #N/A | EG10: =ED10*EF10 -> #N/A | EH10: =EE10*EF10 -> #N/A | EJ10: 1 | EK10: =EK$6*COS(EJ10*PI()/180)+EL$5 -> #N/A | EL10: =EK$6*SIN(EJ10*PI()/180)+EN$5 -> #N/A | EM10: =IF(SQRT((EK10-$J$5)^2+(EL10-$L$5)^2)<$I$6,1,0) -> #N/A | EN10: =EK10*EM10 -> #N/A | EO10: =EL10*EM10 -> #N/A | EQ10: 1 | ER10: =ER$6*COS(EQ10*PI()/180)+ES$5 -> #N/A | ES10: =ER$6*SIN(EQ10*PI()/180)+EU$5 -> #N/A | ET10: =IF(SQRT((ER10-$J$5)^2+(ES10-$L$5)^2)<$I$6,1,0) -> #N/A | EU10: =ER10*ET10 -> #N/A | EV10: =ES10*ET10 -> #N/A | EX10: 1 | EY10: =EY$6*COS(EX10*PI()/180)+EZ$5 -> #N/A | EZ10: =EY$6*SIN(EX10*PI()/180)+FB$5 -> #N/A | FA10: =IF(SQRT((EY10-$J$5)^2+(EZ10-$L$5)^2)<$I$6,1,0) -> #N/A | FB10: =EY10*FA10 -> #N/A | FC10: =EZ10*FA10 -> #N/A | FE10: 1 | FF10: =FF$6*COS(FE10*PI()/180)+FG$5 -> #N/A | FG10: =FF$6*SIN(FE10*PI()/180)+FI$5 -> #N/A | FH10: =IF(SQRT((FF10-$J$5)^2+(FG10-$L$5)^2)<$I$6,1,0) -> #N/A | FI10: =FF10*FH10 -> #N/A | FJ10: =FG10*FH10 -> #N/A | FL10: 1 | FM10: =FM$6*COS(FL10*PI()/180)+FN$5 -> #N/A | FN10: =FM$6*SIN(FL10*PI()/180)+FP$5 -> #N/A | FO10: =IF(SQRT((FM10-$J$5)^2+(FN10-$L$5)^2)<$I$6,1,0) -> #N/A | FP10: =FM10*FO10 -> #N/A | FQ10: =FN10*FO10 -> #N/A | FS10: 1 | FT10: =FT$6*COS(FS10*PI()/180)+FU$5 -> #N/A | FU10: =FT$6*SIN(FS10*PI()/180)+FW$5 -> #N/A | FV10: =IF(SQRT((FT10-$J$5)^2+(FU10-$L$5)^2)<$I$6,1,0) -> #N/A | FW10: =FT10*FV10 -> #N/A | FX10: =FU10*FV10 -> #N/A
A11: 9 | B11: =D26 -> -0.70476947 | C11: =E26 -> -0.25651511 | D11: =F26 -> 3 | E11: =B26 -> 200 | F11: =C26 -> 0.75 | H11: 2 | I11: =$I$6*COS(H11*PI()/180)+$J$5 -> 1.4990862 | J11: =$I$6*SIN(H11*PI()/180)+$L$5 -> 0.052349245 | N11: 2 | O11: =$O$6*COS($N11*PI()/180)+$P$5 -> 0.59325067 | P11: =$O$6*SIN($N11*PI()/180)+$R$5 -> -0.34202732 | Q11: =IF(SQRT((O11-$J$5)^2+(P11-$L$5)^2)<$I$6,1,0) -> 1 | R11: =O11*Q11 -> 0.59325067 | S11: =P11*Q11 -> -0.34202732 | U11: 2 | V11: =V$6*COS(U11*PI()/180)+W$5 -> 0.35252466 | W11: =V$6*SIN(U11*PI()/180)+Y$5 -> -0.022573115 | X11: =IF(SQRT((V11-$J$5)^2+(W11-$L$5)^2)<$I$6,1,0) -> 1 | Y11: =V11*X11 -> 0.35252466 | Z11: =W11*X11 -> -0.022573115 | AB11: 2 | AC11: =AC$6*COS(AB11*PI()/180)+AD$5 -> 0.50881711 | AD11: =AC$6*SIN(AB11*PI()/180)+AF$5 -> 0.34562883 | AE11: =IF(SQRT((AC11-$J$5)^2+(AD11-$L$5)^2)<$I$6,1,0) -> 1 | AF11: =AC11*AE11 -> 0.50881711 | AG11: =AD11*AE11 -> 0.34562883 | AI11: 2 | AJ11: =AJ$6*COS(AI11*PI()/180)+AK$5 -> 0.90583557 | AK11: =AJ$6*SIN(AI11*PI()/180)+AM$5 -> 0.39437656 | AL11: =IF(SQRT((AJ11-$J$5)^2+(AK11-$L$5)^2)<$I$6,1,0) -> 1 | AM11: =AJ11*AL11 -> 0.90583557 | AN11: =AK11*AL11 -> 0.39437656 | AP11: 2 | AQ11: =AQ$6*COS(AP11*PI()/180)+AR$5 -> 1.1465616 | AR11: =AQ$6*SIN(AP11*PI()/180)+AT$5 -> 0.07492236 | AS11: =IF(SQRT((AQ11-$J$5)^2+(AR11-$L$5)^2)<$I$6,1,0) -> 1 | AT11: =AQ11*AS11 -> 1.1465616 | AU11: =AR11*AS11 -> 0.07492236 | AW11: 2 | AX11: =AX$6*COS(AW11*PI()/180)+AY$5 -> 0.99026913 | AY11: =AX$6*SIN(AW11*PI()/180)+BA$5 -> -0.29327958 | AZ11: =IF(SQRT((AX11-$J$5)^2+(AY11-$L$5)^2)<$I$6,1,0) -> 1 | BA11: =AX11*AZ11 -> 0.99026913 | BB11: =AY11*AZ11 -> -0.29327958 | BD11: 2 | BE11: =BE$6*COS(BD11*PI()/180)+BF$5 -> #N/A | BF11: =BE$6*SIN(BD11*PI()/180)+BH$5 -> #N/A | BG11: =IF(SQRT((BE11-$J$5)^2+(BF11-$L$5)^2)<$I$6,1,0) -> #N/A | BH11: =BE11*BG11 -> #N/A | BI11: =BF11*BG11 -> #N/A | BK11: 2 | BL11: =BL$6*COS(BK11*PI()/180)+BM$5 -> #N/A | BM11: =BL$6*SIN(BK11*PI()/180)+BO$5 -> #N/A | BN11: =IF(SQRT((BL11-$J$5)^2+(BM11-$L$5)^2)<$I$6,1,0) -> #N/A | BO11: =BL11*BN11 -> #N/A | BP11: =BM11*BN11 -> #N/A | BR11: 2 | BS11: =BS$6*COS(BR11*PI()/180)+BT$5 -> #N/A | BT11: =BS$6*SIN(BR11*PI()/180)+BV$5 -> #N/A | BU11: =IF(SQRT((BS11-$J$5)^2+(BT11-$L$5)^2)<$I$6,1,0) -> #N/A | BV11: =BS11*BU11 -> #N/A | BW11: =BT11*BU11 -> #N/A | BY11: 2 | BZ11: =BZ$6*COS(BY11*PI()/180)+CA$5 -> #N/A | CA11: =BZ$6*SIN(BY11*PI()/180)+CC$5 -> #N/A | CB11: =IF(SQRT((BZ11-$J$5)^2+(CA11-$L$5)^2)<$I$6,1,0) -> #N/A | CC11: =BZ11*CB11 -> #N/A | CD11: =CA11*CB11 -> #N/A | CF11: 2 | CG11: =CG$6*COS(CF11*PI()/180)+CH$5 -> #N/A | CH11: =CG$6*SIN(CF11*PI()/180)+CJ$5 -> #N/A | CI11: =IF(SQRT((CG11-$J$5)^2+(CH11-$L$5)^2)<$I$6,1,0) -> #N/A | CJ11: =CG11*CI11 -> #N/A | CK11: =CH11*CI11 -> #N/A | CM11: 2 | CN11: =CN$6*COS(CM11*PI()/180)+CO$5 -> #N/A | CO11: =CN$6*SIN(CM11*PI()/180)+CQ$5 -> #N/A | CP11: =IF(SQRT((CN11-$J$5)^2+(CO11-$L$5)^2)<$I$6,1,0) -> #N/A | CQ11: =CN11*CP11 -> #N/A | CR11: =CO11*CP11 -> #N/A | CT11: 2 | CU11: =CU$6*COS(CT11*PI()/180)+CV$5 -> #N/A | CV11: =CU$6*SIN(CT11*PI()/180)+CX$5 -> #N/A | CW11: =IF(SQRT((CU11-$J$5)^2+(CV11-$L$5)^2)<$I$6,1,0) -> #N/A | CX11: =CU11*CW11 -> #N/A | CY11: =CV11*CW11 -> #N/A | DA11: 2 | DB11: =DB$6*COS(DA11*PI()/180)+DC$5 -> #N/A | DC11: =DB$6*SIN(DA11*PI()/180)+DE$5 -> #N/A | DD11: =IF(SQRT((DB11-$J$5)^2+(DC11-$L$5)^2)<$I$6,1,0) -> #N/A | DE11: =DB11*DD11 -> #N/A | DF11: =DC11*DD11 -> #N/A | DH11: 2 | DI11: =DI$6*COS(DH11*PI()/180)+DJ$5 -> #N/A | DJ11: =DI$6*SIN(DH11*PI()/180)+DL$5 -> #N/A | DK11: =IF(SQRT((DI11-$J$5)^2+(DJ11-$L$5)^2)<$I$6,1,0) -> #N/A | DL11: =DI11*DK11 -> #N/A | DM11: =DJ11*DK11 -> #N/A | DO11: 2 | DP11: =DP$6*COS(DO11*PI()/180)+DQ$5 -> #N/A | DQ11: =DP$6*SIN(DO11*PI()/180)+DS$5 -> #N/A | DR11: =IF(SQRT((DP11-$J$5)^2+(DQ11-$L$5)^2)<$I$6,1,0) -> #N/A | DS11: =DP11*DR11 -> #N/A | DT11: =DQ11*DR11 -> #N/A | DV11: 2 | DW11: =DW$6*COS(DV11*PI()/180)+DX$5 -> #N/A | DX11: =DW$6*SIN(DV11*PI()/180)+DZ$5 -> #N/A | DY11: =IF(SQRT((DW11-$J$5)^2+(DX11-$L$5)^2)<$I$6,1,0) -> #N/A | DZ11: =DW11*DY11 -> #N/A | EA11: =DX11*DY11 -> #N/A | EC11: 2 | ED11: =ED$6*COS(EC11*PI()/180)+EE$5 -> #N/A | EE11: =ED$6*SIN(EC11*PI()/180)+EG$5 -> #N/A | EF11: =IF(SQRT((ED11-$J$5)^2+(EE11-$L$5)^2)<$I$6,1,0) -> #N/A | EG11: =ED11*EF11 -> #N/A | EH11: =EE11*EF11 -> #N/A | EJ11: 2 | EK11: =EK$6*COS(EJ11*PI()/180)+EL$5 -> #N/A | EL11: =EK$6*SIN(EJ11*PI()/180)+EN$5 -> #N/A | EM11: =IF(SQRT((EK11-$J$5)^2+(EL11-$L$5)^2)<$I$6,1,0) -> #N/A | EN11: =EK11*EM11 -> #N/A | EO11: =EL11*EM11 -> #N/A | EQ11: 2 | ER11: =ER$6*COS(EQ11*PI()/180)+ES$5 -> #N/A | ES11: =ER$6*SIN(EQ11*PI()/180)+EU$5 -> #N/A | ET11: =IF(SQRT((ER11-$J$5)^2+(ES11-$L$5)^2)<$I$6,1,0) -> #N/A | EU11: =ER11*ET11 -> #N/A | EV11: =ES11*ET11 -> #N/A | EX11: 2 | EY11: =EY$6*COS(EX11*PI()/180)+EZ$5 -> #N/A | EZ11: =EY$6*SIN(EX11*PI()/180)+FB$5 -> #N/A | FA11: =IF(SQRT((EY11-$J$5)^2+(EZ11-$L$5)^2)<$I$6,1,0) -> #N/A | FB11: =EY11*FA11 -> #N/A | FC11: =EZ11*FA11 -> #N/A | FE11: 2 | FF11: =FF$6*COS(FE11*PI()/180)+FG$5 -> #N/A | FG11: =FF$6*SIN(FE11*PI()/180)+FI$5 -> #N/A | FH11: =IF(SQRT((FF11-$J$5)^2+(FG11-$L$5)^2)<$I$6,1,0) -> #N/A | FI11: =FF11*FH11 -> #N/A | FJ11: =FG11*FH11 -> #N/A | FL11: 2 | FM11: =FM$6*COS(FL11*PI()/180)+FN$5 -> #N/A | FN11: =FM$6*SIN(FL11*PI()/180)+FP$5 -> #N/A | FO11: =IF(SQRT((FM11-$J$5)^2+(FN11-$L$5)^2)<$I$6,1,0) -> #N/A | FP11: =FM11*FO11 -> #N/A | FQ11: =FN11*FO11 -> #N/A | FS11: 2 | FT11: =FT$6*COS(FS11*PI()/180)+FU$5 -> #N/A | FU11: =FT$6*SIN(FS11*PI()/180)+FW$5 -> #N/A | FV11: =IF(SQRT((FT11-$J$5)^2+(FU11-$L$5)^2)<$I$6,1,0) -> #N/A | FW11: =FT11*FV11 -> #N/A | FX11: =FU11*FV11 -> #N/A
A12: 10 | B12: =D27 -> -0.50345631 | C12: =E27 -> -0.62171677 | D12: =F27 -> 3 | E12: =B27 -> 231 | F12: =C27 -> 0.8 | H12: 3 | I12: =$I$6*COS(H12*PI()/180)+$J$5 -> 1.4979443 | J12: =$I$6*SIN(H12*PI()/180)+$L$5 -> 0.078503934 | N12: 3 | O12: =$O$6*COS($N12*PI()/180)+$P$5 -> 0.5926797 | P12: =$O$6*SIN($N12*PI()/180)+$R$5 -> -0.32894997 | Q12: =IF(SQRT((O12-$J$5)^2+(P12-$L$5)^2)<$I$6,1,0) -> 1 | R12: =O12*Q12 -> 0.5926797 | S12: =P12*Q12 -> -0.32894997 | U12: 3 | V12: =V$6*COS(U12*PI()/180)+W$5 -> 0.35195369 | W12: =V$6*SIN(U12*PI()/180)+Y$5 -> -0.0094957702 | X12: =IF(SQRT((V12-$J$5)^2+(W12-$L$5)^2)<$I$6,1,0) -> 1 | Y12: =V12*X12 -> 0.35195369 | Z12: =W12*X12 -> -0.0094957702 | AB12: 3 | AC12: =AC$6*COS(AB12*PI()/180)+AD$5 -> 0.50824614 | AD12: =AC$6*SIN(AB12*PI()/180)+AF$5 -> 0.35870617 | AE12: =IF(SQRT((AC12-$J$5)^2+(AD12-$L$5)^2)<$I$6,1,0) -> 1 | AF12: =AC12*AE12 -> 0.50824614 | AG12: =AD12*AE12 -> 0.35870617 | AI12: 3 | AJ12: =AJ$6*COS(AI12*PI()/180)+AK$5 -> 0.9052646 | AK12: =AJ$6*SIN(AI12*PI()/180)+AM$5 -> 0.40745391 | AL12: =IF(SQRT((AJ12-$J$5)^2+(AK12-$L$5)^2)<$I$6,1,0) -> 1 | AM12: =AJ12*AL12 -> 0.9052646 | AN12: =AK12*AL12 -> 0.40745391 | AP12: 3 | AQ12: =AQ$6*COS(AP12*PI()/180)+AR$5 -> 1.1459906 | AR12: =AQ$6*SIN(AP12*PI()/180)+AT$5 -> 0.087999705 | AS12: =IF(SQRT((AQ12-$J$5)^2+(AR12-$L$5)^2)<$I$6,1,0) -> 1 | AT12: =AQ12*AS12 -> 1.1459906 | AU12: =AR12*AS12 -> 0.087999705 | AW12: 3 | AX12: =AX$6*COS(AW12*PI()/180)+AY$5 -> 0.98969816 | AY12: =AX$6*SIN(AW12*PI()/180)+BA$5 -> -0.28020224 | AZ12: =IF(SQRT((AX12-$J$5)^2+(AY12-$L$5)^2)<$I$6,1,0) -> 1 | BA12: =AX12*AZ12 -> 0.98969816 | BB12: =AY12*AZ12 -> -0.28020224 | BD12: 3 | BE12: =BE$6*COS(BD12*PI()/180)+BF$5 -> #N/A | BF12: =BE$6*SIN(BD12*PI()/180)+BH$5 -> #N/A | BG12: =IF(SQRT((BE12-$J$5)^2+(BF12-$L$5)^2)<$I$6,1,0) -> #N/A | BH12: =BE12*BG12 -> #N/A | BI12: =BF12*BG12 -> #N/A | BK12: 3 | BL12: =BL$6*COS(BK12*PI()/180)+BM$5 -> #N/A | BM12: =BL$6*SIN(BK12*PI()/180)+BO$5 -> #N/A | BN12: =IF(SQRT((BL12-$J$5)^2+(BM12-$L$5)^2)<$I$6,1,0) -> #N/A | BO12: =BL12*BN12 -> #N/A | BP12: =BM12*BN12 -> #N/A | BR12: 3 | BS12: =BS$6*COS(BR12*PI()/180)+BT$5 -> #N/A | BT12: =BS$6*SIN(BR12*PI()/180)+BV$5 -> #N/A | BU12: =IF(SQRT((BS12-$J$5)^2+(BT12-$L$5)^2)<$I$6,1,0) -> #N/A | BV12: =BS12*BU12 -> #N/A | BW12: =BT12*BU12 -> #N/A | BY12: 3 | BZ12: =BZ$6*COS(BY12*PI()/180)+CA$5 -> #N/A | CA12: =BZ$6*SIN(BY12*PI()/180)+CC$5 -> #N/A | CB12: =IF(SQRT((BZ12-$J$5)^2+(CA12-$L$5)^2)<$I$6,1,0) -> #N/A | CC12: =BZ12*CB12 -> #N/A | CD12: =CA12*CB12 -> #N/A | CF12: 3 | CG12: =CG$6*COS(CF12*PI()/180)+CH$5 -> #N/A | CH12: =CG$6*SIN(CF12*PI()/180)+CJ$5 -> #N/A | CI12: =IF(SQRT((CG12-$J$5)^2+(CH12-$L$5)^2)<$I$6,1,0) -> #N/A | CJ12: =CG12*CI12 -> #N/A | CK12: =CH12*CI12 -> #N/A | CM12: 3 | CN12: =CN$6*COS(CM12*PI()/180)+CO$5 -> #N/A | CO12: =CN$6*SIN(CM12*PI()/180)+CQ$5 -> #N/A | CP12: =IF(SQRT((CN12-$J$5)^2+(CO12-$L$5)^2)<$I$6,1,0) -> #N/A | CQ12: =CN12*CP12 -> #N/A | CR12: =CO12*CP12 -> #N/A | CT12: 3 | CU12: =CU$6*COS(CT12*PI()/180)+CV$5 -> #N/A | CV12: =CU$6*SIN(CT12*PI()/180)+CX$5 -> #N/A | CW12: =IF(SQRT((CU12-$J$5)^2+(CV12-$L$5)^2)<$I$6,1,0) -> #N/A | CX12: =CU12*CW12 -> #N/A | CY12: =CV12*CW12 -> #N/A | DA12: 3 | DB12: =DB$6*COS(DA12*PI()/180)+DC$5 -> #N/A | DC12: =DB$6*SIN(DA12*PI()/180)+DE$5 -> #N/A | DD12: =IF(SQRT((DB12-$J$5)^2+(DC12-$L$5)^2)<$I$6,1,0) -> #N/A | DE12: =DB12*DD12 -> #N/A | DF12: =DC12*DD12 -> #N/A | DH12: 3 | DI12: =DI$6*COS(DH12*PI()/180)+DJ$5 -> #N/A | DJ12: =DI$6*SIN(DH12*PI()/180)+DL$5 -> #N/A | DK12: =IF(SQRT((DI12-$J$5)^2+(DJ12-$L$5)^2)<$I$6,1,0) -> #N/A | DL12: =DI12*DK12 -> #N/A | DM12: =DJ12*DK12 -> #N/A | DO12: 3 | DP12: =DP$6*COS(DO12*PI()/180)+DQ$5 -> #N/A | DQ12: =DP$6*SIN(DO12*PI()/180)+DS$5 -> #N/A | DR12: =IF(SQRT((DP12-$J$5)^2+(DQ12-$L$5)^2)<$I$6,1,0) -> #N/A | DS12: =DP12*DR12 -> #N/A | DT12: =DQ12*DR12 -> #N/A | DV12: 3 | DW12: =DW$6*COS(DV12*PI()/180)+DX$5 -> #N/A | DX12: =DW$6*SIN(DV12*PI()/180)+DZ$5 -> #N/A | DY12: =IF(SQRT((DW12-$J$5)^2+(DX12-$L$5)^2)<$I$6,1,0) -> #N/A | DZ12: =DW12*DY12 -> #N/A | EA12: =DX12*DY12 -> #N/A | EC12: 3 | ED12: =ED$6*COS(EC12*PI()/180)+EE$5 -> #N/A | EE12: =ED$6*SIN(EC12*PI()/180)+EG$5 -> #N/A | EF12: =IF(SQRT((ED12-$J$5)^2+(EE12-$L$5)^2)<$I$6,1,0) -> #N/A | EG12: =ED12*EF12 -> #N/A | EH12: =EE12*EF12 -> #N/A | EJ12: 3 | EK12: =EK$6*COS(EJ12*PI()/180)+EL$5 -> #N/A | EL12: =EK$6*SIN(EJ12*PI()/180)+EN$5 -> #N/A | EM12: =IF(SQRT((EK12-$J$5)^2+(EL12-$L$5)^2)<$I$6,1,0) -> #N/A | EN12: =EK12*EM12 -> #N/A | EO12: =EL12*EM12 -> #N/A | EQ12: 3 | ER12: =ER$6*COS(EQ12*PI()/180)+ES$5 -> #N/A | ES12: =ER$6*SIN(EQ12*PI()/180)+EU$5 -> #N/A | ET12: =IF(SQRT((ER12-$J$5)^2+(ES12-$L$5)^2)<$I$6,1,0) -> #N/A | EU12: =ER12*ET12 -> #N/A | EV12: =ES12*ET12 -> #N/A | EX12: 3 | EY12: =EY$6*COS(EX12*PI()/180)+EZ$5 -> #N/A | EZ12: =EY$6*SIN(EX12*PI()/180)+FB$5 -> #N/A | FA12: =IF(SQRT((EY12-$J$5)^2+(EZ12-$L$5)^2)<$I$6,1,0) -> #N/A | FB12: =EY12*FA12 -> #N/A | FC12: =EZ12*FA12 -> #N/A | FE12: 3 | FF12: =FF$6*COS(FE12*PI()/180)+FG$5 -> #N/A | FG12: =FF$6*SIN(FE12*PI()/180)+FI$5 -> #N/A | FH12: =IF(SQRT((FF12-$J$5)^2+(FG12-$L$5)^2)<$I$6,1,0) -> #N/A | FI12: =FF12*FH12 -> #N/A | FJ12: =FG12*FH12 -> #N/A | FL12: 3 | FM12: =FM$6*COS(FL12*PI()/180)+FN$5 -> #N/A | FN12: =FM$6*SIN(FL12*PI()/180)+FP$5 -> #N/A | FO12: =IF(SQRT((FM12-$J$5)^2+(FN12-$L$5)^2)<$I$6,1,0) -> #N/A | FP12: =FM12*FO12 -> #N/A | FQ12: =FN12*FO12 -> #N/A | FS12: 3 | FT12: =FT$6*COS(FS12*PI()/180)+FU$5 -> #N/A | FU12: =FT$6*SIN(FS12*PI()/180)+FW$5 -> #N/A | FV12: =IF(SQRT((FT12-$J$5)^2+(FU12-$L$5)^2)<$I$6,1,0) -> #N/A | FW12: =FT12*FV12 -> #N/A | FX12: =FU12*FV12 -> #N/A
H13: 4 | I13: =$I$6*COS(H13*PI()/180)+$J$5 -> 1.4963461 | J13: =$I$6*SIN(H13*PI()/180)+$L$5 -> 0.10463471 | N13: 4 | O13: =$O$6*COS($N13*PI()/180)+$P$5 -> 0.59188059 | P13: =$O$6*SIN($N13*PI()/180)+$R$5 -> -0.31588459 | Q13: =IF(SQRT((O13-$J$5)^2+(P13-$L$5)^2)<$I$6,1,0) -> 1 | R13: =O13*Q13 -> 0.59188059 | S13: =P13*Q13 -> -0.31588459 | U13: 4 | V13: =V$6*COS(U13*PI()/180)+W$5 -> 0.35115458 | W13: =V$6*SIN(U13*PI()/180)+Y$5 -> 0.0035696179 | X13: =IF(SQRT((V13-$J$5)^2+(W13-$L$5)^2)<$I$6,1,0) -> 1 | Y13: =V13*X13 -> 0.35115458 | Z13: =W13*X13 -> 0.0035696179 | AB13: 4 | AC13: =AC$6*COS(AB13*PI()/180)+AD$5 -> 0.50744703 | AD13: =AC$6*SIN(AB13*PI()/180)+AF$5 -> 0.37177156 | AE13: =IF(SQRT((AC13-$J$5)^2+(AD13-$L$5)^2)<$I$6,1,0) -> 1 | AF13: =AC13*AE13 -> 0.50744703 | AG13: =AD13*AE13 -> 0.37177156 | AI13: 4 | AJ13: =AJ$6*COS(AI13*PI()/180)+AK$5 -> 0.90446549 | AK13: =AJ$6*SIN(AI13*PI()/180)+AM$5 -> 0.4205193 | AL13: =IF(SQRT((AJ13-$J$5)^2+(AK13-$L$5)^2)<$I$6,1,0) -> 1 | AM13: =AJ13*AL13 -> 0.90446549 | AN13: =AK13*AL13 -> 0.4205193 | AP13: 4 | AQ13: =AQ$6*COS(AP13*PI()/180)+AR$5 -> 1.1451915 | AR13: =AQ$6*SIN(AP13*PI()/180)+AT$5 -> 0.10106509 | AS13: =IF(SQRT((AQ13-$J$5)^2+(AR13-$L$5)^2)<$I$6,1,0) -> 1 | AT13: =AQ13*AS13 -> 1.1451915 | AU13: =AR13*AS13 -> 0.10106509 | AW13: 4 | AX13: =AX$6*COS(AW13*PI()/180)+AY$5 -> 0.98889905 | AY13: =AX$6*SIN(AW13*PI()/180)+BA$5 -> -0.26713685 | AZ13: =IF(SQRT((AX13-$J$5)^2+(AY13-$L$5)^2)<$I$6,1,0) -> 1 | BA13: =AX13*AZ13 -> 0.98889905 | BB13: =AY13*AZ13 -> -0.26713685 | BD13: 4 | BE13: =BE$6*COS(BD13*PI()/180)+BF$5 -> #N/A | BF13: =BE$6*SIN(BD13*PI()/180)+BH$5 -> #N/A | BG13: =IF(SQRT((BE13-$J$5)^2+(BF13-$L$5)^2)<$I$6,1,0) -> #N/A | BH13: =BE13*BG13 -> #N/A | BI13: =BF13*BG13 -> #N/A | BK13: 4 | BL13: =BL$6*COS(BK13*PI()/180)+BM$5 -> #N/A | BM13: =BL$6*SIN(BK13*PI()/180)+BO$5 -> #N/A | BN13: =IF(SQRT((BL13-$J$5)^2+(BM13-$L$5)^2)<$I$6,1,0) -> #N/A | BO13: =BL13*BN13 -> #N/A | BP13: =BM13*BN13 -> #N/A | BR13: 4 | BS13: =BS$6*COS(BR13*PI()/180)+BT$5 -> #N/A | BT13: =BS$6*SIN(BR13*PI()/180)+BV$5 -> #N/A | BU13: =IF(SQRT((BS13-$J$5)^2+(BT13-$L$5)^2)<$I$6,1,0) -> #N/A | BV13: =BS13*BU13 -> #N/A | BW13: =BT13*BU13 -> #N/A | BY13: 4 | BZ13: =BZ$6*COS(BY13*PI()/180)+CA$5 -> #N/A | CA13: =BZ$6*SIN(BY13*PI()/180)+CC$5 -> #N/A | CB13: =IF(SQRT((BZ13-$J$5)^2+(CA13-$L$5)^2)<$I$6,1,0) -> #N/A | CC13: =BZ13*CB13 -> #N/A | CD13: =CA13*CB13 -> #N/A | CF13: 4 | CG13: =CG$6*COS(CF13*PI()/180)+CH$5 -> #N/A | CH13: =CG$6*SIN(CF13*PI()/180)+CJ$5 -> #N/A | CI13: =IF(SQRT((CG13-$J$5)^2+(CH13-$L$5)^2)<$I$6,1,0) -> #N/A | CJ13: =CG13*CI13 -> #N/A | CK13: =CH13*CI13 -> #N/A | CM13: 4 | CN13: =CN$6*COS(CM13*PI()/180)+CO$5 -> #N/A | CO13: =CN$6*SIN(CM13*PI()/180)+CQ$5 -> #N/A | CP13: =IF(SQRT((CN13-$J$5)^2+(CO13-$L$5)^2)<$I$6,1,0) -> #N/A | CQ13: =CN13*CP13 -> #N/A | CR13: =CO13*CP13 -> #N/A | CT13: 4 | CU13: =CU$6*COS(CT13*PI()/180)+CV$5 -> #N/A | CV13: =CU$6*SIN(CT13*PI()/180)+CX$5 -> #N/A | CW13: =IF(SQRT((CU13-$J$5)^2+(CV13-$L$5)^2)<$I$6,1,0) -> #N/A | CX13: =CU13*CW13 -> #N/A | CY13: =CV13*CW13 -> #N/A | DA13: 4 | DB13: =DB$6*COS(DA13*PI()/180)+DC$5 -> #N/A | DC13: =DB$6*SIN(DA13*PI()/180)+DE$5 -> #N/A | DD13: =IF(SQRT((DB13-$J$5)^2+(DC13-$L$5)^2)<$I$6,1,0) -> #N/A | DE13: =DB13*DD13 -> #N/A | DF13: =DC13*DD13 -> #N/A | DH13: 4 | DI13: =DI$6*COS(DH13*PI()/180)+DJ$5 -> #N/A | DJ13: =DI$6*SIN(DH13*PI()/180)+DL$5 -> #N/A | DK13: =IF(SQRT((DI13-$J$5)^2+(DJ13-$L$5)^2)<$I$6,1,0) -> #N/A | DL13: =DI13*DK13 -> #N/A | DM13: =DJ13*DK13 -> #N/A | DO13: 4 | DP13: =DP$6*COS(DO13*PI()/180)+DQ$5 -> #N/A | DQ13: =DP$6*SIN(DO13*PI()/180)+DS$5 -> #N/A | DR13: =IF(SQRT((DP13-$J$5)^2+(DQ13-$L$5)^2)<$I$6,1,0) -> #N/A | DS13: =DP13*DR13 -> #N/A | DT13: =DQ13*DR13 -> #N/A | DV13: 4 | DW13: =DW$6*COS(DV13*PI()/180)+DX$5 -> #N/A | DX13: =DW$6*SIN(DV13*PI()/180)+DZ$5 -> #N/A | DY13: =IF(SQRT((DW13-$J$5)^2+(DX13-$L$5)^2)<$I$6,1,0) -> #N/A | DZ13: =DW13*DY13 -> #N/A | EA13: =DX13*DY13 -> #N/A | EC13: 4 | ED13: =ED$6*COS(EC13*PI()/180)+EE$5 -> #N/A | EE13: =ED$6*SIN(EC13*PI()/180)+EG$5 -> #N/A | EF13: =IF(SQRT((ED13-$J$5)^2+(EE13-$L$5)^2)<$I$6,1,0) -> #N/A | EG13: =ED13*EF13 -> #N/A | EH13: =EE13*EF13 -> #N/A | EJ13: 4 | EK13: =EK$6*COS(EJ13*PI()/180)+EL$5 -> #N/A | EL13: =EK$6*SIN(EJ13*PI()/180)+EN$5 -> #N/A | EM13: =IF(SQRT((EK13-$J$5)^2+(EL13-$L$5)^2)<$I$6,1,0) -> #N/A | EN13: =EK13*EM13 -> #N/A | EO13: =EL13*EM13 -> #N/A | EQ13: 4 | ER13: =ER$6*COS(EQ13*PI()/180)+ES$5 -> #N/A | ES13: =ER$6*SIN(EQ13*PI()/180)+EU$5 -> #N/A | ET13: =IF(SQRT((ER13-$J$5)^2+(ES13-$L$5)^2)<$I$6,1,0) -> #N/A | EU13: =ER13*ET13 -> #N/A | EV13: =ES13*ET13 -> #N/A | EX13: 4 | EY13: =EY$6*COS(EX13*PI()/180)+EZ$5 -> #N/A | EZ13: =EY$6*SIN(EX13*PI()/180)+FB$5 -> #N/A | FA13: =IF(SQRT((EY13-$J$5)^2+(EZ13-$L$5)^2)<$I$6,1,0) -> #N/A | FB13: =EY13*FA13 -> #N/A | FC13: =EZ13*FA13 -> #N/A | FE13: 4 | FF13: =FF$6*COS(FE13*PI()/180)+FG$5 -> #N/A | FG13: =FF$6*SIN(FE13*PI()/180)+FI$5 -> #N/A | FH13: =IF(SQRT((FF13-$J$5)^2+(FG13-$L$5)^2)<$I$6,1,0) -> #N/A | FI13: =FF13*FH13 -> #N/A | FJ13: =FG13*FH13 -> #N/A | FL13: 4 | FM13: =FM$6*COS(FL13*PI()/180)+FN$5 -> #N/A | FN13: =FM$6*SIN(FL13*PI()/180)+FP$5 -> #N/A | FO13: =IF(SQRT((FM13-$J$5)^2+(FN13-$L$5)^2)<$I$6,1,0) -> #N/A | FP13: =FM13*FO13 -> #N/A | FQ13: =FN13*FO13 -> #N/A | FS13: 4 | FT13: =FT$6*COS(FS13*PI()/180)+FU$5 -> #N/A | FU13: =FT$6*SIN(FS13*PI()/180)+FW$5 -> #N/A | FV13: =IF(SQRT((FT13-$J$5)^2+(FU13-$L$5)^2)<$I$6,1,0) -> #N/A | FW13: =FT13*FV13 -> #N/A | FX13: =FU13*FV13 -> #N/A
H14: 5 | I14: =$I$6*COS(H14*PI()/180)+$J$5 -> 1.494292 | J14: =$I$6*SIN(H14*PI()/180)+$L$5 -> 0.13073361 | N14: 5 | O14: =$O$6*COS($N14*PI()/180)+$P$5 -> 0.59085357 | P14: =$O$6*SIN($N14*PI()/180)+$R$5 -> -0.30283513 | Q14: =IF(SQRT((O14-$J$5)^2+(P14-$L$5)^2)<$I$6,1,0) -> 1 | R14: =O14*Q14 -> 0.59085357 | S14: =P14*Q14 -> -0.30283513 | U14: 5 | V14: =V$6*COS(U14*PI()/180)+W$5 -> 0.35012756 | W14: =V$6*SIN(U14*PI()/180)+Y$5 -> 0.01661907 | X14: =IF(SQRT((V14-$J$5)^2+(W14-$L$5)^2)<$I$6,1,0) -> 1 | Y14: =V14*X14 -> 0.35012756 | Z14: =W14*X14 -> 0.01661907 | AB14: 5 | AC14: =AC$6*COS(AB14*PI()/180)+AD$5 -> 0.50642001 | AD14: =AC$6*SIN(AB14*PI()/180)+AF$5 -> 0.38482101 | AE14: =IF(SQRT((AC14-$J$5)^2+(AD14-$L$5)^2)<$I$6,1,0) -> 1 | AF14: =AC14*AE14 -> 0.50642001 | AG14: =AD14*AE14 -> 0.38482101 | AI14: 5 | AJ14: =AJ$6*COS(AI14*PI()/180)+AK$5 -> 0.90343847 | AK14: =AJ$6*SIN(AI14*PI()/180)+AM$5 -> 0.43356875 | AL14: =IF(SQRT((AJ14-$J$5)^2+(AK14-$L$5)^2)<$I$6,1,0) -> 1 | AM14: =AJ14*AL14 -> 0.90343847 | AN14: =AK14*AL14 -> 0.43356875 | AP14: 5 | AQ14: =AQ$6*COS(AP14*PI()/180)+AR$5 -> 1.1441645 | AR14: =AQ$6*SIN(AP14*PI()/180)+AT$5 -> 0.11411454 | AS14: =IF(SQRT((AQ14-$J$5)^2+(AR14-$L$5)^2)<$I$6,1,0) -> 1 | AT14: =AQ14*AS14 -> 1.1441645 | AU14: =AR14*AS14 -> 0.11411454 | AW14: 5 | AX14: =AX$6*COS(AW14*PI()/180)+AY$5 -> 0.98787203 | AY14: =AX$6*SIN(AW14*PI()/180)+BA$5 -> -0.2540874 | AZ14: =IF(SQRT((AX14-$J$5)^2+(AY14-$L$5)^2)<$I$6,1,0) -> 1 | BA14: =AX14*AZ14 -> 0.98787203 | BB14: =AY14*AZ14 -> -0.2540874 | BD14: 5 | BE14: =BE$6*COS(BD14*PI()/180)+BF$5 -> #N/A | BF14: =BE$6*SIN(BD14*PI()/180)+BH$5 -> #N/A | BG14: =IF(SQRT((BE14-$J$5)^2+(BF14-$L$5)^2)<$I$6,1,0) -> #N/A | BH14: =BE14*BG14 -> #N/A | BI14: =BF14*BG14 -> #N/A | BK14: 5 | BL14: =BL$6*COS(BK14*PI()/180)+BM$5 -> #N/A | BM14: =BL$6*SIN(BK14*PI()/180)+BO$5 -> #N/A | BN14: =IF(SQRT((BL14-$J$5)^2+(BM14-$L$5)^2)<$I$6,1,0) -> #N/A | BO14: =BL14*BN14 -> #N/A | BP14: =BM14*BN14 -> #N/A | BR14: 5 | BS14: =BS$6*COS(BR14*PI()/180)+BT$5 -> #N/A | BT14: =BS$6*SIN(BR14*PI()/180)+BV$5 -> #N/A | BU14: =IF(SQRT((BS14-$J$5)^2+(BT14-$L$5)^2)<$I$6,1,0) -> #N/A | BV14: =BS14*BU14 -> #N/A | BW14: =BT14*BU14 -> #N/A | BY14: 5 | BZ14: =BZ$6*COS(BY14*PI()/180)+CA$5 -> #N/A | CA14: =BZ$6*SIN(BY14*PI()/180)+CC$5 -> #N/A | CB14: =IF(SQRT((BZ14-$J$5)^2+(CA14-$L$5)^2)<$I$6,1,0) -> #N/A | CC14: =BZ14*CB14 -> #N/A | CD14: =CA14*CB14 -> #N/A | CF14: 5 | CG14: =CG$6*COS(CF14*PI()/180)+CH$5 -> #N/A | CH14: =CG$6*SIN(CF14*PI()/180)+CJ$5 -> #N/A | CI14: =IF(SQRT((CG14-$J$5)^2+(CH14-$L$5)^2)<$I$6,1,0) -> #N/A | CJ14: =CG14*CI14 -> #N/A | CK14: =CH14*CI14 -> #N/A | CM14: 5 | CN14: =CN$6*COS(CM14*PI()/180)+CO$5 -> #N/A | CO14: =CN$6*SIN(CM14*PI()/180)+CQ$5 -> #N/A | CP14: =IF(SQRT((CN14-$J$5)^2+(CO14-$L$5)^2)<$I$6,1,0) -> #N/A | CQ14: =CN14*CP14 -> #N/A | CR14: =CO14*CP14 -> #N/A | CT14: 5 | CU14: =CU$6*COS(CT14*PI()/180)+CV$5 -> #N/A | CV14: =CU$6*SIN(CT14*PI()/180)+CX$5 -> #N/A | CW14: =IF(SQRT((CU14-$J$5)^2+(CV14-$L$5)^2)<$I$6,1,0) -> #N/A | CX14: =CU14*CW14 -> #N/A | CY14: =CV14*CW14 -> #N/A | DA14: 5 | DB14: =DB$6*COS(DA14*PI()/180)+DC$5 -> #N/A | DC14: =DB$6*SIN(DA14*PI()/180)+DE$5 -> #N/A | DD14: =IF(SQRT((DB14-$J$5)^2+(DC14-$L$5)^2)<$I$6,1,0) -> #N/A | DE14: =DB14*DD14 -> #N/A | DF14: =DC14*DD14 -> #N/A | DH14: 5 | DI14: =DI$6*COS(DH14*PI()/180)+DJ$5 -> #N/A | DJ14: =DI$6*SIN(DH14*PI()/180)+DL$5 -> #N/A | DK14: =IF(SQRT((DI14-$J$5)^2+(DJ14-$L$5)^2)<$I$6,1,0) -> #N/A | DL14: =DI14*DK14 -> #N/A | DM14: =DJ14*DK14 -> #N/A | DO14: 5 | DP14: =DP$6*COS(DO14*PI()/180)+DQ$5 -> #N/A | DQ14: =DP$6*SIN(DO14*PI()/180)+DS$5 -> #N/A | DR14: =IF(SQRT((DP14-$J$5)^2+(DQ14-$L$5)^2)<$I$6,1,0) -> #N/A | DS14: =DP14*DR14 -> #N/A | DT14: =DQ14*DR14 -> #N/A | DV14: 5 | DW14: =DW$6*COS(DV14*PI()/180)+DX$5 -> #N/A | DX14: =DW$6*SIN(DV14*PI()/180)+DZ$5 -> #N/A | DY14: =IF(SQRT((DW14-$J$5)^2+(DX14-$L$5)^2)<$I$6,1,0) -> #N/A | DZ14: =DW14*DY14 -> #N/A | EA14: =DX14*DY14 -> #N/A | EC14: 5 | ED14: =ED$6*COS(EC14*PI()/180)+EE$5 -> #N/A | EE14: =ED$6*SIN(EC14*PI()/180)+EG$5 -> #N/A | EF14: =IF(SQRT((ED14-$J$5)^2+(EE14-$L$5)^2)<$I$6,1,0) -> #N/A | EG14: =ED14*EF14 -> #N/A | EH14: =EE14*EF14 -> #N/A | EJ14: 5 | EK14: =EK$6*COS(EJ14*PI()/180)+EL$5 -> #N/A | EL14: =EK$6*SIN(EJ14*PI()/180)+EN$5 -> #N/A | EM14: =IF(SQRT((EK14-$J$5)^2+(EL14-$L$5)^2)<$I$6,1,0) -> #N/A | EN14: =EK14*EM14 -> #N/A | EO14: =EL14*EM14 -> #N/A | EQ14: 5 | ER14: =ER$6*COS(EQ14*PI()/180)+ES$5 -> #N/A | ES14: =ER$6*SIN(EQ14*PI()/180)+EU$5 -> #N/A | ET14: =IF(SQRT((ER14-$J$5)^2+(ES14-$L$5)^2)<$I$6,1,0) -> #N/A | EU14: =ER14*ET14 -> #N/A | EV14: =ES14*ET14 -> #N/A | EX14: 5 | EY14: =EY$6*COS(EX14*PI()/180)+EZ$5 -> #N/A | EZ14: =EY$6*SIN(EX14*PI()/180)+FB$5 -> #N/A | FA14: =IF(SQRT((EY14-$J$5)^2+(EZ14-$L$5)^2)<$I$6,1,0) -> #N/A | FB14: =EY14*FA14 -> #N/A | FC14: =EZ14*FA14 -> #N/A | FE14: 5 | FF14: =FF$6*COS(FE14*PI()/180)+FG$5 -> #N/A | FG14: =FF$6*SIN(FE14*PI()/180)+FI$5 -> #N/A | FH14: =IF(SQRT((FF14-$J$5)^2+(FG14-$L$5)^2)<$I$6,1,0) -> #N/A | FI14: =FF14*FH14 -> #N/A | FJ14: =FG14*FH14 -> #N/A | FL14: 5 | FM14: =FM$6*COS(FL14*PI()/180)+FN$5 -> #N/A | FN14: =FM$6*SIN(FL14*PI()/180)+FP$5 -> #N/A | FO14: =IF(SQRT((FM14-$J$5)^2+(FN14-$L$5)^2)<$I$6,1,0) -> #N/A | FP14: =FM14*FO14 -> #N/A | FQ14: =FN14*FO14 -> #N/A | FS14: 5 | FT14: =FT$6*COS(FS14*PI()/180)+FU$5 -> #N/A | FU14: =FT$6*SIN(FS14*PI()/180)+FW$5 -> #N/A | FV14: =IF(SQRT((FT14-$J$5)^2+(FU14-$L$5)^2)<$I$6,1,0) -> #N/A | FW14: =FT14*FV14 -> #N/A | FX14: =FU14*FV14 -> #N/A
H15: 6 | I15: =$I$6*COS(H15*PI()/180)+$J$5 -> 1.4917828 | J15: =$I$6*SIN(H15*PI()/180)+$L$5 -> 0.15679269 | N15: 6 | O15: =$O$6*COS($N15*PI()/180)+$P$5 -> 0.58959897 | P15: =$O$6*SIN($N15*PI()/180)+$R$5 -> -0.28980559 | Q15: =IF(SQRT((O15-$J$5)^2+(P15-$L$5)^2)<$I$6,1,0) -> 1 | R15: =O15*Q15 -> 0.58959897 | S15: =P15*Q15 -> -0.28980559 | U15: 6 | V15: =V$6*COS(U15*PI()/180)+W$5 -> 0.34887296 | W15: =V$6*SIN(U15*PI()/180)+Y$5 -> 0.02964861 | X15: =IF(SQRT((V15-$J$5)^2+(W15-$L$5)^2)<$I$6,1,0) -> 1 | Y15: =V15*X15 -> 0.34887296 | Z15: =W15*X15 -> 0.02964861 | AB15: 6 | AC15: =AC$6*COS(AB15*PI()/180)+AD$5 -> 0.50516541 | AD15: =AC$6*SIN(AB15*PI()/180)+AF$5 -> 0.39785055 | AE15: =IF(SQRT((AC15-$J$5)^2+(AD15-$L$5)^2)<$I$6,1,0) -> 1 | AF15: =AC15*AE15 -> 0.50516541 | AG15: =AD15*AE15 -> 0.39785055 | AI15: 6 | AJ15: =AJ$6*COS(AI15*PI()/180)+AK$5 -> 0.90218387 | AK15: =AJ$6*SIN(AI15*PI()/180)+AM$5 -> 0.44659829 | AL15: =IF(SQRT((AJ15-$J$5)^2+(AK15-$L$5)^2)<$I$6,1,0) -> 1 | AM15: =AJ15*AL15 -> 0.90218387 | AN15: =AK15*AL15 -> 0.44659829 | AP15: 6 | AQ15: =AQ$6*COS(AP15*PI()/180)+AR$5 -> 1.1429099 | AR15: =AQ$6*SIN(AP15*PI()/180)+AT$5 -> 0.12714408 | AS15: =IF(SQRT((AQ15-$J$5)^2+(AR15-$L$5)^2)<$I$6,1,0) -> 1 | AT15: =AQ15*AS15 -> 1.1429099 | AU15: =AR15*AS15 -> 0.12714408 | AW15: 6 | AX15: =AX$6*COS(AW15*PI()/180)+AY$5 -> 0.98661743 | AY15: =AX$6*SIN(AW15*PI()/180)+BA$5 -> -0.24105786 | AZ15: =IF(SQRT((AX15-$J$5)^2+(AY15-$L$5)^2)<$I$6,1,0) -> 1 | BA15: =AX15*AZ15 -> 0.98661743 | BB15: =AY15*AZ15 -> -0.24105786 | BD15: 6 | BE15: =BE$6*COS(BD15*PI()/180)+BF$5 -> #N/A | BF15: =BE$6*SIN(BD15*PI()/180)+BH$5 -> #N/A | BG15: =IF(SQRT((BE15-$J$5)^2+(BF15-$L$5)^2)<$I$6,1,0) -> #N/A | BH15: =BE15*BG15 -> #N/A | BI15: =BF15*BG15 -> #N/A | BK15: 6 | BL15: =BL$6*COS(BK15*PI()/180)+BM$5 -> #N/A | BM15: =BL$6*SIN(BK15*PI()/180)+BO$5 -> #N/A | BN15: =IF(SQRT((BL15-$J$5)^2+(BM15-$L$5)^2)<$I$6,1,0) -> #N/A | BO15: =BL15*BN15 -> #N/A | BP15: =BM15*BN15 -> #N/A | BR15: 6 | BS15: =BS$6*COS(BR15*PI()/180)+BT$5 -> #N/A | BT15: =BS$6*SIN(BR15*PI()/180)+BV$5 -> #N/A | BU15: =IF(SQRT((BS15-$J$5)^2+(BT15-$L$5)^2)<$I$6,1,0) -> #N/A | BV15: =BS15*BU15 -> #N/A | BW15: =BT15*BU15 -> #N/A | BY15: 6 | BZ15: =BZ$6*COS(BY15*PI()/180)+CA$5 -> #N/A | CA15: =BZ$6*SIN(BY15*PI()/180)+CC$5 -> #N/A | CB15: =IF(SQRT((BZ15-$J$5)^2+(CA15-$L$5)^2)<$I$6,1,0) -> #N/A | CC15: =BZ15*CB15 -> #N/A | CD15: =CA15*CB15 -> #N/A | CF15: 6 | CG15: =CG$6*COS(CF15*PI()/180)+CH$5 -> #N/A | CH15: =CG$6*SIN(CF15*PI()/180)+CJ$5 -> #N/A | CI15: =IF(SQRT((CG15-$J$5)^2+(CH15-$L$5)^2)<$I$6,1,0) -> #N/A | CJ15: =CG15*CI15 -> #N/A | CK15: =CH15*CI15 -> #N/A | CM15: 6 | CN15: =CN$6*COS(CM15*PI()/180)+CO$5 -> #N/A | CO15: =CN$6*SIN(CM15*PI()/180)+CQ$5 -> #N/A | CP15: =IF(SQRT((CN15-$J$5)^2+(CO15-$L$5)^2)<$I$6,1,0) -> #N/A | CQ15: =CN15*CP15 -> #N/A | CR15: =CO15*CP15 -> #N/A | CT15: 6 | CU15: =CU$6*COS(CT15*PI()/180)+CV$5 -> #N/A | CV15: =CU$6*SIN(CT15*PI()/180)+CX$5 -> #N/A | CW15: =IF(SQRT((CU15-$J$5)^2+(CV15-$L$5)^2)<$I$6,1,0) -> #N/A | CX15: =CU15*CW15 -> #N/A | CY15: =CV15*CW15 -> #N/A | DA15: 6 | DB15: =DB$6*COS(DA15*PI()/180)+DC$5 -> #N/A | DC15: =DB$6*SIN(DA15*PI()/180)+DE$5 -> #N/A | DD15: =IF(SQRT((DB15-$J$5)^2+(DC15-$L$5)^2)<$I$6,1,0) -> #N/A | DE15: =DB15*DD15 -> #N/A | DF15: =DC15*DD15 -> #N/A | DH15: 6 | DI15: =DI$6*COS(DH15*PI()/180)+DJ$5 -> #N/A | DJ15: =DI$6*SIN(DH15*PI()/180)+DL$5 -> #N/A | DK15: =IF(SQRT((DI15-$J$5)^2+(DJ15-$L$5)^2)<$I$6,1,0) -> #N/A | DL15: =DI15*DK15 -> #N/A | DM15: =DJ15*DK15 -> #N/A | DO15: 6 | DP15: =DP$6*COS(DO15*PI()/180)+DQ$5 -> #N/A | DQ15: =DP$6*SIN(DO15*PI()/180)+DS$5 -> #N/A | DR15: =IF(SQRT((DP15-$J$5)^2+(DQ15-$L$5)^2)<$I$6,1,0) -> #N/A | DS15: =DP15*DR15 -> #N/A | DT15: =DQ15*DR15 -> #N/A | DV15: 6 | DW15: =DW$6*COS(DV15*PI()/180)+DX$5 -> #N/A | DX15: =DW$6*SIN(DV15*PI()/180)+DZ$5 -> #N/A | DY15: =IF(SQRT((DW15-$J$5)^2+(DX15-$L$5)^2)<$I$6,1,0) -> #N/A | DZ15: =DW15*DY15 -> #N/A | EA15: =DX15*DY15 -> #N/A | EC15: 6 | ED15: =ED$6*COS(EC15*PI()/180)+EE$5 -> #N/A | EE15: =ED$6*SIN(EC15*PI()/180)+EG$5 -> #N/A | EF15: =IF(SQRT((ED15-$J$5)^2+(EE15-$L$5)^2)<$I$6,1,0) -> #N/A | EG15: =ED15*EF15 -> #N/A | EH15: =EE15*EF15 -> #N/A | EJ15: 6 | EK15: =EK$6*COS(EJ15*PI()/180)+EL$5 -> #N/A | EL15: =EK$6*SIN(EJ15*PI()/180)+EN$5 -> #N/A | EM15: =IF(SQRT((EK15-$J$5)^2+(EL15-$L$5)^2)<$I$6,1,0) -> #N/A | EN15: =EK15*EM15 -> #N/A | EO15: =EL15*EM15 -> #N/A | EQ15: 6 | ER15: =ER$6*COS(EQ15*PI()/180)+ES$5 -> #N/A | ES15: =ER$6*SIN(EQ15*PI()/180)+EU$5 -> #N/A | ET15: =IF(SQRT((ER15-$J$5)^2+(ES15-$L$5)^2)<$I$6,1,0) -> #N/A | EU15: =ER15*ET15 -> #N/A | EV15: =ES15*ET15 -> #N/A | EX15: 6 | EY15: =EY$6*COS(EX15*PI()/180)+EZ$5 -> #N/A | EZ15: =EY$6*SIN(EX15*PI()/180)+FB$5 -> #N/A | FA15: =IF(SQRT((EY15-$J$5)^2+(EZ15-$L$5)^2)<$I$6,1,0) -> #N/A | FB15: =EY15*FA15 -> #N/A | FC15: =EZ15*FA15 -> #N/A | FE15: 6 | FF15: =FF$6*COS(FE15*PI()/180)+FG$5 -> #N/A | FG15: =FF$6*SIN(FE15*PI()/180)+FI$5 -> #N/A | FH15: =IF(SQRT((FF15-$J$5)^2+(FG15-$L$5)^2)<$I$6,1,0) -> #N/A | FI15: =FF15*FH15 -> #N/A | FJ15: =FG15*FH15 -> #N/A | FL15: 6 | FM15: =FM$6*COS(FL15*PI()/180)+FN$5 -> #N/A | FN15: =FM$6*SIN(FL15*PI()/180)+FP$5 -> #N/A | FO15: =IF(SQRT((FM15-$J$5)^2+(FN15-$L$5)^2)<$I$6,1,0) -> #N/A | FP15: =FM15*FO15 -> #N/A | FQ15: =FN15*FO15 -> #N/A | FS15: 6 | FT15: =FT$6*COS(FS15*PI()/180)+FU$5 -> #N/A | FU15: =FT$6*SIN(FS15*PI()/180)+FW$5 -> #N/A | FV15: =IF(SQRT((FT15-$J$5)^2+(FU15-$L$5)^2)<$I$6,1,0) -> #N/A | FW15: =FT15*FV15 -> #N/A | FX15: =FU15*FV15 -> #N/A
A16: Joyners Info for Rotation & Unitized Dimensions | H16: 7 | I16: =$I$6*COS(H16*PI()/180)+$J$5 -> 1.4888192 | J16: =$I$6*SIN(H16*PI()/180)+$L$5 -> 0.18280402 | N16: 7 | O16: =$O$6*COS($N16*PI()/180)+$P$5 -> 0.58811716 | P16: =$O$6*SIN($N16*PI()/180)+$R$5 -> -0.27679993 | Q16: =IF(SQRT((O16-$J$5)^2+(P16-$L$5)^2)<$I$6,1,0) -> 1 | R16: =O16*Q16 -> 0.58811716 | S16: =P16*Q16 -> -0.27679993 | U16: 7 | V16: =V$6*COS(U16*PI()/180)+W$5 -> 0.34739115 | W16: =V$6*SIN(U16*PI()/180)+Y$5 -> 0.04265427 | X16: =IF(SQRT((V16-$J$5)^2+(W16-$L$5)^2)<$I$6,1,0) -> 1 | Y16: =V16*X16 -> 0.34739115 | Z16: =W16*X16 -> 0.04265427 | AB16: 7 | AC16: =AC$6*COS(AB16*PI()/180)+AD$5 -> 0.5036836 | AD16: =AC$6*SIN(AB16*PI()/180)+AF$5 -> 0.41085621 | AE16: =IF(SQRT((AC16-$J$5)^2+(AD16-$L$5)^2)<$I$6,1,0) -> 1 | AF16: =AC16*AE16 -> 0.5036836 | AG16: =AD16*AE16 -> 0.41085621 | AI16: 7 | AJ16: =AJ$6*COS(AI16*PI()/180)+AK$5 -> 0.90070207 | AK16: =AJ$6*SIN(AI16*PI()/180)+AM$5 -> 0.45960395 | AL16: =IF(SQRT((AJ16-$J$5)^2+(AK16-$L$5)^2)<$I$6,1,0) -> 1 | AM16: =AJ16*AL16 -> 0.90070207 | AN16: =AK16*AL16 -> 0.45960395 | AP16: 7 | AQ16: =AQ$6*COS(AP16*PI()/180)+AR$5 -> 1.1414281 | AR16: =AQ$6*SIN(AP16*PI()/180)+AT$5 -> 0.14014974 | AS16: =IF(SQRT((AQ16-$J$5)^2+(AR16-$L$5)^2)<$I$6,1,0) -> 1 | AT16: =AQ16*AS16 -> 1.1414281 | AU16: =AR16*AS16 -> 0.14014974 | AW16: 7 | AX16: =AX$6*COS(AW16*PI()/180)+AY$5 -> 0.98513562 | AY16: =AX$6*SIN(AW16*PI()/180)+BA$5 -> -0.2280522 | AZ16: =IF(SQRT((AX16-$J$5)^2+(AY16-$L$5)^2)<$I$6,1,0) -> 1 | BA16: =AX16*AZ16 -> 0.98513562 | BB16: =AY16*AZ16 -> -0.2280522 | BD16: 7 | BE16: =BE$6*COS(BD16*PI()/180)+BF$5 -> #N/A | BF16: =BE$6*SIN(BD16*PI()/180)+BH$5 -> #N/A | BG16: =IF(SQRT((BE16-$J$5)^2+(BF16-$L$5)^2)<$I$6,1,0) -> #N/A | BH16: =BE16*BG16 -> #N/A | BI16: =BF16*BG16 -> #N/A | BK16: 7 | BL16: =BL$6*COS(BK16*PI()/180)+BM$5 -> #N/A | BM16: =BL$6*SIN(BK16*PI()/180)+BO$5 -> #N/A | BN16: =IF(SQRT((BL16-$J$5)^2+(BM16-$L$5)^2)<$I$6,1,0) -> #N/A | BO16: =BL16*BN16 -> #N/A | BP16: =BM16*BN16 -> #N/A | BR16: 7 | BS16: =BS$6*COS(BR16*PI()/180)+BT$5 -> #N/A | BT16: =BS$6*SIN(BR16*PI()/180)+BV$5 -> #N/A | BU16: =IF(SQRT((BS16-$J$5)^2+(BT16-$L$5)^2)<$I$6,1,0) -> #N/A | BV16: =BS16*BU16 -> #N/A | BW16: =BT16*BU16 -> #N/A | BY16: 7 | BZ16: =BZ$6*COS(BY16*PI()/180)+CA$5 -> #N/A | CA16: =BZ$6*SIN(BY16*PI()/180)+CC$5 -> #N/A | CB16: =IF(SQRT((BZ16-$J$5)^2+(CA16-$L$5)^2)<$I$6,1,0) -> #N/A | CC16: =BZ16*CB16 -> #N/A | CD16: =CA16*CB16 -> #N/A | CF16: 7 | CG16: =CG$6*COS(CF16*PI()/180)+CH$5 -> #N/A | CH16: =CG$6*SIN(CF16*PI()/180)+CJ$5 -> #N/A | CI16: =IF(SQRT((CG16-$J$5)^2+(CH16-$L$5)^2)<$I$6,1,0) -> #N/A | CJ16: =CG16*CI16 -> #N/A | CK16: =CH16*CI16 -> #N/A | CM16: 7 | CN16: =CN$6*COS(CM16*PI()/180)+CO$5 -> #N/A | CO16: =CN$6*SIN(CM16*PI()/180)+CQ$5 -> #N/A | CP16: =IF(SQRT((CN16-$J$5)^2+(CO16-$L$5)^2)<$I$6,1,0) -> #N/A | CQ16: =CN16*CP16 -> #N/A | CR16: =CO16*CP16 -> #N/A | CT16: 7 | CU16: =CU$6*COS(CT16*PI()/180)+CV$5 -> #N/A | CV16: =CU$6*SIN(CT16*PI()/180)+CX$5 -> #N/A | CW16: =IF(SQRT((CU16-$J$5)^2+(CV16-$L$5)^2)<$I$6,1,0) -> #N/A | CX16: =CU16*CW16 -> #N/A | CY16: =CV16*CW16 -> #N/A | DA16: 7 | DB16: =DB$6*COS(DA16*PI()/180)+DC$5 -> #N/A | DC16: =DB$6*SIN(DA16*PI()/180)+DE$5 -> #N/A | DD16: =IF(SQRT((DB16-$J$5)^2+(DC16-$L$5)^2)<$I$6,1,0) -> #N/A | DE16: =DB16*DD16 -> #N/A | DF16: =DC16*DD16 -> #N/A | DH16: 7 | DI16: =DI$6*COS(DH16*PI()/180)+DJ$5 -> #N/A | DJ16: =DI$6*SIN(DH16*PI()/180)+DL$5 -> #N/A | DK16: =IF(SQRT((DI16-$J$5)^2+(DJ16-$L$5)^2)<$I$6,1,0) -> #N/A | DL16: =DI16*DK16 -> #N/A | DM16: =DJ16*DK16 -> #N/A | DO16: 7 | DP16: =DP$6*COS(DO16*PI()/180)+DQ$5 -> #N/A | DQ16: =DP$6*SIN(DO16*PI()/180)+DS$5 -> #N/A | DR16: =IF(SQRT((DP16-$J$5)^2+(DQ16-$L$5)^2)<$I$6,1,0) -> #N/A | DS16: =DP16*DR16 -> #N/A | DT16: =DQ16*DR16 -> #N/A | DV16: 7 | DW16: =DW$6*COS(DV16*PI()/180)+DX$5 -> #N/A | DX16: =DW$6*SIN(DV16*PI()/180)+DZ$5 -> #N/A | DY16: =IF(SQRT((DW16-$J$5)^2+(DX16-$L$5)^2)<$I$6,1,0) -> #N/A | DZ16: =DW16*DY16 -> #N/A | EA16: =DX16*DY16 -> #N/A | EC16: 7 | ED16: =ED$6*COS(EC16*PI()/180)+EE$5 -> #N/A | EE16: =ED$6*SIN(EC16*PI()/180)+EG$5 -> #N/A | EF16: =IF(SQRT((ED16-$J$5)^2+(EE16-$L$5)^2)<$I$6,1,0) -> #N/A | EG16: =ED16*EF16 -> #N/A | EH16: =EE16*EF16 -> #N/A | EJ16: 7 | EK16: =EK$6*COS(EJ16*PI()/180)+EL$5 -> #N/A | EL16: =EK$6*SIN(EJ16*PI()/180)+EN$5 -> #N/A | EM16: =IF(SQRT((EK16-$J$5)^2+(EL16-$L$5)^2)<$I$6,1,0) -> #N/A | EN16: =EK16*EM16 -> #N/A | EO16: =EL16*EM16 -> #N/A | EQ16: 7 | ER16: =ER$6*COS(EQ16*PI()/180)+ES$5 -> #N/A | ES16: =ER$6*SIN(EQ16*PI()/180)+EU$5 -> #N/A | ET16: =IF(SQRT((ER16-$J$5)^2+(ES16-$L$5)^2)<$I$6,1,0) -> #N/A | EU16: =ER16*ET16 -> #N/A | EV16: =ES16*ET16 -> #N/A | EX16: 7 | EY16: =EY$6*COS(EX16*PI()/180)+EZ$5 -> #N/A | EZ16: =EY$6*SIN(EX16*PI()/180)+FB$5 -> #N/A | FA16: =IF(SQRT((EY16-$J$5)^2+(EZ16-$L$5)^2)<$I$6,1,0) -> #N/A | FB16: =EY16*FA16 -> #N/A | FC16: =EZ16*FA16 -> #N/A | FE16: 7 | FF16: =FF$6*COS(FE16*PI()/180)+FG$5 -> #N/A | FG16: =FF$6*SIN(FE16*PI()/180)+FI$5 -> #N/A | FH16: =IF(SQRT((FF16-$J$5)^2+(FG16-$L$5)^2)<$I$6,1,0) -> #N/A | FI16: =FF16*FH16 -> #N/A | FJ16: =FG16*FH16 -> #N/A | FL16: 7 | FM16: =FM$6*COS(FL16*PI()/180)+FN$5 -> #N/A | FN16: =FM$6*SIN(FL16*PI()/180)+FP$5 -> #N/A | FO16: =IF(SQRT((FM16-$J$5)^2+(FN16-$L$5)^2)<$I$6,1,0) -> #N/A | FP16: =FM16*FO16 -> #N/A | FQ16: =FN16*FO16 -> #N/A | FS16: 7 | FT16: =FT$6*COS(FS16*PI()/180)+FU$5 -> #N/A | FU16: =FT$6*SIN(FS16*PI()/180)+FW$5 -> #N/A | FV16: =IF(SQRT((FT16-$J$5)^2+(FU16-$L$5)^2)<$I$6,1,0) -> #N/A | FW16: =FT16*FV16 -> #N/A | FX16: =FU16*FV16 -> #N/A
A17: Hole # | B17: Angle | C17: Distance | D17: X - Axis | E17: Y - Axis | F17: Quadrant | H17: 8 | I17: =$I$6*COS(H17*PI()/180)+$J$5 -> 1.4854021 | J17: =$I$6*SIN(H17*PI()/180)+$L$5 -> 0.20875965 | N17: 8 | O17: =$O$6*COS($N17*PI()/180)+$P$5 -> 0.5864086 | P17: =$O$6*SIN($N17*PI()/180)+$R$5 -> -0.26382212 | Q17: =IF(SQRT((O17-$J$5)^2+(P17-$L$5)^2)<$I$6,1,0) -> 1 | R17: =O17*Q17 -> 0.5864086 | S17: =P17*Q17 -> -0.26382212 | U17: 8 | V17: =V$6*COS(U17*PI()/180)+W$5 -> 0.34568259 | W17: =V$6*SIN(U17*PI()/180)+Y$5 -> 0.055632088 | X17: =IF(SQRT((V17-$J$5)^2+(W17-$L$5)^2)<$I$6,1,0) -> 1 | Y17: =V17*X17 -> 0.34568259 | Z17: =W17*X17 -> 0.055632088 | AB17: 8 | AC17: =AC$6*COS(AB17*PI()/180)+AD$5 -> 0.50197504 | AD17: =AC$6*SIN(AB17*PI()/180)+AF$5 -> 0.42383403 | AE17: =IF(SQRT((AC17-$J$5)^2+(AD17-$L$5)^2)<$I$6,1,0) -> 1 | AF17: =AC17*AE17 -> 0.50197504 | AG17: =AD17*AE17 -> 0.42383403 | AI17: 8 | AJ17: =AJ$6*COS(AI17*PI()/180)+AK$5 -> 0.8989935 | AK17: =AJ$6*SIN(AI17*PI()/180)+AM$5 -> 0.47258177 | AL17: =IF(SQRT((AJ17-$J$5)^2+(AK17-$L$5)^2)<$I$6,1,0) -> 1 | AM17: =AJ17*AL17 -> 0.8989935 | AN17: =AK17*AL17 -> 0.47258177 | AP17: 8 | AQ17: =AQ$6*COS(AP17*PI()/180)+AR$5 -> 1.1397195 | AR17: =AQ$6*SIN(AP17*PI()/180)+AT$5 -> 0.15312756 | AS17: =IF(SQRT((AQ17-$J$5)^2+(AR17-$L$5)^2)<$I$6,1,0) -> 1 | AT17: =AQ17*AS17 -> 1.1397195 | AU17: =AR17*AS17 -> 0.15312756 | AW17: 8 | AX17: =AX$6*COS(AW17*PI()/180)+AY$5 -> 0.98342706 | AY17: =AX$6*SIN(AW17*PI()/180)+BA$5 -> -0.21507438 | AZ17: =IF(SQRT((AX17-$J$5)^2+(AY17-$L$5)^2)<$I$6,1,0) -> 1 | BA17: =AX17*AZ17 -> 0.98342706 | BB17: =AY17*AZ17 -> -0.21507438 | BD17: 8 | BE17: =BE$6*COS(BD17*PI()/180)+BF$5 -> #N/A | BF17: =BE$6*SIN(BD17*PI()/180)+BH$5 -> #N/A | BG17: =IF(SQRT((BE17-$J$5)^2+(BF17-$L$5)^2)<$I$6,1,0) -> #N/A | BH17: =BE17*BG17 -> #N/A | BI17: =BF17*BG17 -> #N/A | BK17: 8 | BL17: =BL$6*COS(BK17*PI()/180)+BM$5 -> #N/A | BM17: =BL$6*SIN(BK17*PI()/180)+BO$5 -> #N/A | BN17: =IF(SQRT((BL17-$J$5)^2+(BM17-$L$5)^2)<$I$6,1,0) -> #N/A | BO17: =BL17*BN17 -> #N/A | BP17: =BM17*BN17 -> #N/A | BR17: 8 | BS17: =BS$6*COS(BR17*PI()/180)+BT$5 -> #N/A | BT17: =BS$6*SIN(BR17*PI()/180)+BV$5 -> #N/A | BU17: =IF(SQRT((BS17-$J$5)^2+(BT17-$L$5)^2)<$I$6,1,0) -> #N/A | BV17: =BS17*BU17 -> #N/A | BW17: =BT17*BU17 -> #N/A | BY17: 8 | BZ17: =BZ$6*COS(BY17*PI()/180)+CA$5 -> #N/A | CA17: =BZ$6*SIN(BY17*PI()/180)+CC$5 -> #N/A | CB17: =IF(SQRT((BZ17-$J$5)^2+(CA17-$L$5)^2)<$I$6,1,0) -> #N/A | CC17: =BZ17*CB17 -> #N/A | CD17: =CA17*CB17 -> #N/A | CF17: 8 | CG17: =CG$6*COS(CF17*PI()/180)+CH$5 -> #N/A | CH17: =CG$6*SIN(CF17*PI()/180)+CJ$5 -> #N/A | CI17: =IF(SQRT((CG17-$J$5)^2+(CH17-$L$5)^2)<$I$6,1,0) -> #N/A | CJ17: =CG17*CI17 -> #N/A | CK17: =CH17*CI17 -> #N/A | CM17: 8 | CN17: =CN$6*COS(CM17*PI()/180)+CO$5 -> #N/A | CO17: =CN$6*SIN(CM17*PI()/180)+CQ$5 -> #N/A | CP17: =IF(SQRT((CN17-$J$5)^2+(CO17-$L$5)^2)<$I$6,1,0) -> #N/A | CQ17: =CN17*CP17 -> #N/A | CR17: =CO17*CP17 -> #N/A | CT17: 8 | CU17: =CU$6*COS(CT17*PI()/180)+CV$5 -> #N/A | CV17: =CU$6*SIN(CT17*PI()/180)+CX$5 -> #N/A | CW17: =IF(SQRT((CU17-$J$5)^2+(CV17-$L$5)^2)<$I$6,1,0) -> #N/A | CX17: =CU17*CW17 -> #N/A | CY17: =CV17*CW17 -> #N/A | DA17: 8 | DB17: =DB$6*COS(DA17*PI()/180)+DC$5 -> #N/A | DC17: =DB$6*SIN(DA17*PI()/180)+DE$5 -> #N/A | DD17: =IF(SQRT((DB17-$J$5)^2+(DC17-$L$5)^2)<$I$6,1,0) -> #N/A | DE17: =DB17*DD17 -> #N/A | DF17: =DC17*DD17 -> #N/A | DH17: 8 | DI17: =DI$6*COS(DH17*PI()/180)+DJ$5 -> #N/A | DJ17: =DI$6*SIN(DH17*PI()/180)+DL$5 -> #N/A | DK17: =IF(SQRT((DI17-$J$5)^2+(DJ17-$L$5)^2)<$I$6,1,0) -> #N/A | DL17: =DI17*DK17 -> #N/A | DM17: =DJ17*DK17 -> #N/A | DO17: 8 | DP17: =DP$6*COS(DO17*PI()/180)+DQ$5 -> #N/A | DQ17: =DP$6*SIN(DO17*PI()/180)+DS$5 -> #N/A | DR17: =IF(SQRT((DP17-$J$5)^2+(DQ17-$L$5)^2)<$I$6,1,0) -> #N/A | DS17: =DP17*DR17 -> #N/A | DT17: =DQ17*DR17 -> #N/A | DV17: 8 | DW17: =DW$6*COS(DV17*PI()/180)+DX$5 -> #N/A | DX17: =DW$6*SIN(DV17*PI()/180)+DZ$5 -> #N/A | DY17: =IF(SQRT((DW17-$J$5)^2+(DX17-$L$5)^2)<$I$6,1,0) -> #N/A | DZ17: =DW17*DY17 -> #N/A | EA17: =DX17*DY17 -> #N/A | EC17: 8 | ED17: =ED$6*COS(EC17*PI()/180)+EE$5 -> #N/A | EE17: =ED$6*SIN(EC17*PI()/180)+EG$5 -> #N/A | EF17: =IF(SQRT((ED17-$J$5)^2+(EE17-$L$5)^2)<$I$6,1,0) -> #N/A | EG17: =ED17*EF17 -> #N/A | EH17: =EE17*EF17 -> #N/A | EJ17: 8 | EK17: =EK$6*COS(EJ17*PI()/180)+EL$5 -> #N/A | EL17: =EK$6*SIN(EJ17*PI()/180)+EN$5 -> #N/A | EM17: =IF(SQRT((EK17-$J$5)^2+(EL17-$L$5)^2)<$I$6,1,0) -> #N/A | EN17: =EK17*EM17 -> #N/A | EO17: =EL17*EM17 -> #N/A | EQ17: 8 | ER17: =ER$6*COS(EQ17*PI()/180)+ES$5 -> #N/A | ES17: =ER$6*SIN(EQ17*PI()/180)+EU$5 -> #N/A | ET17: =IF(SQRT((ER17-$J$5)^2+(ES17-$L$5)^2)<$I$6,1,0) -> #N/A | EU17: =ER17*ET17 -> #N/A | EV17: =ES17*ET17 -> #N/A | EX17: 8 | EY17: =EY$6*COS(EX17*PI()/180)+EZ$5 -> #N/A | EZ17: =EY$6*SIN(EX17*PI()/180)+FB$5 -> #N/A | FA17: =IF(SQRT((EY17-$J$5)^2+(EZ17-$L$5)^2)<$I$6,1,0) -> #N/A | FB17: =EY17*FA17 -> #N/A | FC17: =EZ17*FA17 -> #N/A | FE17: 8 | FF17: =FF$6*COS(FE17*PI()/180)+FG$5 -> #N/A | FG17: =FF$6*SIN(FE17*PI()/180)+FI$5 -> #N/A | FH17: =IF(SQRT((FF17-$J$5)^2+(FG17-$L$5)^2)<$I$6,1,0) -> #N/A | FI17: =FF17*FH17 -> #N/A | FJ17: =FG17*FH17 -> #N/A | FL17: 8 | FM17: =FM$6*COS(FL17*PI()/180)+FN$5 -> #N/A | FN17: =FM$6*SIN(FL17*PI()/180)+FP$5 -> #N/A | FO17: =IF(SQRT((FM17-$J$5)^2+(FN17-$L$5)^2)<$I$6,1,0) -> #N/A | FP17: =FM17*FO17 -> #N/A | FQ17: =FN17*FO17 -> #N/A | FS17: 8 | FT17: =FT$6*COS(FS17*PI()/180)+FU$5 -> #N/A | FU17: =FT$6*SIN(FS17*PI()/180)+FW$5 -> #N/A | FV17: =IF(SQRT((FT17-$J$5)^2+(FU17-$L$5)^2)<$I$6,1,0) -> #N/A | FW17: =FT17*FV17 -> #N/A | FX17: =FU17*FV17 -> #N/A
A18: 1 | B18: 0 | C18: =C31 -> 0 | D18: 0 | E18: 0 | F18: =MATCH(B18,$E$31:$E$34) -> 1 | H18: 9 | I18: =$I$6*COS(H18*PI()/180)+$J$5 -> 1.4815325 | J18: =$I$6*SIN(H18*PI()/180)+$L$5 -> 0.2346517 | N18: 9 | O18: =$O$6*COS($N18*PI()/180)+$P$5 -> 0.5844738 | P18: =$O$6*SIN($N18*PI()/180)+$R$5 -> -0.25087609 | Q18: =IF(SQRT((O18-$J$5)^2+(P18-$L$5)^2)<$I$6,1,0) -> 1 | R18: =O18*Q18 -> 0.5844738 | S18: =P18*Q18 -> -0.25087609 | U18: 9 | V18: =V$6*COS(U18*PI()/180)+W$5 -> 0.34374779 | W18: =V$6*SIN(U18*PI()/180)+Y$5 -> 0.068578111 | X18: =IF(SQRT((V18-$J$5)^2+(W18-$L$5)^2)<$I$6,1,0) -> 1 | Y18: =V18*X18 -> 0.34374779 | Z18: =W18*X18 -> 0.068578111 | AB18: 9 | AC18: =AC$6*COS(AB18*PI()/180)+AD$5 -> 0.50004025 | AD18: =AC$6*SIN(AB18*PI()/180)+AF$5 -> 0.43678005 | AE18: =IF(SQRT((AC18-$J$5)^2+(AD18-$L$5)^2)<$I$6,1,0) -> 1 | AF18: =AC18*AE18 -> 0.50004025 | AG18: =AD18*AE18 -> 0.43678005 | AI18: 9 | AJ18: =AJ$6*COS(AI18*PI()/180)+AK$5 -> 0.89705871 | AK18: =AJ$6*SIN(AI18*PI()/180)+AM$5 -> 0.48552779 | AL18: =IF(SQRT((AJ18-$J$5)^2+(AK18-$L$5)^2)<$I$6,1,0) -> 1 | AM18: =AJ18*AL18 -> 0.89705871 | AN18: =AK18*AL18 -> 0.48552779 | AP18: 9 | AQ18: =AQ$6*COS(AP18*PI()/180)+AR$5 -> 1.1377847 | AR18: =AQ$6*SIN(AP18*PI()/180)+AT$5 -> 0.16607359 | AS18: =IF(SQRT((AQ18-$J$5)^2+(AR18-$L$5)^2)<$I$6,1,0) -> 1 | AT18: =AQ18*AS18 -> 1.1377847 | AU18: =AR18*AS18 -> 0.16607359 | AW18: 9 | AX18: =AX$6*COS(AW18*PI()/180)+AY$5 -> 0.98149226 | AY18: =AX$6*SIN(AW18*PI()/180)+BA$5 -> -0.20212836 | AZ18: =IF(SQRT((AX18-$J$5)^2+(AY18-$L$5)^2)<$I$6,1,0) -> 1 | BA18: =AX18*AZ18 -> 0.98149226 | BB18: =AY18*AZ18 -> -0.20212836 | BD18: 9 | BE18: =BE$6*COS(BD18*PI()/180)+BF$5 -> #N/A | BF18: =BE$6*SIN(BD18*PI()/180)+BH$5 -> #N/A | BG18: =IF(SQRT((BE18-$J$5)^2+(BF18-$L$5)^2)<$I$6,1,0) -> #N/A | BH18: =BE18*BG18 -> #N/A | BI18: =BF18*BG18 -> #N/A | BK18: 9 | BL18: =BL$6*COS(BK18*PI()/180)+BM$5 -> #N/A | BM18: =BL$6*SIN(BK18*PI()/180)+BO$5 -> #N/A | BN18: =IF(SQRT((BL18-$J$5)^2+(BM18-$L$5)^2)<$I$6,1,0) -> #N/A | BO18: =BL18*BN18 -> #N/A | BP18: =BM18*BN18 -> #N/A | BR18: 9 | BS18: =BS$6*COS(BR18*PI()/180)+BT$5 -> #N/A | BT18: =BS$6*SIN(BR18*PI()/180)+BV$5 -> #N/A | BU18: =IF(SQRT((BS18-$J$5)^2+(BT18-$L$5)^2)<$I$6,1,0) -> #N/A | BV18: =BS18*BU18 -> #N/A | BW18: =BT18*BU18 -> #N/A | BY18: 9 | BZ18: =BZ$6*COS(BY18*PI()/180)+CA$5 -> #N/A | CA18: =BZ$6*SIN(BY18*PI()/180)+CC$5 -> #N/A | CB18: =IF(SQRT((BZ18-$J$5)^2+(CA18-$L$5)^2)<$I$6,1,0) -> #N/A | CC18: =BZ18*CB18 -> #N/A | CD18: =CA18*CB18 -> #N/A | CF18: 9 | CG18: =CG$6*COS(CF18*PI()/180)+CH$5 -> #N/A | CH18: =CG$6*SIN(CF18*PI()/180)+CJ$5 -> #N/A | CI18: =IF(SQRT((CG18-$J$5)^2+(CH18-$L$5)^2)<$I$6,1,0) -> #N/A | CJ18: =CG18*CI18 -> #N/A | CK18: =CH18*CI18 -> #N/A | CM18: 9 | CN18: =CN$6*COS(CM18*PI()/180)+CO$5 -> #N/A | CO18: =CN$6*SIN(CM18*PI()/180)+CQ$5 -> #N/A | CP18: =IF(SQRT((CN18-$J$5)^2+(CO18-$L$5)^2)<$I$6,1,0) -> #N/A | CQ18: =CN18*CP18 -> #N/A | CR18: =CO18*CP18 -> #N/A | CT18: 9 | CU18: =CU$6*COS(CT18*PI()/180)+CV$5 -> #N/A | CV18: =CU$6*SIN(CT18*PI()/180)+CX$5 -> #N/A | CW18: =IF(SQRT((CU18-$J$5)^2+(CV18-$L$5)^2)<$I$6,1,0) -> #N/A | CX18: =CU18*CW18 -> #N/A | CY18: =CV18*CW18 -> #N/A | DA18: 9 | DB18: =DB$6*COS(DA18*PI()/180)+DC$5 -> #N/A | DC18: =DB$6*SIN(DA18*PI()/180)+DE$5 -> #N/A | DD18: =IF(SQRT((DB18-$J$5)^2+(DC18-$L$5)^2)<$I$6,1,0) -> #N/A | DE18: =DB18*DD18 -> #N/A | DF18: =DC18*DD18 -> #N/A | DH18: 9 | DI18: =DI$6*COS(DH18*PI()/180)+DJ$5 -> #N/A | DJ18: =DI$6*SIN(DH18*PI()/180)+DL$5 -> #N/A | DK18: =IF(SQRT((DI18-$J$5)^2+(DJ18-$L$5)^2)<$I$6,1,0) -> #N/A | DL18: =DI18*DK18 -> #N/A | DM18: =DJ18*DK18 -> #N/A | DO18: 9 | DP18: =DP$6*COS(DO18*PI()/180)+DQ$5 -> #N/A | DQ18: =DP$6*SIN(DO18*PI()/180)+DS$5 -> #N/A | DR18: =IF(SQRT((DP18-$J$5)^2+(DQ18-$L$5)^2)<$I$6,1,0) -> #N/A | DS18: =DP18*DR18 -> #N/A | DT18: =DQ18*DR18 -> #N/A | DV18: 9 | DW18: =DW$6*COS(DV18*PI()/180)+DX$5 -> #N/A | DX18: =DW$6*SIN(DV18*PI()/180)+DZ$5 -> #N/A | DY18: =IF(SQRT((DW18-$J$5)^2+(DX18-$L$5)^2)<$I$6,1,0) -> #N/A | DZ18: =DW18*DY18 -> #N/A | EA18: =DX18*DY18 -> #N/A | EC18: 9 | ED18: =ED$6*COS(EC18*PI()/180)+EE$5 -> #N/A | EE18: =ED$6*SIN(EC18*PI()/180)+EG$5 -> #N/A | EF18: =IF(SQRT((ED18-$J$5)^2+(EE18-$L$5)^2)<$I$6,1,0) -> #N/A | EG18: =ED18*EF18 -> #N/A | EH18: =EE18*EF18 -> #N/A | EJ18: 9 | EK18: =EK$6*COS(EJ18*PI()/180)+EL$5 -> #N/A | EL18: =EK$6*SIN(EJ18*PI()/180)+EN$5 -> #N/A | EM18: =IF(SQRT((EK18-$J$5)^2+(EL18-$L$5)^2)<$I$6,1,0) -> #N/A | EN18: =EK18*EM18 -> #N/A | EO18: =EL18*EM18 -> #N/A | EQ18: 9 | ER18: =ER$6*COS(EQ18*PI()/180)+ES$5 -> #N/A | ES18: =ER$6*SIN(EQ18*PI()/180)+EU$5 -> #N/A | ET18: =IF(SQRT((ER18-$J$5)^2+(ES18-$L$5)^2)<$I$6,1,0) -> #N/A | EU18: =ER18*ET18 -> #N/A | EV18: =ES18*ET18 -> #N/A | EX18: 9 | EY18: =EY$6*COS(EX18*PI()/180)+EZ$5 -> #N/A | EZ18: =EY$6*SIN(EX18*PI()/180)+FB$5 -> #N/A | FA18: =IF(SQRT((EY18-$J$5)^2+(EZ18-$L$5)^2)<$I$6,1,0) -> #N/A | FB18: =EY18*FA18 -> #N/A | FC18: =EZ18*FA18 -> #N/A | FE18: 9 | FF18: =FF$6*COS(FE18*PI()/180)+FG$5 -> #N/A | FG18: =FF$6*SIN(FE18*PI()/180)+FI$5 -> #N/A | FH18: =IF(SQRT((FF18-$J$5)^2+(FG18-$L$5)^2)<$I$6,1,0) -> #N/A | FI18: =FF18*FH18 -> #N/A | FJ18: =FG18*FH18 -> #N/A | FL18: 9 | FM18: =FM$6*COS(FL18*PI()/180)+FN$5 -> #N/A | FN18: =FM$6*SIN(FL18*PI()/180)+FP$5 -> #N/A | FO18: =IF(SQRT((FM18-$J$5)^2+(FN18-$L$5)^2)<$I$6,1,0) -> #N/A | FP18: =FM18*FO18 -> #N/A | FQ18: =FN18*FO18 -> #N/A | FS18: 9 | FT18: =FT$6*COS(FS18*PI()/180)+FU$5 -> #N/A | FU18: =FT$6*SIN(FS18*PI()/180)+FW$5 -> #N/A | FV18: =IF(SQRT((FT18-$J$5)^2+(FU18-$L$5)^2)<$I$6,1,0) -> #N/A | FW18: =FT18*FV18 -> #N/A | FX18: =FU18*FV18 -> #N/A
A19: 2 | B19: =MOD('Pattern Entry'!$E$3+B32,360) -> 247 | C19: =C32 -> 0.4 | D19: =C19*COS(PI()*B19/180) -> -0.15629245 | E19: =C19*SIN(PI()*B19/180) -> -0.36820194 | F19: =MATCH(B19,$E$31:$E$34) -> 3 | H19: 10 | I19: =$I$6*COS(H19*PI()/180)+$J$5 -> 1.4772116 | J19: =$I$6*SIN(H19*PI()/180)+$L$5 -> 0.26047227 | N19: 10 | O19: =$O$6*COS($N19*PI()/180)+$P$5 -> 0.58231336 | P19: =$O$6*SIN($N19*PI()/180)+$R$5 -> -0.23796581 | Q19: =IF(SQRT((O19-$J$5)^2+(P19-$L$5)^2)<$I$6,1,0) -> 1 | R19: =O19*Q19 -> 0.58231336 | S19: =P19*Q19 -> -0.23796581 | U19: 10 | V19: =V$6*COS(U19*PI()/180)+W$5 -> 0.34158735 | W19: =V$6*SIN(U19*PI()/180)+Y$5 -> 0.081488396 | X19: =IF(SQRT((V19-$J$5)^2+(W19-$L$5)^2)<$I$6,1,0) -> 1 | Y19: =V19*X19 -> 0.34158735 | Z19: =W19*X19 -> 0.081488396 | AB19: 10 | AC19: =AC$6*COS(AB19*PI()/180)+AD$5 -> 0.49787981 | AD19: =AC$6*SIN(AB19*PI()/180)+AF$5 -> 0.44969034 | AE19: =IF(SQRT((AC19-$J$5)^2+(AD19-$L$5)^2)<$I$6,1,0) -> 1 | AF19: =AC19*AE19 -> 0.49787981 | AG19: =AD19*AE19 -> 0.44969034 | AI19: 10 | AJ19: =AJ$6*COS(AI19*PI()/180)+AK$5 -> 0.89489827 | AK19: =AJ$6*SIN(AI19*PI()/180)+AM$5 -> 0.49843807 | AL19: =IF(SQRT((AJ19-$J$5)^2+(AK19-$L$5)^2)<$I$6,1,0) -> 1 | AM19: =AJ19*AL19 -> 0.89489827 | AN19: =AK19*AL19 -> 0.49843807 | AP19: 10 | AQ19: =AQ$6*COS(AP19*PI()/180)+AR$5 -> 1.1356243 | AR19: =AQ$6*SIN(AP19*PI()/180)+AT$5 -> 0.17898387 | AS19: =IF(SQRT((AQ19-$J$5)^2+(AR19-$L$5)^2)<$I$6,1,0) -> 1 | AT19: =AQ19*AS19 -> 1.1356243 | AU19: =AR19*AS19 -> 0.17898387 | AW19: 10 | AX19: =AX$6*COS(AW19*PI()/180)+AY$5 -> 0.97933182 | AY19: =AX$6*SIN(AW19*PI()/180)+BA$5 -> -0.18921807 | AZ19: =IF(SQRT((AX19-$J$5)^2+(AY19-$L$5)^2)<$I$6,1,0) -> 1 | BA19: =AX19*AZ19 -> 0.97933182 | BB19: =AY19*AZ19 -> -0.18921807 | BD19: 10 | BE19: =BE$6*COS(BD19*PI()/180)+BF$5 -> #N/A | BF19: =BE$6*SIN(BD19*PI()/180)+BH$5 -> #N/A | BG19: =IF(SQRT((BE19-$J$5)^2+(BF19-$L$5)^2)<$I$6,1,0) -> #N/A | BH19: =BE19*BG19 -> #N/A | BI19: =BF19*BG19 -> #N/A | BK19: 10 | BL19: =BL$6*COS(BK19*PI()/180)+BM$5 -> #N/A | BM19: =BL$6*SIN(BK19*PI()/180)+BO$5 -> #N/A | BN19: =IF(SQRT((BL19-$J$5)^2+(BM19-$L$5)^2)<$I$6,1,0) -> #N/A | BO19: =BL19*BN19 -> #N/A | BP19: =BM19*BN19 -> #N/A | BR19: 10 | BS19: =BS$6*COS(BR19*PI()/180)+BT$5 -> #N/A | BT19: =BS$6*SIN(BR19*PI()/180)+BV$5 -> #N/A | BU19: =IF(SQRT((BS19-$J$5)^2+(BT19-$L$5)^2)<$I$6,1,0) -> #N/A | BV19: =BS19*BU19 -> #N/A | BW19: =BT19*BU19 -> #N/A | BY19: 10 | BZ19: =BZ$6*COS(BY19*PI()/180)+CA$5 -> #N/A | CA19: =BZ$6*SIN(BY19*PI()/180)+CC$5 -> #N/A | CB19: =IF(SQRT((BZ19-$J$5)^2+(CA19-$L$5)^2)<$I$6,1,0) -> #N/A | CC19: =BZ19*CB19 -> #N/A | CD19: =CA19*CB19 -> #N/A | CF19: 10 | CG19: =CG$6*COS(CF19*PI()/180)+CH$5 -> #N/A | CH19: =CG$6*SIN(CF19*PI()/180)+CJ$5 -> #N/A | CI19: =IF(SQRT((CG19-$J$5)^2+(CH19-$L$5)^2)<$I$6,1,0) -> #N/A | CJ19: =CG19*CI19 -> #N/A | CK19: =CH19*CI19 -> #N/A | CM19: 10 | CN19: =CN$6*COS(CM19*PI()/180)+CO$5 -> #N/A | CO19: =CN$6*SIN(CM19*PI()/180)+CQ$5 -> #N/A | CP19: =IF(SQRT((CN19-$J$5)^2+(CO19-$L$5)^2)<$I$6,1,0) -> #N/A | CQ19: =CN19*CP19 -> #N/A | CR19: =CO19*CP19 -> #N/A | CT19: 10 | CU19: =CU$6*COS(CT19*PI()/180)+CV$5 -> #N/A | CV19: =CU$6*SIN(CT19*PI()/180)+CX$5 -> #N/A | CW19: =IF(SQRT((CU19-$J$5)^2+(CV19-$L$5)^2)<$I$6,1,0) -> #N/A | CX19: =CU19*CW19 -> #N/A | CY19: =CV19*CW19 -> #N/A | DA19: 10 | DB19: =DB$6*COS(DA19*PI()/180)+DC$5 -> #N/A | DC19: =DB$6*SIN(DA19*PI()/180)+DE$5 -> #N/A | DD19: =IF(SQRT((DB19-$J$5)^2+(DC19-$L$5)^2)<$I$6,1,0) -> #N/A | DE19: =DB19*DD19 -> #N/A | DF19: =DC19*DD19 -> #N/A | DH19: 10 | DI19: =DI$6*COS(DH19*PI()/180)+DJ$5 -> #N/A | DJ19: =DI$6*SIN(DH19*PI()/180)+DL$5 -> #N/A | DK19: =IF(SQRT((DI19-$J$5)^2+(DJ19-$L$5)^2)<$I$6,1,0) -> #N/A | DL19: =DI19*DK19 -> #N/A | DM19: =DJ19*DK19 -> #N/A | DO19: 10 | DP19: =DP$6*COS(DO19*PI()/180)+DQ$5 -> #N/A | DQ19: =DP$6*SIN(DO19*PI()/180)+DS$5 -> #N/A | DR19: =IF(SQRT((DP19-$J$5)^2+(DQ19-$L$5)^2)<$I$6,1,0) -> #N/A | DS19: =DP19*DR19 -> #N/A | DT19: =DQ19*DR19 -> #N/A | DV19: 10 | DW19: =DW$6*COS(DV19*PI()/180)+DX$5 -> #N/A | DX19: =DW$6*SIN(DV19*PI()/180)+DZ$5 -> #N/A | DY19: =IF(SQRT((DW19-$J$5)^2+(DX19-$L$5)^2)<$I$6,1,0) -> #N/A | DZ19: =DW19*DY19 -> #N/A | EA19: =DX19*DY19 -> #N/A | EC19: 10 | ED19: =ED$6*COS(EC19*PI()/180)+EE$5 -> #N/A | EE19: =ED$6*SIN(EC19*PI()/180)+EG$5 -> #N/A | EF19: =IF(SQRT((ED19-$J$5)^2+(EE19-$L$5)^2)<$I$6,1,0) -> #N/A | EG19: =ED19*EF19 -> #N/A | EH19: =EE19*EF19 -> #N/A | EJ19: 10 | EK19: =EK$6*COS(EJ19*PI()/180)+EL$5 -> #N/A | EL19: =EK$6*SIN(EJ19*PI()/180)+EN$5 -> #N/A | EM19: =IF(SQRT((EK19-$J$5)^2+(EL19-$L$5)^2)<$I$6,1,0) -> #N/A | EN19: =EK19*EM19 -> #N/A | EO19: =EL19*EM19 -> #N/A | EQ19: 10 | ER19: =ER$6*COS(EQ19*PI()/180)+ES$5 -> #N/A | ES19: =ER$6*SIN(EQ19*PI()/180)+EU$5 -> #N/A | ET19: =IF(SQRT((ER19-$J$5)^2+(ES19-$L$5)^2)<$I$6,1,0) -> #N/A | EU19: =ER19*ET19 -> #N/A | EV19: =ES19*ET19 -> #N/A | EX19: 10 | EY19: =EY$6*COS(EX19*PI()/180)+EZ$5 -> #N/A | EZ19: =EY$6*SIN(EX19*PI()/180)+FB$5 -> #N/A | FA19: =IF(SQRT((EY19-$J$5)^2+(EZ19-$L$5)^2)<$I$6,1,0) -> #N/A | FB19: =EY19*FA19 -> #N/A | FC19: =EZ19*FA19 -> #N/A | FE19: 10 | FF19: =FF$6*COS(FE19*PI()/180)+FG$5 -> #N/A | FG19: =FF$6*SIN(FE19*PI()/180)+FI$5 -> #N/A | FH19: =IF(SQRT((FF19-$J$5)^2+(FG19-$L$5)^2)<$I$6,1,0) -> #N/A | FI19: =FF19*FH19 -> #N/A | FJ19: =FG19*FH19 -> #N/A | FL19: 10 | FM19: =FM$6*COS(FL19*PI()/180)+FN$5 -> #N/A | FN19: =FM$6*SIN(FL19*PI()/180)+FP$5 -> #N/A | FO19: =IF(SQRT((FM19-$J$5)^2+(FN19-$L$5)^2)<$I$6,1,0) -> #N/A | FP19: =FM19*FO19 -> #N/A | FQ19: =FN19*FO19 -> #N/A | FS19: 10 | FT19: =FT$6*COS(FS19*PI()/180)+FU$5 -> #N/A | FU19: =FT$6*SIN(FS19*PI()/180)+FW$5 -> #N/A | FV19: =IF(SQRT((FT19-$J$5)^2+(FU19-$L$5)^2)<$I$6,1,0) -> #N/A | FW19: =FT19*FV19 -> #N/A | FX19: =FU19*FV19 -> #N/A
A20: 3 | B20: =MOD('Pattern Entry'!$E$3+B33,360) -> 307 | C20: =C33 -> 0.45 | D20: =C20*COS(PI()*B20/180) -> 0.27081676 | E20: =C20*SIN(PI()*B20/180) -> -0.35938598 | F20: =MATCH(B20,$E$31:$E$34) -> 4 | H20: 11 | I20: =$I$6*COS(H20*PI()/180)+$J$5 -> 1.4724408 | J20: =$I$6*SIN(H20*PI()/180)+$L$5 -> 0.28621349 | N20: 11 | O20: =$O$6*COS($N20*PI()/180)+$P$5 -> 0.57992794 | P20: =$O$6*SIN($N20*PI()/180)+$R$5 -> -0.22509519 | Q20: =IF(SQRT((O20-$J$5)^2+(P20-$L$5)^2)<$I$6,1,0) -> 1 | R20: =O20*Q20 -> 0.57992794 | S20: =P20*Q20 -> -0.22509519 | U20: 11 | V20: =V$6*COS(U20*PI()/180)+W$5 -> 0.33920193 | W20: =V$6*SIN(U20*PI()/180)+Y$5 -> 0.094359009 | X20: =IF(SQRT((V20-$J$5)^2+(W20-$L$5)^2)<$I$6,1,0) -> 1 | Y20: =V20*X20 -> 0.33920193 | Z20: =W20*X20 -> 0.094359009 | AB20: 11 | AC20: =AC$6*COS(AB20*PI()/180)+AD$5 -> 0.49549438 | AD20: =AC$6*SIN(AB20*PI()/180)+AF$5 -> 0.46256095 | AE20: =IF(SQRT((AC20-$J$5)^2+(AD20-$L$5)^2)<$I$6,1,0) -> 1 | AF20: =AC20*AE20 -> 0.49549438 | AG20: =AD20*AE20 -> 0.46256095 | AI20: 11 | AJ20: =AJ$6*COS(AI20*PI()/180)+AK$5 -> 0.89251284 | AK20: =AJ$6*SIN(AI20*PI()/180)+AM$5 -> 0.51130869 | AL20: =IF(SQRT((AJ20-$J$5)^2+(AK20-$L$5)^2)<$I$6,1,0) -> 1 | AM20: =AJ20*AL20 -> 0.89251284 | AN20: =AK20*AL20 -> 0.51130869 | AP20: 11 | AQ20: =AQ$6*COS(AP20*PI()/180)+AR$5 -> 1.1332388 | AR20: =AQ$6*SIN(AP20*PI()/180)+AT$5 -> 0.19185448 | AS20: =IF(SQRT((AQ20-$J$5)^2+(AR20-$L$5)^2)<$I$6,1,0) -> 1 | AT20: =AQ20*AS20 -> 1.1332388 | AU20: =AR20*AS20 -> 0.19185448 | AW20: 11 | AX20: =AX$6*COS(AW20*PI()/180)+AY$5 -> 0.9769464 | AY20: =AX$6*SIN(AW20*PI()/180)+BA$5 -> -0.17634746 | AZ20: =IF(SQRT((AX20-$J$5)^2+(AY20-$L$5)^2)<$I$6,1,0) -> 1 | BA20: =AX20*AZ20 -> 0.9769464 | BB20: =AY20*AZ20 -> -0.17634746 | BD20: 11 | BE20: =BE$6*COS(BD20*PI()/180)+BF$5 -> #N/A | BF20: =BE$6*SIN(BD20*PI()/180)+BH$5 -> #N/A | BG20: =IF(SQRT((BE20-$J$5)^2+(BF20-$L$5)^2)<$I$6,1,0) -> #N/A | BH20: =BE20*BG20 -> #N/A | BI20: =BF20*BG20 -> #N/A | BK20: 11 | BL20: =BL$6*COS(BK20*PI()/180)+BM$5 -> #N/A | BM20: =BL$6*SIN(BK20*PI()/180)+BO$5 -> #N/A | BN20: =IF(SQRT((BL20-$J$5)^2+(BM20-$L$5)^2)<$I$6,1,0) -> #N/A | BO20: =BL20*BN20 -> #N/A | BP20: =BM20*BN20 -> #N/A | BR20: 11 | BS20: =BS$6*COS(BR20*PI()/180)+BT$5 -> #N/A | BT20: =BS$6*SIN(BR20*PI()/180)+BV$5 -> #N/A | BU20: =IF(SQRT((BS20-$J$5)^2+(BT20-$L$5)^2)<$I$6,1,0) -> #N/A | BV20: =BS20*BU20 -> #N/A | BW20: =BT20*BU20 -> #N/A | BY20: 11 | BZ20: =BZ$6*COS(BY20*PI()/180)+CA$5 -> #N/A | CA20: =BZ$6*SIN(BY20*PI()/180)+CC$5 -> #N/A | CB20: =IF(SQRT((BZ20-$J$5)^2+(CA20-$L$5)^2)<$I$6,1,0) -> #N/A | CC20: =BZ20*CB20 -> #N/A | CD20: =CA20*CB20 -> #N/A | CF20: 11 | CG20: =CG$6*COS(CF20*PI()/180)+CH$5 -> #N/A | CH20: =CG$6*SIN(CF20*PI()/180)+CJ$5 -> #N/A | CI20: =IF(SQRT((CG20-$J$5)^2+(CH20-$L$5)^2)<$I$6,1,0) -> #N/A | CJ20: =CG20*CI20 -> #N/A | CK20: =CH20*CI20 -> #N/A | CM20: 11 | CN20: =CN$6*COS(CM20*PI()/180)+CO$5 -> #N/A | CO20: =CN$6*SIN(CM20*PI()/180)+CQ$5 -> #N/A | CP20: =IF(SQRT((CN20-$J$5)^2+(CO20-$L$5)^2)<$I$6,1,0) -> #N/A | CQ20: =CN20*CP20 -> #N/A | CR20: =CO20*CP20 -> #N/A | CT20: 11 | CU20: =CU$6*COS(CT20*PI()/180)+CV$5 -> #N/A | CV20: =CU$6*SIN(CT20*PI()/180)+CX$5 -> #N/A | CW20: =IF(SQRT((CU20-$J$5)^2+(CV20-$L$5)^2)<$I$6,1,0) -> #N/A | CX20: =CU20*CW20 -> #N/A | CY20: =CV20*CW20 -> #N/A | DA20: 11 | DB20: =DB$6*COS(DA20*PI()/180)+DC$5 -> #N/A | DC20: =DB$6*SIN(DA20*PI()/180)+DE$5 -> #N/A | DD20: =IF(SQRT((DB20-$J$5)^2+(DC20-$L$5)^2)<$I$6,1,0) -> #N/A | DE20: =DB20*DD20 -> #N/A | DF20: =DC20*DD20 -> #N/A | DH20: 11 | DI20: =DI$6*COS(DH20*PI()/180)+DJ$5 -> #N/A | DJ20: =DI$6*SIN(DH20*PI()/180)+DL$5 -> #N/A | DK20: =IF(SQRT((DI20-$J$5)^2+(DJ20-$L$5)^2)<$I$6,1,0) -> #N/A | DL20: =DI20*DK20 -> #N/A | DM20: =DJ20*DK20 -> #N/A | DO20: 11 | DP20: =DP$6*COS(DO20*PI()/180)+DQ$5 -> #N/A | DQ20: =DP$6*SIN(DO20*PI()/180)+DS$5 -> #N/A | DR20: =IF(SQRT((DP20-$J$5)^2+(DQ20-$L$5)^2)<$I$6,1,0) -> #N/A | DS20: =DP20*DR20 -> #N/A | DT20: =DQ20*DR20 -> #N/A | DV20: 11 | DW20: =DW$6*COS(DV20*PI()/180)+DX$5 -> #N/A | DX20: =DW$6*SIN(DV20*PI()/180)+DZ$5 -> #N/A | DY20: =IF(SQRT((DW20-$J$5)^2+(DX20-$L$5)^2)<$I$6,1,0) -> #N/A | DZ20: =DW20*DY20 -> #N/A | EA20: =DX20*DY20 -> #N/A | EC20: 11 | ED20: =ED$6*COS(EC20*PI()/180)+EE$5 -> #N/A | EE20: =ED$6*SIN(EC20*PI()/180)+EG$5 -> #N/A | EF20: =IF(SQRT((ED20-$J$5)^2+(EE20-$L$5)^2)<$I$6,1,0) -> #N/A | EG20: =ED20*EF20 -> #N/A | EH20: =EE20*EF20 -> #N/A | EJ20: 11 | EK20: =EK$6*COS(EJ20*PI()/180)+EL$5 -> #N/A | EL20: =EK$6*SIN(EJ20*PI()/180)+EN$5 -> #N/A | EM20: =IF(SQRT((EK20-$J$5)^2+(EL20-$L$5)^2)<$I$6,1,0) -> #N/A | EN20: =EK20*EM20 -> #N/A | EO20: =EL20*EM20 -> #N/A | EQ20: 11 | ER20: =ER$6*COS(EQ20*PI()/180)+ES$5 -> #N/A | ES20: =ER$6*SIN(EQ20*PI()/180)+EU$5 -> #N/A | ET20: =IF(SQRT((ER20-$J$5)^2+(ES20-$L$5)^2)<$I$6,1,0) -> #N/A | EU20: =ER20*ET20 -> #N/A | EV20: =ES20*ET20 -> #N/A | EX20: 11 | EY20: =EY$6*COS(EX20*PI()/180)+EZ$5 -> #N/A | EZ20: =EY$6*SIN(EX20*PI()/180)+FB$5 -> #N/A | FA20: =IF(SQRT((EY20-$J$5)^2+(EZ20-$L$5)^2)<$I$6,1,0) -> #N/A | FB20: =EY20*FA20 -> #N/A | FC20: =EZ20*FA20 -> #N/A | FE20: 11 | FF20: =FF$6*COS(FE20*PI()/180)+FG$5 -> #N/A | FG20: =FF$6*SIN(FE20*PI()/180)+FI$5 -> #N/A | FH20: =IF(SQRT((FF20-$J$5)^2+(FG20-$L$5)^2)<$I$6,1,0) -> #N/A | FI20: =FF20*FH20 -> #N/A | FJ20: =FG20*FH20 -> #N/A | FL20: 11 | FM20: =FM$6*COS(FL20*PI()/180)+FN$5 -> #N/A | FN20: =FM$6*SIN(FL20*PI()/180)+FP$5 -> #N/A | FO20: =IF(SQRT((FM20-$J$5)^2+(FN20-$L$5)^2)<$I$6,1,0) -> #N/A | FP20: =FM20*FO20 -> #N/A | FQ20: =FN20*FO20 -> #N/A | FS20: 11 | FT20: =FT$6*COS(FS20*PI()/180)+FU$5 -> #N/A | FU20: =FT$6*SIN(FS20*PI()/180)+FW$5 -> #N/A | FV20: =IF(SQRT((FT20-$J$5)^2+(FU20-$L$5)^2)<$I$6,1,0) -> #N/A | FW20: =FT20*FV20 -> #N/A | FX20: =FU20*FV20 -> #N/A
A21: 4 | B21: =MOD('Pattern Entry'!$E$3+B34,360) -> 0 | C21: =C34 -> 0.5 | D21: =C21*COS(PI()*B21/180) -> 0.5 | E21: =C21*SIN(PI()*B21/180) -> 0 | F21: =MATCH(B21,$E$31:$E$34) -> 1 | H21: 12 | I21: =$I$6*COS(H21*PI()/180)+$J$5 -> 1.4672214 | J21: =$I$6*SIN(H21*PI()/180)+$L$5 -> 0.31186754 | N21: 12 | O21: =$O$6*COS($N21*PI()/180)+$P$5 -> 0.57731825 | P21: =$O$6*SIN($N21*PI()/180)+$R$5 -> -0.21226817 | Q21: =IF(SQRT((O21-$J$5)^2+(P21-$L$5)^2)<$I$6,1,0) -> 1 | R21: =O21*Q21 -> 0.57731825 | S21: =P21*Q21 -> -0.21226817 | U21: 12 | V21: =V$6*COS(U21*PI()/180)+W$5 -> 0.33659224 | W21: =V$6*SIN(U21*PI()/180)+Y$5 -> 0.10718603 | X21: =IF(SQRT((V21-$J$5)^2+(W21-$L$5)^2)<$I$6,1,0) -> 1 | Y21: =V21*X21 -> 0.33659224 | Z21: =W21*X21 -> 0.10718603 | AB21: 12 | AC21: =AC$6*COS(AB21*PI()/180)+AD$5 -> 0.49288469 | AD21: =AC$6*SIN(AB21*PI()/180)+AF$5 -> 0.47538797 | AE21: =IF(SQRT((AC21-$J$5)^2+(AD21-$L$5)^2)<$I$6,1,0) -> 1 | AF21: =AC21*AE21 -> 0.49288469 | AG21: =AD21*AE21 -> 0.47538797 | AI21: 12 | AJ21: =AJ$6*COS(AI21*PI()/180)+AK$5 -> 0.88990315 | AK21: =AJ$6*SIN(AI21*PI()/180)+AM$5 -> 0.52413571 | AL21: =IF(SQRT((AJ21-$J$5)^2+(AK21-$L$5)^2)<$I$6,1,0) -> 1 | AM21: =AJ21*AL21 -> 0.88990315 | AN21: =AK21*AL21 -> 0.52413571 | AP21: 12 | AQ21: =AQ$6*COS(AP21*PI()/180)+AR$5 -> 1.1306292 | AR21: =AQ$6*SIN(AP21*PI()/180)+AT$5 -> 0.20468151 | AS21: =IF(SQRT((AQ21-$J$5)^2+(AR21-$L$5)^2)<$I$6,1,0) -> 1 | AT21: =AQ21*AS21 -> 1.1306292 | AU21: =AR21*AS21 -> 0.20468151 | AW21: 12 | AX21: =AX$6*COS(AW21*PI()/180)+AY$5 -> 0.97433671 | AY21: =AX$6*SIN(AW21*PI()/180)+BA$5 -> -0.16352044 | AZ21: =IF(SQRT((AX21-$J$5)^2+(AY21-$L$5)^2)<$I$6,1,0) -> 1 | BA21: =AX21*AZ21 -> 0.97433671 | BB21: =AY21*AZ21 -> -0.16352044 | BD21: 12 | BE21: =BE$6*COS(BD21*PI()/180)+BF$5 -> #N/A | BF21: =BE$6*SIN(BD21*PI()/180)+BH$5 -> #N/A | BG21: =IF(SQRT((BE21-$J$5)^2+(BF21-$L$5)^2)<$I$6,1,0) -> #N/A | BH21: =BE21*BG21 -> #N/A | BI21: =BF21*BG21 -> #N/A | BK21: 12 | BL21: =BL$6*COS(BK21*PI()/180)+BM$5 -> #N/A | BM21: =BL$6*SIN(BK21*PI()/180)+BO$5 -> #N/A | BN21: =IF(SQRT((BL21-$J$5)^2+(BM21-$L$5)^2)<$I$6,1,0) -> #N/A | BO21: =BL21*BN21 -> #N/A | BP21: =BM21*BN21 -> #N/A | BR21: 12 | BS21: =BS$6*COS(BR21*PI()/180)+BT$5 -> #N/A | BT21: =BS$6*SIN(BR21*PI()/180)+BV$5 -> #N/A | BU21: =IF(SQRT((BS21-$J$5)^2+(BT21-$L$5)^2)<$I$6,1,0) -> #N/A | BV21: =BS21*BU21 -> #N/A | BW21: =BT21*BU21 -> #N/A | BY21: 12 | BZ21: =BZ$6*COS(BY21*PI()/180)+CA$5 -> #N/A | CA21: =BZ$6*SIN(BY21*PI()/180)+CC$5 -> #N/A | CB21: =IF(SQRT((BZ21-$J$5)^2+(CA21-$L$5)^2)<$I$6,1,0) -> #N/A | CC21: =BZ21*CB21 -> #N/A | CD21: =CA21*CB21 -> #N/A | CF21: 12 | CG21: =CG$6*COS(CF21*PI()/180)+CH$5 -> #N/A | CH21: =CG$6*SIN(CF21*PI()/180)+CJ$5 -> #N/A | CI21: =IF(SQRT((CG21-$J$5)^2+(CH21-$L$5)^2)<$I$6,1,0) -> #N/A | CJ21: =CG21*CI21 -> #N/A | CK21: =CH21*CI21 -> #N/A | CM21: 12 | CN21: =CN$6*COS(CM21*PI()/180)+CO$5 -> #N/A | CO21: =CN$6*SIN(CM21*PI()/180)+CQ$5 -> #N/A | CP21: =IF(SQRT((CN21-$J$5)^2+(CO21-$L$5)^2)<$I$6,1,0) -> #N/A | CQ21: =CN21*CP21 -> #N/A | CR21: =CO21*CP21 -> #N/A | CT21: 12 | CU21: =CU$6*COS(CT21*PI()/180)+CV$5 -> #N/A | CV21: =CU$6*SIN(CT21*PI()/180)+CX$5 -> #N/A | CW21: =IF(SQRT((CU21-$J$5)^2+(CV21-$L$5)^2)<$I$6,1,0) -> #N/A | CX21: =CU21*CW21 -> #N/A | CY21: =CV21*CW21 -> #N/A | DA21: 12 | DB21: =DB$6*COS(DA21*PI()/180)+DC$5 -> #N/A | DC21: =DB$6*SIN(DA21*PI()/180)+DE$5 -> #N/A | DD21: =IF(SQRT((DB21-$J$5)^2+(DC21-$L$5)^2)<$I$6,1,0) -> #N/A | DE21: =DB21*DD21 -> #N/A | DF21: =DC21*DD21 -> #N/A | DH21: 12 | DI21: =DI$6*COS(DH21*PI()/180)+DJ$5 -> #N/A | DJ21: =DI$6*SIN(DH21*PI()/180)+DL$5 -> #N/A | DK21: =IF(SQRT((DI21-$J$5)^2+(DJ21-$L$5)^2)<$I$6,1,0) -> #N/A | DL21: =DI21*DK21 -> #N/A | DM21: =DJ21*DK21 -> #N/A | DO21: 12 | DP21: =DP$6*COS(DO21*PI()/180)+DQ$5 -> #N/A | DQ21: =DP$6*SIN(DO21*PI()/180)+DS$5 -> #N/A | DR21: =IF(SQRT((DP21-$J$5)^2+(DQ21-$L$5)^2)<$I$6,1,0) -> #N/A | DS21: =DP21*DR21 -> #N/A | DT21: =DQ21*DR21 -> #N/A | DV21: 12 | DW21: =DW$6*COS(DV21*PI()/180)+DX$5 -> #N/A | DX21: =DW$6*SIN(DV21*PI()/180)+DZ$5 -> #N/A | DY21: =IF(SQRT((DW21-$J$5)^2+(DX21-$L$5)^2)<$I$6,1,0) -> #N/A | DZ21: =DW21*DY21 -> #N/A | EA21: =DX21*DY21 -> #N/A | EC21: 12 | ED21: =ED$6*COS(EC21*PI()/180)+EE$5 -> #N/A | EE21: =ED$6*SIN(EC21*PI()/180)+EG$5 -> #N/A | EF21: =IF(SQRT((ED21-$J$5)^2+(EE21-$L$5)^2)<$I$6,1,0) -> #N/A | EG21: =ED21*EF21 -> #N/A | EH21: =EE21*EF21 -> #N/A | EJ21: 12 | EK21: =EK$6*COS(EJ21*PI()/180)+EL$5 -> #N/A | EL21: =EK$6*SIN(EJ21*PI()/180)+EN$5 -> #N/A | EM21: =IF(SQRT((EK21-$J$5)^2+(EL21-$L$5)^2)<$I$6,1,0) -> #N/A | EN21: =EK21*EM21 -> #N/A | EO21: =EL21*EM21 -> #N/A | EQ21: 12 | ER21: =ER$6*COS(EQ21*PI()/180)+ES$5 -> #N/A | ES21: =ER$6*SIN(EQ21*PI()/180)+EU$5 -> #N/A | ET21: =IF(SQRT((ER21-$J$5)^2+(ES21-$L$5)^2)<$I$6,1,0) -> #N/A | EU21: =ER21*ET21 -> #N/A | EV21: =ES21*ET21 -> #N/A | EX21: 12 | EY21: =EY$6*COS(EX21*PI()/180)+EZ$5 -> #N/A | EZ21: =EY$6*SIN(EX21*PI()/180)+FB$5 -> #N/A | FA21: =IF(SQRT((EY21-$J$5)^2+(EZ21-$L$5)^2)<$I$6,1,0) -> #N/A | FB21: =EY21*FA21 -> #N/A | FC21: =EZ21*FA21 -> #N/A | FE21: 12 | FF21: =FF$6*COS(FE21*PI()/180)+FG$5 -> #N/A | FG21: =FF$6*SIN(FE21*PI()/180)+FI$5 -> #N/A | FH21: =IF(SQRT((FF21-$J$5)^2+(FG21-$L$5)^2)<$I$6,1,0) -> #N/A | FI21: =FF21*FH21 -> #N/A | FJ21: =FG21*FH21 -> #N/A | FL21: 12 | FM21: =FM$6*COS(FL21*PI()/180)+FN$5 -> #N/A | FN21: =FM$6*SIN(FL21*PI()/180)+FP$5 -> #N/A | FO21: =IF(SQRT((FM21-$J$5)^2+(FN21-$L$5)^2)<$I$6,1,0) -> #N/A | FP21: =FM21*FO21 -> #N/A | FQ21: =FN21*FO21 -> #N/A | FS21: 12 | FT21: =FT$6*COS(FS21*PI()/180)+FU$5 -> #N/A | FU21: =FT$6*SIN(FS21*PI()/180)+FW$5 -> #N/A | FV21: =IF(SQRT((FT21-$J$5)^2+(FU21-$L$5)^2)<$I$6,1,0) -> #N/A | FW21: =FT21*FV21 -> #N/A | FX21: =FU21*FV21 -> #N/A
A22: 5 | B22: =MOD('Pattern Entry'!$E$3+B35,360) -> 47 | C22: =C35 -> 0.55 | D22: =C22*COS(PI()*B22/180) -> 0.3750991 | E22: =C22*SIN(PI()*B22/180) -> 0.40224454 | F22: =MATCH(B22,$E$31:$E$34) -> 1 | H22: 13 | I22: =$I$6*COS(H22*PI()/180)+$J$5 -> 1.4615551 | J22: =$I$6*SIN(H22*PI()/180)+$L$5 -> 0.33742658 | N22: 13 | O22: =$O$6*COS($N22*PI()/180)+$P$5 -> 0.5744851 | P22: =$O$6*SIN($N22*PI()/180)+$R$5 -> -0.19948865 | Q22: =IF(SQRT((O22-$J$5)^2+(P22-$L$5)^2)<$I$6,1,0) -> 1 | R22: =O22*Q22 -> 0.5744851 | S22: =P22*Q22 -> -0.19948865 | U22: 13 | V22: =V$6*COS(U22*PI()/180)+W$5 -> 0.33375909 | W22: =V$6*SIN(U22*PI()/180)+Y$5 -> 0.11996555 | X22: =IF(SQRT((V22-$J$5)^2+(W22-$L$5)^2)<$I$6,1,0) -> 1 | Y22: =V22*X22 -> 0.33375909 | Z22: =W22*X22 -> 0.11996555 | AB22: 13 | AC22: =AC$6*COS(AB22*PI()/180)+AD$5 -> 0.49005154 | AD22: =AC$6*SIN(AB22*PI()/180)+AF$5 -> 0.48816749 | AE22: =IF(SQRT((AC22-$J$5)^2+(AD22-$L$5)^2)<$I$6,1,0) -> 1 | AF22: =AC22*AE22 -> 0.49005154 | AG22: =AD22*AE22 -> 0.48816749 | AI22: 13 | AJ22: =AJ$6*COS(AI22*PI()/180)+AK$5 -> 0.88707 | AK22: =AJ$6*SIN(AI22*PI()/180)+AM$5 -> 0.53691523 | AL22: =IF(SQRT((AJ22-$J$5)^2+(AK22-$L$5)^2)<$I$6,1,0) -> 1 | AM22: =AJ22*AL22 -> 0.88707 | AN22: =AK22*AL22 -> 0.53691523 | AP22: 13 | AQ22: =AQ$6*COS(AP22*PI()/180)+AR$5 -> 1.127796 | AR22: =AQ$6*SIN(AP22*PI()/180)+AT$5 -> 0.21746103 | AS22: =IF(SQRT((AQ22-$J$5)^2+(AR22-$L$5)^2)<$I$6,1,0) -> 1 | AT22: =AQ22*AS22 -> 1.127796 | AU22: =AR22*AS22 -> 0.21746103 | AW22: 13 | AX22: =AX$6*COS(AW22*PI()/180)+AY$5 -> 0.97150356 | AY22: =AX$6*SIN(AW22*PI()/180)+BA$5 -> -0.15074091 | AZ22: =IF(SQRT((AX22-$J$5)^2+(AY22-$L$5)^2)<$I$6,1,0) -> 1 | BA22: =AX22*AZ22 -> 0.97150356 | BB22: =AY22*AZ22 -> -0.15074091 | BD22: 13 | BE22: =BE$6*COS(BD22*PI()/180)+BF$5 -> #N/A | BF22: =BE$6*SIN(BD22*PI()/180)+BH$5 -> #N/A | BG22: =IF(SQRT((BE22-$J$5)^2+(BF22-$L$5)^2)<$I$6,1,0) -> #N/A | BH22: =BE22*BG22 -> #N/A | BI22: =BF22*BG22 -> #N/A | BK22: 13 | BL22: =BL$6*COS(BK22*PI()/180)+BM$5 -> #N/A | BM22: =BL$6*SIN(BK22*PI()/180)+BO$5 -> #N/A | BN22: =IF(SQRT((BL22-$J$5)^2+(BM22-$L$5)^2)<$I$6,1,0) -> #N/A | BO22: =BL22*BN22 -> #N/A | BP22: =BM22*BN22 -> #N/A | BR22: 13 | BS22: =BS$6*COS(BR22*PI()/180)+BT$5 -> #N/A | BT22: =BS$6*SIN(BR22*PI()/180)+BV$5 -> #N/A | BU22: =IF(SQRT((BS22-$J$5)^2+(BT22-$L$5)^2)<$I$6,1,0) -> #N/A | BV22: =BS22*BU22 -> #N/A | BW22: =BT22*BU22 -> #N/A | BY22: 13 | BZ22: =BZ$6*COS(BY22*PI()/180)+CA$5 -> #N/A | CA22: =BZ$6*SIN(BY22*PI()/180)+CC$5 -> #N/A | CB22: =IF(SQRT((BZ22-$J$5)^2+(CA22-$L$5)^2)<$I$6,1,0) -> #N/A | CC22: =BZ22*CB22 -> #N/A | CD22: =CA22*CB22 -> #N/A | CF22: 13 | CG22: =CG$6*COS(CF22*PI()/180)+CH$5 -> #N/A | CH22: =CG$6*SIN(CF22*PI()/180)+CJ$5 -> #N/A | CI22: =IF(SQRT((CG22-$J$5)^2+(CH22-$L$5)^2)<$I$6,1,0) -> #N/A | CJ22: =CG22*CI22 -> #N/A | CK22: =CH22*CI22 -> #N/A | CM22: 13 | CN22: =CN$6*COS(CM22*PI()/180)+CO$5 -> #N/A | CO22: =CN$6*SIN(CM22*PI()/180)+CQ$5 -> #N/A | CP22: =IF(SQRT((CN22-$J$5)^2+(CO22-$L$5)^2)<$I$6,1,0) -> #N/A | CQ22: =CN22*CP22 -> #N/A | CR22: =CO22*CP22 -> #N/A | CT22: 13 | CU22: =CU$6*COS(CT22*PI()/180)+CV$5 -> #N/A | CV22: =CU$6*SIN(CT22*PI()/180)+CX$5 -> #N/A | CW22: =IF(SQRT((CU22-$J$5)^2+(CV22-$L$5)^2)<$I$6,1,0) -> #N/A | CX22: =CU22*CW22 -> #N/A | CY22: =CV22*CW22 -> #N/A | DA22: 13 | DB22: =DB$6*COS(DA22*PI()/180)+DC$5 -> #N/A | DC22: =DB$6*SIN(DA22*PI()/180)+DE$5 -> #N/A | DD22: =IF(SQRT((DB22-$J$5)^2+(DC22-$L$5)^2)<$I$6,1,0) -> #N/A | DE22: =DB22*DD22 -> #N/A | DF22: =DC22*DD22 -> #N/A | DH22: 13 | DI22: =DI$6*COS(DH22*PI()/180)+DJ$5 -> #N/A | DJ22: =DI$6*SIN(DH22*PI()/180)+DL$5 -> #N/A | DK22: =IF(SQRT((DI22-$J$5)^2+(DJ22-$L$5)^2)<$I$6,1,0) -> #N/A | DL22: =DI22*DK22 -> #N/A | DM22: =DJ22*DK22 -> #N/A | DO22: 13 | DP22: =DP$6*COS(DO22*PI()/180)+DQ$5 -> #N/A | DQ22: =DP$6*SIN(DO22*PI()/180)+DS$5 -> #N/A | DR22: =IF(SQRT((DP22-$J$5)^2+(DQ22-$L$5)^2)<$I$6,1,0) -> #N/A | DS22: =DP22*DR22 -> #N/A | DT22: =DQ22*DR22 -> #N/A | DV22: 13 | DW22: =DW$6*COS(DV22*PI()/180)+DX$5 -> #N/A | DX22: =DW$6*SIN(DV22*PI()/180)+DZ$5 -> #N/A | DY22: =IF(SQRT((DW22-$J$5)^2+(DX22-$L$5)^2)<$I$6,1,0) -> #N/A | DZ22: =DW22*DY22 -> #N/A | EA22: =DX22*DY22 -> #N/A | EC22: 13 | ED22: =ED$6*COS(EC22*PI()/180)+EE$5 -> #N/A | EE22: =ED$6*SIN(EC22*PI()/180)+EG$5 -> #N/A | EF22: =IF(SQRT((ED22-$J$5)^2+(EE22-$L$5)^2)<$I$6,1,0) -> #N/A | EG22: =ED22*EF22 -> #N/A | EH22: =EE22*EF22 -> #N/A | EJ22: 13 | EK22: =EK$6*COS(EJ22*PI()/180)+EL$5 -> #N/A | EL22: =EK$6*SIN(EJ22*PI()/180)+EN$5 -> #N/A | EM22: =IF(SQRT((EK22-$J$5)^2+(EL22-$L$5)^2)<$I$6,1,0) -> #N/A | EN22: =EK22*EM22 -> #N/A | EO22: =EL22*EM22 -> #N/A | EQ22: 13 | ER22: =ER$6*COS(EQ22*PI()/180)+ES$5 -> #N/A | ES22: =ER$6*SIN(EQ22*PI()/180)+EU$5 -> #N/A | ET22: =IF(SQRT((ER22-$J$5)^2+(ES22-$L$5)^2)<$I$6,1,0) -> #N/A | EU22: =ER22*ET22 -> #N/A | EV22: =ES22*ET22 -> #N/A | EX22: 13 | EY22: =EY$6*COS(EX22*PI()/180)+EZ$5 -> #N/A | EZ22: =EY$6*SIN(EX22*PI()/180)+FB$5 -> #N/A | FA22: =IF(SQRT((EY22-$J$5)^2+(EZ22-$L$5)^2)<$I$6,1,0) -> #N/A | FB22: =EY22*FA22 -> #N/A | FC22: =EZ22*FA22 -> #N/A | FE22: 13 | FF22: =FF$6*COS(FE22*PI()/180)+FG$5 -> #N/A | FG22: =FF$6*SIN(FE22*PI()/180)+FI$5 -> #N/A | FH22: =IF(SQRT((FF22-$J$5)^2+(FG22-$L$5)^2)<$I$6,1,0) -> #N/A | FI22: =FF22*FH22 -> #N/A | FJ22: =FG22*FH22 -> #N/A | FL22: 13 | FM22: =FM$6*COS(FL22*PI()/180)+FN$5 -> #N/A | FN22: =FM$6*SIN(FL22*PI()/180)+FP$5 -> #N/A | FO22: =IF(SQRT((FM22-$J$5)^2+(FN22-$L$5)^2)<$I$6,1,0) -> #N/A | FP22: =FM22*FO22 -> #N/A | FQ22: =FN22*FO22 -> #N/A | FS22: 13 | FT22: =FT$6*COS(FS22*PI()/180)+FU$5 -> #N/A | FU22: =FT$6*SIN(FS22*PI()/180)+FW$5 -> #N/A | FV22: =IF(SQRT((FT22-$J$5)^2+(FU22-$L$5)^2)<$I$6,1,0) -> #N/A | FW22: =FT22*FV22 -> #N/A | FX22: =FU22*FV22 -> #N/A
A23: 6 | B23: =MOD('Pattern Entry'!$E$3+B36,360) -> 90 | C23: =C36 -> 0.6 | D23: =C23*COS(PI()*B23/180) -> 3.6739404e-17 | E23: =C23*SIN(PI()*B23/180) -> 0.6 | F23: =MATCH(B23,$E$31:$E$34) -> 2 | H23: 14 | I23: =$I$6*COS(H23*PI()/180)+$J$5 -> 1.4554436 | J23: =$I$6*SIN(H23*PI()/180)+$L$5 -> 0.36288284 | N23: 14 | O23: =$O$6*COS($N23*PI()/180)+$P$5 -> 0.57142934 | P23: =$O$6*SIN($N23*PI()/180)+$R$5 -> -0.18676052 | Q23: =IF(SQRT((O23-$J$5)^2+(P23-$L$5)^2)<$I$6,1,0) -> 1 | R23: =O23*Q23 -> 0.57142934 | S23: =P23*Q23 -> -0.18676052 | U23: 14 | V23: =V$6*COS(U23*PI()/180)+W$5 -> 0.33070333 | W23: =V$6*SIN(U23*PI()/180)+Y$5 -> 0.13269368 | X23: =IF(SQRT((V23-$J$5)^2+(W23-$L$5)^2)<$I$6,1,0) -> 1 | Y23: =V23*X23 -> 0.33070333 | Z23: =W23*X23 -> 0.13269368 | AB23: 14 | AC23: =AC$6*COS(AB23*PI()/180)+AD$5 -> 0.48699579 | AD23: =AC$6*SIN(AB23*PI()/180)+AF$5 -> 0.50089563 | AE23: =IF(SQRT((AC23-$J$5)^2+(AD23-$L$5)^2)<$I$6,1,0) -> 1 | AF23: =AC23*AE23 -> 0.48699579 | AG23: =AD23*AE23 -> 0.50089563 | AI23: 14 | AJ23: =AJ$6*COS(AI23*PI()/180)+AK$5 -> 0.88401425 | AK23: =AJ$6*SIN(AI23*PI()/180)+AM$5 -> 0.54964336 | AL23: =IF(SQRT((AJ23-$J$5)^2+(AK23-$L$5)^2)<$I$6,1,0) -> 1 | AM23: =AJ23*AL23 -> 0.88401425 | AN23: =AK23*AL23 -> 0.54964336 | AP23: 14 | AQ23: =AQ$6*COS(AP23*PI()/180)+AR$5 -> 1.1247403 | AR23: =AQ$6*SIN(AP23*PI()/180)+AT$5 -> 0.23018916 | AS23: =IF(SQRT((AQ23-$J$5)^2+(AR23-$L$5)^2)<$I$6,1,0) -> 1 | AT23: =AQ23*AS23 -> 1.1247403 | AU23: =AR23*AS23 -> 0.23018916 | AW23: 14 | AX23: =AX$6*COS(AW23*PI()/180)+AY$5 -> 0.9684478 | AY23: =AX$6*SIN(AW23*PI()/180)+BA$5 -> -0.13801278 | AZ23: =IF(SQRT((AX23-$J$5)^2+(AY23-$L$5)^2)<$I$6,1,0) -> 1 | BA23: =AX23*AZ23 -> 0.9684478 | BB23: =AY23*AZ23 -> -0.13801278 | BD23: 14 | BE23: =BE$6*COS(BD23*PI()/180)+BF$5 -> #N/A | BF23: =BE$6*SIN(BD23*PI()/180)+BH$5 -> #N/A | BG23: =IF(SQRT((BE23-$J$5)^2+(BF23-$L$5)^2)<$I$6,1,0) -> #N/A | BH23: =BE23*BG23 -> #N/A | BI23: =BF23*BG23 -> #N/A | BK23: 14 | BL23: =BL$6*COS(BK23*PI()/180)+BM$5 -> #N/A | BM23: =BL$6*SIN(BK23*PI()/180)+BO$5 -> #N/A | BN23: =IF(SQRT((BL23-$J$5)^2+(BM23-$L$5)^2)<$I$6,1,0) -> #N/A | BO23: =BL23*BN23 -> #N/A | BP23: =BM23*BN23 -> #N/A | BR23: 14 | BS23: =BS$6*COS(BR23*PI()/180)+BT$5 -> #N/A | BT23: =BS$6*SIN(BR23*PI()/180)+BV$5 -> #N/A | BU23: =IF(SQRT((BS23-$J$5)^2+(BT23-$L$5)^2)<$I$6,1,0) -> #N/A | BV23: =BS23*BU23 -> #N/A | BW23: =BT23*BU23 -> #N/A | BY23: 14 | BZ23: =BZ$6*COS(BY23*PI()/180)+CA$5 -> #N/A | CA23: =BZ$6*SIN(BY23*PI()/180)+CC$5 -> #N/A | CB23: =IF(SQRT((BZ23-$J$5)^2+(CA23-$L$5)^2)<$I$6,1,0) -> #N/A | CC23: =BZ23*CB23 -> #N/A | CD23: =CA23*CB23 -> #N/A | CF23: 14 | CG23: =CG$6*COS(CF23*PI()/180)+CH$5 -> #N/A | CH23: =CG$6*SIN(CF23*PI()/180)+CJ$5 -> #N/A | CI23: =IF(SQRT((CG23-$J$5)^2+(CH23-$L$5)^2)<$I$6,1,0) -> #N/A | CJ23: =CG23*CI23 -> #N/A | CK23: =CH23*CI23 -> #N/A | CM23: 14 | CN23: =CN$6*COS(CM23*PI()/180)+CO$5 -> #N/A | CO23: =CN$6*SIN(CM23*PI()/180)+CQ$5 -> #N/A | CP23: =IF(SQRT((CN23-$J$5)^2+(CO23-$L$5)^2)<$I$6,1,0) -> #N/A | CQ23: =CN23*CP23 -> #N/A | CR23: =CO23*CP23 -> #N/A | CT23: 14 | CU23: =CU$6*COS(CT23*PI()/180)+CV$5 -> #N/A | CV23: =CU$6*SIN(CT23*PI()/180)+CX$5 -> #N/A | CW23: =IF(SQRT((CU23-$J$5)^2+(CV23-$L$5)^2)<$I$6,1,0) -> #N/A | CX23: =CU23*CW23 -> #N/A | CY23: =CV23*CW23 -> #N/A | DA23: 14 | DB23: =DB$6*COS(DA23*PI()/180)+DC$5 -> #N/A | DC23: =DB$6*SIN(DA23*PI()/180)+DE$5 -> #N/A | DD23: =IF(SQRT((DB23-$J$5)^2+(DC23-$L$5)^2)<$I$6,1,0) -> #N/A | DE23: =DB23*DD23 -> #N/A | DF23: =DC23*DD23 -> #N/A | DH23: 14 | DI23: =DI$6*COS(DH23*PI()/180)+DJ$5 -> #N/A | DJ23: =DI$6*SIN(DH23*PI()/180)+DL$5 -> #N/A | DK23: =IF(SQRT((DI23-$J$5)^2+(DJ23-$L$5)^2)<$I$6,1,0) -> #N/A | DL23: =DI23*DK23 -> #N/A | DM23: =DJ23*DK23 -> #N/A | DO23: 14 | DP23: =DP$6*COS(DO23*PI()/180)+DQ$5 -> #N/A | DQ23: =DP$6*SIN(DO23*PI()/180)+DS$5 -> #N/A | DR23: =IF(SQRT((DP23-$J$5)^2+(DQ23-$L$5)^2)<$I$6,1,0) -> #N/A | DS23: =DP23*DR23 -> #N/A | DT23: =DQ23*DR23 -> #N/A | DV23: 14 | DW23: =DW$6*COS(DV23*PI()/180)+DX$5 -> #N/A | DX23: =DW$6*SIN(DV23*PI()/180)+DZ$5 -> #N/A | DY23: =IF(SQRT((DW23-$J$5)^2+(DX23-$L$5)^2)<$I$6,1,0) -> #N/A | DZ23: =DW23*DY23 -> #N/A | EA23: =DX23*DY23 -> #N/A | EC23: 14 | ED23: =ED$6*COS(EC23*PI()/180)+EE$5 -> #N/A | EE23: =ED$6*SIN(EC23*PI()/180)+EG$5 -> #N/A | EF23: =IF(SQRT((ED23-$J$5)^2+(EE23-$L$5)^2)<$I$6,1,0) -> #N/A | EG23: =ED23*EF23 -> #N/A | EH23: =EE23*EF23 -> #N/A | EJ23: 14 | EK23: =EK$6*COS(EJ23*PI()/180)+EL$5 -> #N/A | EL23: =EK$6*SIN(EJ23*PI()/180)+EN$5 -> #N/A | EM23: =IF(SQRT((EK23-$J$5)^2+(EL23-$L$5)^2)<$I$6,1,0) -> #N/A | EN23: =EK23*EM23 -> #N/A | EO23: =EL23*EM23 -> #N/A | EQ23: 14 | ER23: =ER$6*COS(EQ23*PI()/180)+ES$5 -> #N/A | ES23: =ER$6*SIN(EQ23*PI()/180)+EU$5 -> #N/A | ET23: =IF(SQRT((ER23-$J$5)^2+(ES23-$L$5)^2)<$I$6,1,0) -> #N/A | EU23: =ER23*ET23 -> #N/A | EV23: =ES23*ET23 -> #N/A | EX23: 14 | EY23: =EY$6*COS(EX23*PI()/180)+EZ$5 -> #N/A | EZ23: =EY$6*SIN(EX23*PI()/180)+FB$5 -> #N/A | FA23: =IF(SQRT((EY23-$J$5)^2+(EZ23-$L$5)^2)<$I$6,1,0) -> #N/A | FB23: =EY23*FA23 -> #N/A | FC23: =EZ23*FA23 -> #N/A | FE23: 14 | FF23: =FF$6*COS(FE23*PI()/180)+FG$5 -> #N/A | FG23: =FF$6*SIN(FE23*PI()/180)+FI$5 -> #N/A | FH23: =IF(SQRT((FF23-$J$5)^2+(FG23-$L$5)^2)<$I$6,1,0) -> #N/A | FI23: =FF23*FH23 -> #N/A | FJ23: =FG23*FH23 -> #N/A | FL23: 14 | FM23: =FM$6*COS(FL23*PI()/180)+FN$5 -> #N/A | FN23: =FM$6*SIN(FL23*PI()/180)+FP$5 -> #N/A | FO23: =IF(SQRT((FM23-$J$5)^2+(FN23-$L$5)^2)<$I$6,1,0) -> #N/A | FP23: =FM23*FO23 -> #N/A | FQ23: =FN23*FO23 -> #N/A | FS23: 14 | FT23: =FT$6*COS(FS23*PI()/180)+FU$5 -> #N/A | FU23: =FT$6*SIN(FS23*PI()/180)+FW$5 -> #N/A | FV23: =IF(SQRT((FT23-$J$5)^2+(FU23-$L$5)^2)<$I$6,1,0) -> #N/A | FW23: =FT23*FV23 -> #N/A | FX23: =FU23*FV23 -> #N/A
A24: 7 | B24: =MOD('Pattern Entry'!$E$3+B37,360) -> 130 | C24: =C37 -> 0.65 | D24: =C24*COS(PI()*B24/180) -> -0.41781195 | E24: =C24*SIN(PI()*B24/180) -> 0.49792889 | F24: =MATCH(B24,$E$31:$E$34) -> 2 | H24: 15 | I24: =$I$6*COS(H24*PI()/180)+$J$5 -> 1.4488887 | J24: =$I$6*SIN(H24*PI()/180)+$L$5 -> 0.38822857 | N24: 15 | O24: =$O$6*COS($N24*PI()/180)+$P$5 -> 0.56815192 | P24: =$O$6*SIN($N24*PI()/180)+$R$5 -> -0.17408766 | Q24: =IF(SQRT((O24-$J$5)^2+(P24-$L$5)^2)<$I$6,1,0) -> 1 | R24: =O24*Q24 -> 0.56815192 | S24: =P24*Q24 -> -0.17408766 | U24: 15 | V24: =V$6*COS(U24*PI()/180)+W$5 -> 0.32742591 | W24: =V$6*SIN(U24*PI()/180)+Y$5 -> 0.14536655 | X24: =IF(SQRT((V24-$J$5)^2+(W24-$L$5)^2)<$I$6,1,0) -> 1 | Y24: =V24*X24 -> 0.32742591 | Z24: =W24*X24 -> 0.14536655 | AB24: 15 | AC24: =AC$6*COS(AB24*PI()/180)+AD$5 -> 0.48371836 | AD24: =AC$6*SIN(AB24*PI()/180)+AF$5 -> 0.51356849 | AE24: =IF(SQRT((AC24-$J$5)^2+(AD24-$L$5)^2)<$I$6,1,0) -> 1 | AF24: =AC24*AE24 -> 0.48371836 | AG24: =AD24*AE24 -> 0.51356849 | AI24: 15 | AJ24: =AJ$6*COS(AI24*PI()/180)+AK$5 -> 0.88073682 | AK24: =AJ$6*SIN(AI24*PI()/180)+AM$5 -> 0.56231623 | AL24: =IF(SQRT((AJ24-$J$5)^2+(AK24-$L$5)^2)<$I$6,1,0) -> 1 | AM24: =AJ24*AL24 -> 0.88073682 | AN24: =AK24*AL24 -> 0.56231623 | AP24: 15 | AQ24: =AQ$6*COS(AP24*PI()/180)+AR$5 -> 1.1214628 | AR24: =AQ$6*SIN(AP24*PI()/180)+AT$5 -> 0.24286202 | AS24: =IF(SQRT((AQ24-$J$5)^2+(AR24-$L$5)^2)<$I$6,1,0) -> 1 | AT24: =AQ24*AS24 -> 1.1214628 | AU24: =AR24*AS24 -> 0.24286202 | AW24: 15 | AX24: =AX$6*COS(AW24*PI()/180)+AY$5 -> 0.96517038 | AY24: =AX$6*SIN(AW24*PI()/180)+BA$5 -> -0.12533992 | AZ24: =IF(SQRT((AX24-$J$5)^2+(AY24-$L$5)^2)<$I$6,1,0) -> 1 | BA24: =AX24*AZ24 -> 0.96517038 | BB24: =AY24*AZ24 -> -0.12533992 | BD24: 15 | BE24: =BE$6*COS(BD24*PI()/180)+BF$5 -> #N/A | BF24: =BE$6*SIN(BD24*PI()/180)+BH$5 -> #N/A | BG24: =IF(SQRT((BE24-$J$5)^2+(BF24-$L$5)^2)<$I$6,1,0) -> #N/A | BH24: =BE24*BG24 -> #N/A | BI24: =BF24*BG24 -> #N/A | BK24: 15 | BL24: =BL$6*COS(BK24*PI()/180)+BM$5 -> #N/A | BM24: =BL$6*SIN(BK24*PI()/180)+BO$5 -> #N/A | BN24: =IF(SQRT((BL24-$J$5)^2+(BM24-$L$5)^2)<$I$6,1,0) -> #N/A | BO24: =BL24*BN24 -> #N/A | BP24: =BM24*BN24 -> #N/A | BR24: 15 | BS24: =BS$6*COS(BR24*PI()/180)+BT$5 -> #N/A | BT24: =BS$6*SIN(BR24*PI()/180)+BV$5 -> #N/A | BU24: =IF(SQRT((BS24-$J$5)^2+(BT24-$L$5)^2)<$I$6,1,0) -> #N/A | BV24: =BS24*BU24 -> #N/A | BW24: =BT24*BU24 -> #N/A | BY24: 15 | BZ24: =BZ$6*COS(BY24*PI()/180)+CA$5 -> #N/A | CA24: =BZ$6*SIN(BY24*PI()/180)+CC$5 -> #N/A | CB24: =IF(SQRT((BZ24-$J$5)^2+(CA24-$L$5)^2)<$I$6,1,0) -> #N/A | CC24: =BZ24*CB24 -> #N/A | CD24: =CA24*CB24 -> #N/A | CF24: 15 | CG24: =CG$6*COS(CF24*PI()/180)+CH$5 -> #N/A | CH24: =CG$6*SIN(CF24*PI()/180)+CJ$5 -> #N/A | CI24: =IF(SQRT((CG24-$J$5)^2+(CH24-$L$5)^2)<$I$6,1,0) -> #N/A | CJ24: =CG24*CI24 -> #N/A | CK24: =CH24*CI24 -> #N/A | CM24: 15 | CN24: =CN$6*COS(CM24*PI()/180)+CO$5 -> #N/A | CO24: =CN$6*SIN(CM24*PI()/180)+CQ$5 -> #N/A | CP24: =IF(SQRT((CN24-$J$5)^2+(CO24-$L$5)^2)<$I$6,1,0) -> #N/A | CQ24: =CN24*CP24 -> #N/A | CR24: =CO24*CP24 -> #N/A | CT24: 15 | CU24: =CU$6*COS(CT24*PI()/180)+CV$5 -> #N/A | CV24: =CU$6*SIN(CT24*PI()/180)+CX$5 -> #N/A | CW24: =IF(SQRT((CU24-$J$5)^2+(CV24-$L$5)^2)<$I$6,1,0) -> #N/A | CX24: =CU24*CW24 -> #N/A | CY24: =CV24*CW24 -> #N/A | DA24: 15 | DB24: =DB$6*COS(DA24*PI()/180)+DC$5 -> #N/A | DC24: =DB$6*SIN(DA24*PI()/180)+DE$5 -> #N/A | DD24: =IF(SQRT((DB24-$J$5)^2+(DC24-$L$5)^2)<$I$6,1,0) -> #N/A | DE24: =DB24*DD24 -> #N/A | DF24: =DC24*DD24 -> #N/A | DH24: 15 | DI24: =DI$6*COS(DH24*PI()/180)+DJ$5 -> #N/A | DJ24: =DI$6*SIN(DH24*PI()/180)+DL$5 -> #N/A | DK24: =IF(SQRT((DI24-$J$5)^2+(DJ24-$L$5)^2)<$I$6,1,0) -> #N/A | DL24: =DI24*DK24 -> #N/A | DM24: =DJ24*DK24 -> #N/A | DO24: 15 | DP24: =DP$6*COS(DO24*PI()/180)+DQ$5 -> #N/A | DQ24: =DP$6*SIN(DO24*PI()/180)+DS$5 -> #N/A | DR24: =IF(SQRT((DP24-$J$5)^2+(DQ24-$L$5)^2)<$I$6,1,0) -> #N/A | DS24: =DP24*DR24 -> #N/A | DT24: =DQ24*DR24 -> #N/A | DV24: 15 | DW24: =DW$6*COS(DV24*PI()/180)+DX$5 -> #N/A | DX24: =DW$6*SIN(DV24*PI()/180)+DZ$5 -> #N/A | DY24: =IF(SQRT((DW24-$J$5)^2+(DX24-$L$5)^2)<$I$6,1,0) -> #N/A | DZ24: =DW24*DY24 -> #N/A | EA24: =DX24*DY24 -> #N/A | EC24: 15 | ED24: =ED$6*COS(EC24*PI()/180)+EE$5 -> #N/A | EE24: =ED$6*SIN(EC24*PI()/180)+EG$5 -> #N/A | EF24: =IF(SQRT((ED24-$J$5)^2+(EE24-$L$5)^2)<$I$6,1,0) -> #N/A | EG24: =ED24*EF24 -> #N/A | EH24: =EE24*EF24 -> #N/A | EJ24: 15 | EK24: =EK$6*COS(EJ24*PI()/180)+EL$5 -> #N/A | EL24: =EK$6*SIN(EJ24*PI()/180)+EN$5 -> #N/A | EM24: =IF(SQRT((EK24-$J$5)^2+(EL24-$L$5)^2)<$I$6,1,0) -> #N/A | EN24: =EK24*EM24 -> #N/A | EO24: =EL24*EM24 -> #N/A | EQ24: 15 | ER24: =ER$6*COS(EQ24*PI()/180)+ES$5 -> #N/A | ES24: =ER$6*SIN(EQ24*PI()/180)+EU$5 -> #N/A | ET24: =IF(SQRT((ER24-$J$5)^2+(ES24-$L$5)^2)<$I$6,1,0) -> #N/A | EU24: =ER24*ET24 -> #N/A | EV24: =ES24*ET24 -> #N/A | EX24: 15 | EY24: =EY$6*COS(EX24*PI()/180)+EZ$5 -> #N/A | EZ24: =EY$6*SIN(EX24*PI()/180)+FB$5 -> #N/A | FA24: =IF(SQRT((EY24-$J$5)^2+(EZ24-$L$5)^2)<$I$6,1,0) -> #N/A | FB24: =EY24*FA24 -> #N/A | FC24: =EZ24*FA24 -> #N/A | FE24: 15 | FF24: =FF$6*COS(FE24*PI()/180)+FG$5 -> #N/A | FG24: =FF$6*SIN(FE24*PI()/180)+FI$5 -> #N/A | FH24: =IF(SQRT((FF24-$J$5)^2+(FG24-$L$5)^2)<$I$6,1,0) -> #N/A | FI24: =FF24*FH24 -> #N/A | FJ24: =FG24*FH24 -> #N/A | FL24: 15 | FM24: =FM$6*COS(FL24*PI()/180)+FN$5 -> #N/A | FN24: =FM$6*SIN(FL24*PI()/180)+FP$5 -> #N/A | FO24: =IF(SQRT((FM24-$J$5)^2+(FN24-$L$5)^2)<$I$6,1,0) -> #N/A | FP24: =FM24*FO24 -> #N/A | FQ24: =FN24*FO24 -> #N/A | FS24: 15 | FT24: =FT$6*COS(FS24*PI()/180)+FU$5 -> #N/A | FU24: =FT$6*SIN(FS24*PI()/180)+FW$5 -> #N/A | FV24: =IF(SQRT((FT24-$J$5)^2+(FU24-$L$5)^2)<$I$6,1,0) -> #N/A | FW24: =FT24*FV24 -> #N/A | FX24: =FU24*FV24 -> #N/A
A25: 8 | B25: =MOD('Pattern Entry'!$E$3+B38,360) -> 166 | C25: =C38 -> 0.7 | D25: =C25*COS(PI()*B25/180) -> -0.67920701 | E25: =C25*SIN(PI()*B25/180) -> 0.16934533 | F25: =MATCH(B25,$E$31:$E$34) -> 2 | H25: 16 | I25: =$I$6*COS(H25*PI()/180)+$J$5 -> 1.4418925 | J25: =$I$6*SIN(H25*PI()/180)+$L$5 -> 0.41345603 | N25: 16 | O25: =$O$6*COS($N25*PI()/180)+$P$5 -> 0.56465382 | P25: =$O$6*SIN($N25*PI()/180)+$R$5 -> -0.16147392 | Q25: =IF(SQRT((O25-$J$5)^2+(P25-$L$5)^2)<$I$6,1,0) -> 1 | R25: =O25*Q25 -> 0.56465382 | S25: =P25*Q25 -> -0.16147392 | U25: 16 | V25: =V$6*COS(U25*PI()/180)+W$5 -> 0.32392781 | W25: =V$6*SIN(U25*PI()/180)+Y$5 -> 0.15798028 | X25: =IF(SQRT((V25-$J$5)^2+(W25-$L$5)^2)<$I$6,1,0) -> 1 | Y25: =V25*X25 -> 0.32392781 | Z25: =W25*X25 -> 0.15798028 | AB25: 16 | AC25: =AC$6*COS(AB25*PI()/180)+AD$5 -> 0.48022026 | AD25: =AC$6*SIN(AB25*PI()/180)+AF$5 -> 0.52618222 | AE25: =IF(SQRT((AC25-$J$5)^2+(AD25-$L$5)^2)<$I$6,1,0) -> 1 | AF25: =AC25*AE25 -> 0.48022026 | AG25: =AD25*AE25 -> 0.52618222 | AI25: 16 | AJ25: =AJ$6*COS(AI25*PI()/180)+AK$5 -> 0.87723872 | AK25: =AJ$6*SIN(AI25*PI()/180)+AM$5 -> 0.57492996 | AL25: =IF(SQRT((AJ25-$J$5)^2+(AK25-$L$5)^2)<$I$6,1,0) -> 1 | AM25: =AJ25*AL25 -> 0.87723872 | AN25: =AK25*AL25 -> 0.57492996 | AP25: 16 | AQ25: =AQ$6*COS(AP25*PI()/180)+AR$5 -> 1.1179647 | AR25: =AQ$6*SIN(AP25*PI()/180)+AT$5 -> 0.25547575 | AS25: =IF(SQRT((AQ25-$J$5)^2+(AR25-$L$5)^2)<$I$6,1,0) -> 1 | AT25: =AQ25*AS25 -> 1.1179647 | AU25: =AR25*AS25 -> 0.25547575 | AW25: 16 | AX25: =AX$6*COS(AW25*PI()/180)+AY$5 -> 0.96167228 | AY25: =AX$6*SIN(AW25*PI()/180)+BA$5 -> -0.11272619 | AZ25: =IF(SQRT((AX25-$J$5)^2+(AY25-$L$5)^2)<$I$6,1,0) -> 1 | BA25: =AX25*AZ25 -> 0.96167228 | BB25: =AY25*AZ25 -> -0.11272619 | BD25: 16 | BE25: =BE$6*COS(BD25*PI()/180)+BF$5 -> #N/A | BF25: =BE$6*SIN(BD25*PI()/180)+BH$5 -> #N/A | BG25: =IF(SQRT((BE25-$J$5)^2+(BF25-$L$5)^2)<$I$6,1,0) -> #N/A | BH25: =BE25*BG25 -> #N/A | BI25: =BF25*BG25 -> #N/A | BK25: 16 | BL25: =BL$6*COS(BK25*PI()/180)+BM$5 -> #N/A | BM25: =BL$6*SIN(BK25*PI()/180)+BO$5 -> #N/A | BN25: =IF(SQRT((BL25-$J$5)^2+(BM25-$L$5)^2)<$I$6,1,0) -> #N/A | BO25: =BL25*BN25 -> #N/A | BP25: =BM25*BN25 -> #N/A | BR25: 16 | BS25: =BS$6*COS(BR25*PI()/180)+BT$5 -> #N/A | BT25: =BS$6*SIN(BR25*PI()/180)+BV$5 -> #N/A | BU25: =IF(SQRT((BS25-$J$5)^2+(BT25-$L$5)^2)<$I$6,1,0) -> #N/A | BV25: =BS25*BU25 -> #N/A | BW25: =BT25*BU25 -> #N/A | BY25: 16 | BZ25: =BZ$6*COS(BY25*PI()/180)+CA$5 -> #N/A | CA25: =BZ$6*SIN(BY25*PI()/180)+CC$5 -> #N/A | CB25: =IF(SQRT((BZ25-$J$5)^2+(CA25-$L$5)^2)<$I$6,1,0) -> #N/A | CC25: =BZ25*CB25 -> #N/A | CD25: =CA25*CB25 -> #N/A | CF25: 16 | CG25: =CG$6*COS(CF25*PI()/180)+CH$5 -> #N/A | CH25: =CG$6*SIN(CF25*PI()/180)+CJ$5 -> #N/A | CI25: =IF(SQRT((CG25-$J$5)^2+(CH25-$L$5)^2)<$I$6,1,0) -> #N/A | CJ25: =CG25*CI25 -> #N/A | CK25: =CH25*CI25 -> #N/A | CM25: 16 | CN25: =CN$6*COS(CM25*PI()/180)+CO$5 -> #N/A | CO25: =CN$6*SIN(CM25*PI()/180)+CQ$5 -> #N/A | CP25: =IF(SQRT((CN25-$J$5)^2+(CO25-$L$5)^2)<$I$6,1,0) -> #N/A | CQ25: =CN25*CP25 -> #N/A | CR25: =CO25*CP25 -> #N/A | CT25: 16 | CU25: =CU$6*COS(CT25*PI()/180)+CV$5 -> #N/A | CV25: =CU$6*SIN(CT25*PI()/180)+CX$5 -> #N/A | CW25: =IF(SQRT((CU25-$J$5)^2+(CV25-$L$5)^2)<$I$6,1,0) -> #N/A | CX25: =CU25*CW25 -> #N/A | CY25: =CV25*CW25 -> #N/A | DA25: 16 | DB25: =DB$6*COS(DA25*PI()/180)+DC$5 -> #N/A | DC25: =DB$6*SIN(DA25*PI()/180)+DE$5 -> #N/A | DD25: =IF(SQRT((DB25-$J$5)^2+(DC25-$L$5)^2)<$I$6,1,0) -> #N/A | DE25: =DB25*DD25 -> #N/A | DF25: =DC25*DD25 -> #N/A | DH25: 16 | DI25: =DI$6*COS(DH25*PI()/180)+DJ$5 -> #N/A | DJ25: =DI$6*SIN(DH25*PI()/180)+DL$5 -> #N/A | DK25: =IF(SQRT((DI25-$J$5)^2+(DJ25-$L$5)^2)<$I$6,1,0) -> #N/A | DL25: =DI25*DK25 -> #N/A | DM25: =DJ25*DK25 -> #N/A | DO25: 16 | DP25: =DP$6*COS(DO25*PI()/180)+DQ$5 -> #N/A | DQ25: =DP$6*SIN(DO25*PI()/180)+DS$5 -> #N/A | DR25: =IF(SQRT((DP25-$J$5)^2+(DQ25-$L$5)^2)<$I$6,1,0) -> #N/A | DS25: =DP25*DR25 -> #N/A | DT25: =DQ25*DR25 -> #N/A | DV25: 16 | DW25: =DW$6*COS(DV25*PI()/180)+DX$5 -> #N/A | DX25: =DW$6*SIN(DV25*PI()/180)+DZ$5 -> #N/A | DY25: =IF(SQRT((DW25-$J$5)^2+(DX25-$L$5)^2)<$I$6,1,0) -> #N/A | DZ25: =DW25*DY25 -> #N/A | EA25: =DX25*DY25 -> #N/A | EC25: 16 | ED25: =ED$6*COS(EC25*PI()/180)+EE$5 -> #N/A | EE25: =ED$6*SIN(EC25*PI()/180)+EG$5 -> #N/A | EF25: =IF(SQRT((ED25-$J$5)^2+(EE25-$L$5)^2)<$I$6,1,0) -> #N/A | EG25: =ED25*EF25 -> #N/A | EH25: =EE25*EF25 -> #N/A | EJ25: 16 | EK25: =EK$6*COS(EJ25*PI()/180)+EL$5 -> #N/A | EL25: =EK$6*SIN(EJ25*PI()/180)+EN$5 -> #N/A | EM25: =IF(SQRT((EK25-$J$5)^2+(EL25-$L$5)^2)<$I$6,1,0) -> #N/A | EN25: =EK25*EM25 -> #N/A | EO25: =EL25*EM25 -> #N/A | EQ25: 16 | ER25: =ER$6*COS(EQ25*PI()/180)+ES$5 -> #N/A | ES25: =ER$6*SIN(EQ25*PI()/180)+EU$5 -> #N/A | ET25: =IF(SQRT((ER25-$J$5)^2+(ES25-$L$5)^2)<$I$6,1,0) -> #N/A | EU25: =ER25*ET25 -> #N/A | EV25: =ES25*ET25 -> #N/A | EX25: 16 | EY25: =EY$6*COS(EX25*PI()/180)+EZ$5 -> #N/A | EZ25: =EY$6*SIN(EX25*PI()/180)+FB$5 -> #N/A | FA25: =IF(SQRT((EY25-$J$5)^2+(EZ25-$L$5)^2)<$I$6,1,0) -> #N/A | FB25: =EY25*FA25 -> #N/A | FC25: =EZ25*FA25 -> #N/A | FE25: 16 | FF25: =FF$6*COS(FE25*PI()/180)+FG$5 -> #N/A | FG25: =FF$6*SIN(FE25*PI()/180)+FI$5 -> #N/A | FH25: =IF(SQRT((FF25-$J$5)^2+(FG25-$L$5)^2)<$I$6,1,0) -> #N/A | FI25: =FF25*FH25 -> #N/A | FJ25: =FG25*FH25 -> #N/A | FL25: 16 | FM25: =FM$6*COS(FL25*PI()/180)+FN$5 -> #N/A | FN25: =FM$6*SIN(FL25*PI()/180)+FP$5 -> #N/A | FO25: =IF(SQRT((FM25-$J$5)^2+(FN25-$L$5)^2)<$I$6,1,0) -> #N/A | FP25: =FM25*FO25 -> #N/A | FQ25: =FN25*FO25 -> #N/A | FS25: 16 | FT25: =FT$6*COS(FS25*PI()/180)+FU$5 -> #N/A | FU25: =FT$6*SIN(FS25*PI()/180)+FW$5 -> #N/A | FV25: =IF(SQRT((FT25-$J$5)^2+(FU25-$L$5)^2)<$I$6,1,0) -> #N/A | FW25: =FT25*FV25 -> #N/A | FX25: =FU25*FV25 -> #N/A
A26: 9 | B26: =MOD('Pattern Entry'!$E$3+B39,360) -> 200 | C26: =C39 -> 0.75 | D26: =C26*COS(PI()*B26/180) -> -0.70476947 | E26: =C26*SIN(PI()*B26/180) -> -0.25651511 | F26: =MATCH(B26,$E$31:$E$34) -> 3 | H26: 17 | I26: =$I$6*COS(H26*PI()/180)+$J$5 -> 1.4344571 | J26: =$I$6*SIN(H26*PI()/180)+$L$5 -> 0.43855756 | N26: 17 | O26: =$O$6*COS($N26*PI()/180)+$P$5 -> 0.56093612 | P26: =$O$6*SIN($N26*PI()/180)+$R$5 -> -0.14892316 | Q26: =IF(SQRT((O26-$J$5)^2+(P26-$L$5)^2)<$I$6,1,0) -> 1 | R26: =O26*Q26 -> 0.56093612 | S26: =P26*Q26 -> -0.14892316 | U26: 17 | V26: =V$6*COS(U26*PI()/180)+W$5 -> 0.32021011 | W26: =V$6*SIN(U26*PI()/180)+Y$5 -> 0.17053104 | X26: =IF(SQRT((V26-$J$5)^2+(W26-$L$5)^2)<$I$6,1,0) -> 1 | Y26: =V26*X26 -> 0.32021011 | Z26: =W26*X26 -> 0.17053104 | AB26: 17 | AC26: =AC$6*COS(AB26*PI()/180)+AD$5 -> 0.47650256 | AD26: =AC$6*SIN(AB26*PI()/180)+AF$5 -> 0.53873298 | AE26: =IF(SQRT((AC26-$J$5)^2+(AD26-$L$5)^2)<$I$6,1,0) -> 1 | AF26: =AC26*AE26 -> 0.47650256 | AG26: =AD26*AE26 -> 0.53873298 | AI26: 17 | AJ26: =AJ$6*COS(AI26*PI()/180)+AK$5 -> 0.87352102 | AK26: =AJ$6*SIN(AI26*PI()/180)+AM$5 -> 0.58748072 | AL26: =IF(SQRT((AJ26-$J$5)^2+(AK26-$L$5)^2)<$I$6,1,0) -> 1 | AM26: =AJ26*AL26 -> 0.87352102 | AN26: =AK26*AL26 -> 0.58748072 | AP26: 17 | AQ26: =AQ$6*COS(AP26*PI()/180)+AR$5 -> 1.114247 | AR26: =AQ$6*SIN(AP26*PI()/180)+AT$5 -> 0.26802652 | AS26: =IF(SQRT((AQ26-$J$5)^2+(AR26-$L$5)^2)<$I$6,1,0) -> 1 | AT26: =AQ26*AS26 -> 1.114247 | AU26: =AR26*AS26 -> 0.26802652 | AW26: 17 | AX26: =AX$6*COS(AW26*PI()/180)+AY$5 -> 0.95795458 | AY26: =AX$6*SIN(AW26*PI()/180)+BA$5 -> -0.10017543 | AZ26: =IF(SQRT((AX26-$J$5)^2+(AY26-$L$5)^2)<$I$6,1,0) -> 1 | BA26: =AX26*AZ26 -> 0.95795458 | BB26: =AY26*AZ26 -> -0.10017543 | BD26: 17 | BE26: =BE$6*COS(BD26*PI()/180)+BF$5 -> #N/A | BF26: =BE$6*SIN(BD26*PI()/180)+BH$5 -> #N/A | BG26: =IF(SQRT((BE26-$J$5)^2+(BF26-$L$5)^2)<$I$6,1,0) -> #N/A | BH26: =BE26*BG26 -> #N/A | BI26: =BF26*BG26 -> #N/A | BK26: 17 | BL26: =BL$6*COS(BK26*PI()/180)+BM$5 -> #N/A | BM26: =BL$6*SIN(BK26*PI()/180)+BO$5 -> #N/A | BN26: =IF(SQRT((BL26-$J$5)^2+(BM26-$L$5)^2)<$I$6,1,0) -> #N/A | BO26: =BL26*BN26 -> #N/A | BP26: =BM26*BN26 -> #N/A | BR26: 17 | BS26: =BS$6*COS(BR26*PI()/180)+BT$5 -> #N/A | BT26: =BS$6*SIN(BR26*PI()/180)+BV$5 -> #N/A | BU26: =IF(SQRT((BS26-$J$5)^2+(BT26-$L$5)^2)<$I$6,1,0) -> #N/A | BV26: =BS26*BU26 -> #N/A | BW26: =BT26*BU26 -> #N/A | BY26: 17 | BZ26: =BZ$6*COS(BY26*PI()/180)+CA$5 -> #N/A | CA26: =BZ$6*SIN(BY26*PI()/180)+CC$5 -> #N/A | CB26: =IF(SQRT((BZ26-$J$5)^2+(CA26-$L$5)^2)<$I$6,1,0) -> #N/A | CC26: =BZ26*CB26 -> #N/A | CD26: =CA26*CB26 -> #N/A | CF26: 17 | CG26: =CG$6*COS(CF26*PI()/180)+CH$5 -> #N/A | CH26: =CG$6*SIN(CF26*PI()/180)+CJ$5 -> #N/A | CI26: =IF(SQRT((CG26-$J$5)^2+(CH26-$L$5)^2)<$I$6,1,0) -> #N/A | CJ26: =CG26*CI26 -> #N/A | CK26: =CH26*CI26 -> #N/A | CM26: 17 | CN26: =CN$6*COS(CM26*PI()/180)+CO$5 -> #N/A | CO26: =CN$6*SIN(CM26*PI()/180)+CQ$5 -> #N/A | CP26: =IF(SQRT((CN26-$J$5)^2+(CO26-$L$5)^2)<$I$6,1,0) -> #N/A | CQ26: =CN26*CP26 -> #N/A | CR26: =CO26*CP26 -> #N/A | CT26: 17 | CU26: =CU$6*COS(CT26*PI()/180)+CV$5 -> #N/A | CV26: =CU$6*SIN(CT26*PI()/180)+CX$5 -> #N/A | CW26: =IF(SQRT((CU26-$J$5)^2+(CV26-$L$5)^2)<$I$6,1,0) -> #N/A | CX26: =CU26*CW26 -> #N/A | CY26: =CV26*CW26 -> #N/A | DA26: 17 | DB26: =DB$6*COS(DA26*PI()/180)+DC$5 -> #N/A | DC26: =DB$6*SIN(DA26*PI()/180)+DE$5 -> #N/A | DD26: =IF(SQRT((DB26-$J$5)^2+(DC26-$L$5)^2)<$I$6,1,0) -> #N/A | DE26: =DB26*DD26 -> #N/A | DF26: =DC26*DD26 -> #N/A | DH26: 17 | DI26: =DI$6*COS(DH26*PI()/180)+DJ$5 -> #N/A | DJ26: =DI$6*SIN(DH26*PI()/180)+DL$5 -> #N/A | DK26: =IF(SQRT((DI26-$J$5)^2+(DJ26-$L$5)^2)<$I$6,1,0) -> #N/A | DL26: =DI26*DK26 -> #N/A | DM26: =DJ26*DK26 -> #N/A | DO26: 17 | DP26: =DP$6*COS(DO26*PI()/180)+DQ$5 -> #N/A | DQ26: =DP$6*SIN(DO26*PI()/180)+DS$5 -> #N/A | DR26: =IF(SQRT((DP26-$J$5)^2+(DQ26-$L$5)^2)<$I$6,1,0) -> #N/A | DS26: =DP26*DR26 -> #N/A | DT26: =DQ26*DR26 -> #N/A | DV26: 17 | DW26: =DW$6*COS(DV26*PI()/180)+DX$5 -> #N/A | DX26: =DW$6*SIN(DV26*PI()/180)+DZ$5 -> #N/A | DY26: =IF(SQRT((DW26-$J$5)^2+(DX26-$L$5)^2)<$I$6,1,0) -> #N/A | DZ26: =DW26*DY26 -> #N/A | EA26: =DX26*DY26 -> #N/A | EC26: 17 | ED26: =ED$6*COS(EC26*PI()/180)+EE$5 -> #N/A | EE26: =ED$6*SIN(EC26*PI()/180)+EG$5 -> #N/A | EF26: =IF(SQRT((ED26-$J$5)^2+(EE26-$L$5)^2)<$I$6,1,0) -> #N/A | EG26: =ED26*EF26 -> #N/A | EH26: =EE26*EF26 -> #N/A | EJ26: 17 | EK26: =EK$6*COS(EJ26*PI()/180)+EL$5 -> #N/A | EL26: =EK$6*SIN(EJ26*PI()/180)+EN$5 -> #N/A | EM26: =IF(SQRT((EK26-$J$5)^2+(EL26-$L$5)^2)<$I$6,1,0) -> #N/A | EN26: =EK26*EM26 -> #N/A | EO26: =EL26*EM26 -> #N/A | EQ26: 17 | ER26: =ER$6*COS(EQ26*PI()/180)+ES$5 -> #N/A | ES26: =ER$6*SIN(EQ26*PI()/180)+EU$5 -> #N/A | ET26: =IF(SQRT((ER26-$J$5)^2+(ES26-$L$5)^2)<$I$6,1,0) -> #N/A | EU26: =ER26*ET26 -> #N/A | EV26: =ES26*ET26 -> #N/A | EX26: 17 | EY26: =EY$6*COS(EX26*PI()/180)+EZ$5 -> #N/A | EZ26: =EY$6*SIN(EX26*PI()/180)+FB$5 -> #N/A | FA26: =IF(SQRT((EY26-$J$5)^2+(EZ26-$L$5)^2)<$I$6,1,0) -> #N/A | FB26: =EY26*FA26 -> #N/A | FC26: =EZ26*FA26 -> #N/A | FE26: 17 | FF26: =FF$6*COS(FE26*PI()/180)+FG$5 -> #N/A | FG26: =FF$6*SIN(FE26*PI()/180)+FI$5 -> #N/A | FH26: =IF(SQRT((FF26-$J$5)^2+(FG26-$L$5)^2)<$I$6,1,0) -> #N/A | FI26: =FF26*FH26 -> #N/A | FJ26: =FG26*FH26 -> #N/A | FL26: 17 | FM26: =FM$6*COS(FL26*PI()/180)+FN$5 -> #N/A | FN26: =FM$6*SIN(FL26*PI()/180)+FP$5 -> #N/A | FO26: =IF(SQRT((FM26-$J$5)^2+(FN26-$L$5)^2)<$I$6,1,0) -> #N/A | FP26: =FM26*FO26 -> #N/A | FQ26: =FN26*FO26 -> #N/A | FS26: 17 | FT26: =FT$6*COS(FS26*PI()/180)+FU$5 -> #N/A | FU26: =FT$6*SIN(FS26*PI()/180)+FW$5 -> #N/A | FV26: =IF(SQRT((FT26-$J$5)^2+(FU26-$L$5)^2)<$I$6,1,0) -> #N/A | FW26: =FT26*FV26 -> #N/A | FX26: =FU26*FV26 -> #N/A
A27: 10 | B27: =MOD('Pattern Entry'!$E$3+B40,360) -> 231 | C27: =C40 -> 0.8 | D27: =C27*COS(PI()*B27/180) -> -0.50345631 | E27: =C27*SIN(PI()*B27/180) -> -0.62171677 | F27: =MATCH(B27,$E$31:$E$34) -> 3 | H27: 18 | I27: =$I$6*COS(H27*PI()/180)+$J$5 -> 1.4265848 | J27: =$I$6*SIN(H27*PI()/180)+$L$5 -> 0.46352549 | N27: 18 | O27: =$O$6*COS($N27*PI()/180)+$P$5 -> 0.55699994 | P27: =$O$6*SIN($N27*PI()/180)+$R$5 -> -0.1364392 | Q27: =IF(SQRT((O27-$J$5)^2+(P27-$L$5)^2)<$I$6,1,0) -> 1 | R27: =O27*Q27 -> 0.55699994 | S27: =P27*Q27 -> -0.1364392 | U27: 18 | V27: =V$6*COS(U27*PI()/180)+W$5 -> 0.31627393 | W27: =V$6*SIN(U27*PI()/180)+Y$5 -> 0.18301501 | X27: =IF(SQRT((V27-$J$5)^2+(W27-$L$5)^2)<$I$6,1,0) -> 1 | Y27: =V27*X27 -> 0.31627393 | Z27: =W27*X27 -> 0.18301501 | AB27: 18 | AC27: =AC$6*COS(AB27*PI()/180)+AD$5 -> 0.47256638 | AD27: =AC$6*SIN(AB27*PI()/180)+AF$5 -> 0.55121695 | AE27: =IF(SQRT((AC27-$J$5)^2+(AD27-$L$5)^2)<$I$6,1,0) -> 1 | AF27: =AC27*AE27 -> 0.47256638 | AG27: =AD27*AE27 -> 0.55121695 | AI27: 18 | AJ27: =AJ$6*COS(AI27*PI()/180)+AK$5 -> 0.86958484 | AK27: =AJ$6*SIN(AI27*PI()/180)+AM$5 -> 0.59996469 | AL27: =IF(SQRT((AJ27-$J$5)^2+(AK27-$L$5)^2)<$I$6,1,0) -> 1 | AM27: =AJ27*AL27 -> 0.86958484 | AN27: =AK27*AL27 -> 0.59996469 | AP27: 18 | AQ27: =AQ$6*COS(AP27*PI()/180)+AR$5 -> 1.1103108 | AR27: =AQ$6*SIN(AP27*PI()/180)+AT$5 -> 0.28051048 | AS27: =IF(SQRT((AQ27-$J$5)^2+(AR27-$L$5)^2)<$I$6,1,0) -> 1 | AT27: =AQ27*AS27 -> 1.1103108 | AU27: =AR27*AS27 -> 0.28051048 | AW27: 18 | AX27: =AX$6*COS(AW27*PI()/180)+AY$5 -> 0.9540184 | AY27: =AX$6*SIN(AW27*PI()/180)+BA$5 -> -0.087691458 | AZ27: =IF(SQRT((AX27-$J$5)^2+(AY27-$L$5)^2)<$I$6,1,0) -> 1 | BA27: =AX27*AZ27 -> 0.9540184 | BB27: =AY27*AZ27 -> -0.087691458 | BD27: 18 | BE27: =BE$6*COS(BD27*PI()/180)+BF$5 -> #N/A | BF27: =BE$6*SIN(BD27*PI()/180)+BH$5 -> #N/A | BG27: =IF(SQRT((BE27-$J$5)^2+(BF27-$L$5)^2)<$I$6,1,0) -> #N/A | BH27: =BE27*BG27 -> #N/A | BI27: =BF27*BG27 -> #N/A | BK27: 18 | BL27: =BL$6*COS(BK27*PI()/180)+BM$5 -> #N/A | BM27: =BL$6*SIN(BK27*PI()/180)+BO$5 -> #N/A | BN27: =IF(SQRT((BL27-$J$5)^2+(BM27-$L$5)^2)<$I$6,1,0) -> #N/A | BO27: =BL27*BN27 -> #N/A | BP27: =BM27*BN27 -> #N/A | BR27: 18 | BS27: =BS$6*COS(BR27*PI()/180)+BT$5 -> #N/A | BT27: =BS$6*SIN(BR27*PI()/180)+BV$5 -> #N/A | BU27: =IF(SQRT((BS27-$J$5)^2+(BT27-$L$5)^2)<$I$6,1,0) -> #N/A | BV27: =BS27*BU27 -> #N/A | BW27: =BT27*BU27 -> #N/A | BY27: 18 | BZ27: =BZ$6*COS(BY27*PI()/180)+CA$5 -> #N/A | CA27: =BZ$6*SIN(BY27*PI()/180)+CC$5 -> #N/A | CB27: =IF(SQRT((BZ27-$J$5)^2+(CA27-$L$5)^2)<$I$6,1,0) -> #N/A | CC27: =BZ27*CB27 -> #N/A | CD27: =CA27*CB27 -> #N/A | CF27: 18 | CG27: =CG$6*COS(CF27*PI()/180)+CH$5 -> #N/A | CH27: =CG$6*SIN(CF27*PI()/180)+CJ$5 -> #N/A | CI27: =IF(SQRT((CG27-$J$5)^2+(CH27-$L$5)^2)<$I$6,1,0) -> #N/A | CJ27: =CG27*CI27 -> #N/A | CK27: =CH27*CI27 -> #N/A | CM27: 18 | CN27: =CN$6*COS(CM27*PI()/180)+CO$5 -> #N/A | CO27: =CN$6*SIN(CM27*PI()/180)+CQ$5 -> #N/A | CP27: =IF(SQRT((CN27-$J$5)^2+(CO27-$L$5)^2)<$I$6,1,0) -> #N/A | CQ27: =CN27*CP27 -> #N/A | CR27: =CO27*CP27 -> #N/A | CT27: 18 | CU27: =CU$6*COS(CT27*PI()/180)+CV$5 -> #N/A | CV27: =CU$6*SIN(CT27*PI()/180)+CX$5 -> #N/A | CW27: =IF(SQRT((CU27-$J$5)^2+(CV27-$L$5)^2)<$I$6,1,0) -> #N/A | CX27: =CU27*CW27 -> #N/A | CY27: =CV27*CW27 -> #N/A | DA27: 18 | DB27: =DB$6*COS(DA27*PI()/180)+DC$5 -> #N/A | DC27: =DB$6*SIN(DA27*PI()/180)+DE$5 -> #N/A | DD27: =IF(SQRT((DB27-$J$5)^2+(DC27-$L$5)^2)<$I$6,1,0) -> #N/A | DE27: =DB27*DD27 -> #N/A | DF27: =DC27*DD27 -> #N/A | DH27: 18 | DI27: =DI$6*COS(DH27*PI()/180)+DJ$5 -> #N/A | DJ27: =DI$6*SIN(DH27*PI()/180)+DL$5 -> #N/A | DK27: =IF(SQRT((DI27-$J$5)^2+(DJ27-$L$5)^2)<$I$6,1,0) -> #N/A | DL27: =DI27*DK27 -> #N/A | DM27: =DJ27*DK27 -> #N/A | DO27: 18 | DP27: =DP$6*COS(DO27*PI()/180)+DQ$5 -> #N/A | DQ27: =DP$6*SIN(DO27*PI()/180)+DS$5 -> #N/A | DR27: =IF(SQRT((DP27-$J$5)^2+(DQ27-$L$5)^2)<$I$6,1,0) -> #N/A | DS27: =DP27*DR27 -> #N/A | DT27: =DQ27*DR27 -> #N/A | DV27: 18 | DW27: =DW$6*COS(DV27*PI()/180)+DX$5 -> #N/A | DX27: =DW$6*SIN(DV27*PI()/180)+DZ$5 -> #N/A | DY27: =IF(SQRT((DW27-$J$5)^2+(DX27-$L$5)^2)<$I$6,1,0) -> #N/A | DZ27: =DW27*DY27 -> #N/A | EA27: =DX27*DY27 -> #N/A | EC27: 18 | ED27: =ED$6*COS(EC27*PI()/180)+EE$5 -> #N/A | EE27: =ED$6*SIN(EC27*PI()/180)+EG$5 -> #N/A | EF27: =IF(SQRT((ED27-$J$5)^2+(EE27-$L$5)^2)<$I$6,1,0) -> #N/A | EG27: =ED27*EF27 -> #N/A | EH27: =EE27*EF27 -> #N/A | EJ27: 18 | EK27: =EK$6*COS(EJ27*PI()/180)+EL$5 -> #N/A | EL27: =EK$6*SIN(EJ27*PI()/180)+EN$5 -> #N/A | EM27: =IF(SQRT((EK27-$J$5)^2+(EL27-$L$5)^2)<$I$6,1,0) -> #N/A | EN27: =EK27*EM27 -> #N/A | EO27: =EL27*EM27 -> #N/A | EQ27: 18 | ER27: =ER$6*COS(EQ27*PI()/180)+ES$5 -> #N/A | ES27: =ER$6*SIN(EQ27*PI()/180)+EU$5 -> #N/A | ET27: =IF(SQRT((ER27-$J$5)^2+(ES27-$L$5)^2)<$I$6,1,0) -> #N/A | EU27: =ER27*ET27 -> #N/A | EV27: =ES27*ET27 -> #N/A | EX27: 18 | EY27: =EY$6*COS(EX27*PI()/180)+EZ$5 -> #N/A | EZ27: =EY$6*SIN(EX27*PI()/180)+FB$5 -> #N/A | FA27: =IF(SQRT((EY27-$J$5)^2+(EZ27-$L$5)^2)<$I$6,1,0) -> #N/A | FB27: =EY27*FA27 -> #N/A | FC27: =EZ27*FA27 -> #N/A | FE27: 18 | FF27: =FF$6*COS(FE27*PI()/180)+FG$5 -> #N/A | FG27: =FF$6*SIN(FE27*PI()/180)+FI$5 -> #N/A | FH27: =IF(SQRT((FF27-$J$5)^2+(FG27-$L$5)^2)<$I$6,1,0) -> #N/A | FI27: =FF27*FH27 -> #N/A | FJ27: =FG27*FH27 -> #N/A | FL27: 18 | FM27: =FM$6*COS(FL27*PI()/180)+FN$5 -> #N/A | FN27: =FM$6*SIN(FL27*PI()/180)+FP$5 -> #N/A | FO27: =IF(SQRT((FM27-$J$5)^2+(FN27-$L$5)^2)<$I$6,1,0) -> #N/A | FP27: =FM27*FO27 -> #N/A | FQ27: =FN27*FO27 -> #N/A | FS27: 18 | FT27: =FT$6*COS(FS27*PI()/180)+FU$5 -> #N/A | FU27: =FT$6*SIN(FS27*PI()/180)+FW$5 -> #N/A | FV27: =IF(SQRT((FT27-$J$5)^2+(FU27-$L$5)^2)<$I$6,1,0) -> #N/A | FW27: =FT27*FV27 -> #N/A | FX27: =FU27*FV27 -> #N/A
H28: 19 | I28: =$I$6*COS(H28*PI()/180)+$J$5 -> 1.4182779 | J28: =$I$6*SIN(H28*PI()/180)+$L$5 -> 0.48835223 | N28: 19 | O28: =$O$6*COS($N28*PI()/180)+$P$5 -> 0.55284648 | P28: =$O$6*SIN($N28*PI()/180)+$R$5 -> -0.12402583 | Q28: =IF(SQRT((O28-$J$5)^2+(P28-$L$5)^2)<$I$6,1,0) -> 1 | R28: =O28*Q28 -> 0.55284648 | S28: =P28*Q28 -> -0.12402583 | U28: 19 | V28: =V$6*COS(U28*PI()/180)+W$5 -> 0.31212047 | W28: =V$6*SIN(U28*PI()/180)+Y$5 -> 0.19542838 | X28: =IF(SQRT((V28-$J$5)^2+(W28-$L$5)^2)<$I$6,1,0) -> 1 | Y28: =V28*X28 -> 0.31212047 | Z28: =W28*X28 -> 0.19542838 | AB28: 19 | AC28: =AC$6*COS(AB28*PI()/180)+AD$5 -> 0.46841292 | AD28: =AC$6*SIN(AB28*PI()/180)+AF$5 -> 0.56363032 | AE28: =IF(SQRT((AC28-$J$5)^2+(AD28-$L$5)^2)<$I$6,1,0) -> 1 | AF28: =AC28*AE28 -> 0.46841292 | AG28: =AD28*AE28 -> 0.56363032 | AI28: 19 | AJ28: =AJ$6*COS(AI28*PI()/180)+AK$5 -> 0.86543138 | AK28: =AJ$6*SIN(AI28*PI()/180)+AM$5 -> 0.61237806 | AL28: =IF(SQRT((AJ28-$J$5)^2+(AK28-$L$5)^2)<$I$6,1,0) -> 1 | AM28: =AJ28*AL28 -> 0.86543138 | AN28: =AK28*AL28 -> 0.61237806 | AP28: 19 | AQ28: =AQ$6*COS(AP28*PI()/180)+AR$5 -> 1.1061574 | AR28: =AQ$6*SIN(AP28*PI()/180)+AT$5 -> 0.29292385 | AS28: =IF(SQRT((AQ28-$J$5)^2+(AR28-$L$5)^2)<$I$6,1,0) -> 1 | AT28: =AQ28*AS28 -> 1.1061574 | AU28: =AR28*AS28 -> 0.29292385 | AW28: 19 | AX28: =AX$6*COS(AW28*PI()/180)+AY$5 -> 0.94986494 | AY28: =AX$6*SIN(AW28*PI()/180)+BA$5 -> -0.075278088 | AZ28: =IF(SQRT((AX28-$J$5)^2+(AY28-$L$5)^2)<$I$6,1,0) -> 1 | BA28: =AX28*AZ28 -> 0.94986494 | BB28: =AY28*AZ28 -> -0.075278088 | BD28: 19 | BE28: =BE$6*COS(BD28*PI()/180)+BF$5 -> #N/A | BF28: =BE$6*SIN(BD28*PI()/180)+BH$5 -> #N/A | BG28: =IF(SQRT((BE28-$J$5)^2+(BF28-$L$5)^2)<$I$6,1,0) -> #N/A | BH28: =BE28*BG28 -> #N/A | BI28: =BF28*BG28 -> #N/A | BK28: 19 | BL28: =BL$6*COS(BK28*PI()/180)+BM$5 -> #N/A | BM28: =BL$6*SIN(BK28*PI()/180)+BO$5 -> #N/A | BN28: =IF(SQRT((BL28-$J$5)^2+(BM28-$L$5)^2)<$I$6,1,0) -> #N/A | BO28: =BL28*BN28 -> #N/A | BP28: =BM28*BN28 -> #N/A | BR28: 19 | BS28: =BS$6*COS(BR28*PI()/180)+BT$5 -> #N/A | BT28: =BS$6*SIN(BR28*PI()/180)+BV$5 -> #N/A | BU28: =IF(SQRT((BS28-$J$5)^2+(BT28-$L$5)^2)<$I$6,1,0) -> #N/A | BV28: =BS28*BU28 -> #N/A | BW28: =BT28*BU28 -> #N/A | BY28: 19 | BZ28: =BZ$6*COS(BY28*PI()/180)+CA$5 -> #N/A | CA28: =BZ$6*SIN(BY28*PI()/180)+CC$5 -> #N/A | CB28: =IF(SQRT((BZ28-$J$5)^2+(CA28-$L$5)^2)<$I$6,1,0) -> #N/A | CC28: =BZ28*CB28 -> #N/A | CD28: =CA28*CB28 -> #N/A | CF28: 19 | CG28: =CG$6*COS(CF28*PI()/180)+CH$5 -> #N/A | CH28: =CG$6*SIN(CF28*PI()/180)+CJ$5 -> #N/A | CI28: =IF(SQRT((CG28-$J$5)^2+(CH28-$L$5)^2)<$I$6,1,0) -> #N/A | CJ28: =CG28*CI28 -> #N/A | CK28: =CH28*CI28 -> #N/A | CM28: 19 | CN28: =CN$6*COS(CM28*PI()/180)+CO$5 -> #N/A | CO28: =CN$6*SIN(CM28*PI()/180)+CQ$5 -> #N/A | CP28: =IF(SQRT((CN28-$J$5)^2+(CO28-$L$5)^2)<$I$6,1,0) -> #N/A | CQ28: =CN28*CP28 -> #N/A | CR28: =CO28*CP28 -> #N/A | CT28: 19 | CU28: =CU$6*COS(CT28*PI()/180)+CV$5 -> #N/A | CV28: =CU$6*SIN(CT28*PI()/180)+CX$5 -> #N/A | CW28: =IF(SQRT((CU28-$J$5)^2+(CV28-$L$5)^2)<$I$6,1,0) -> #N/A | CX28: =CU28*CW28 -> #N/A | CY28: =CV28*CW28 -> #N/A | DA28: 19 | DB28: =DB$6*COS(DA28*PI()/180)+DC$5 -> #N/A | DC28: =DB$6*SIN(DA28*PI()/180)+DE$5 -> #N/A | DD28: =IF(SQRT((DB28-$J$5)^2+(DC28-$L$5)^2)<$I$6,1,0) -> #N/A | DE28: =DB28*DD28 -> #N/A | DF28: =DC28*DD28 -> #N/A | DH28: 19 | DI28: =DI$6*COS(DH28*PI()/180)+DJ$5 -> #N/A | DJ28: =DI$6*SIN(DH28*PI()/180)+DL$5 -> #N/A | DK28: =IF(SQRT((DI28-$J$5)^2+(DJ28-$L$5)^2)<$I$6,1,0) -> #N/A | DL28: =DI28*DK28 -> #N/A | DM28: =DJ28*DK28 -> #N/A | DO28: 19 | DP28: =DP$6*COS(DO28*PI()/180)+DQ$5 -> #N/A | DQ28: =DP$6*SIN(DO28*PI()/180)+DS$5 -> #N/A | DR28: =IF(SQRT((DP28-$J$5)^2+(DQ28-$L$5)^2)<$I$6,1,0) -> #N/A | DS28: =DP28*DR28 -> #N/A | DT28: =DQ28*DR28 -> #N/A | DV28: 19 | DW28: =DW$6*COS(DV28*PI()/180)+DX$5 -> #N/A | DX28: =DW$6*SIN(DV28*PI()/180)+DZ$5 -> #N/A | DY28: =IF(SQRT((DW28-$J$5)^2+(DX28-$L$5)^2)<$I$6,1,0) -> #N/A | DZ28: =DW28*DY28 -> #N/A | EA28: =DX28*DY28 -> #N/A | EC28: 19 | ED28: =ED$6*COS(EC28*PI()/180)+EE$5 -> #N/A | EE28: =ED$6*SIN(EC28*PI()/180)+EG$5 -> #N/A | EF28: =IF(SQRT((ED28-$J$5)^2+(EE28-$L$5)^2)<$I$6,1,0) -> #N/A | EG28: =ED28*EF28 -> #N/A | EH28: =EE28*EF28 -> #N/A | EJ28: 19 | EK28: =EK$6*COS(EJ28*PI()/180)+EL$5 -> #N/A | EL28: =EK$6*SIN(EJ28*PI()/180)+EN$5 -> #N/A | EM28: =IF(SQRT((EK28-$J$5)^2+(EL28-$L$5)^2)<$I$6,1,0) -> #N/A | EN28: =EK28*EM28 -> #N/A | EO28: =EL28*EM28 -> #N/A | EQ28: 19 | ER28: =ER$6*COS(EQ28*PI()/180)+ES$5 -> #N/A | ES28: =ER$6*SIN(EQ28*PI()/180)+EU$5 -> #N/A | ET28: =IF(SQRT((ER28-$J$5)^2+(ES28-$L$5)^2)<$I$6,1,0) -> #N/A | EU28: =ER28*ET28 -> #N/A | EV28: =ES28*ET28 -> #N/A | EX28: 19 | EY28: =EY$6*COS(EX28*PI()/180)+EZ$5 -> #N/A | EZ28: =EY$6*SIN(EX28*PI()/180)+FB$5 -> #N/A | FA28: =IF(SQRT((EY28-$J$5)^2+(EZ28-$L$5)^2)<$I$6,1,0) -> #N/A | FB28: =EY28*FA28 -> #N/A | FC28: =EZ28*FA28 -> #N/A | FE28: 19 | FF28: =FF$6*COS(FE28*PI()/180)+FG$5 -> #N/A | FG28: =FF$6*SIN(FE28*PI()/180)+FI$5 -> #N/A | FH28: =IF(SQRT((FF28-$J$5)^2+(FG28-$L$5)^2)<$I$6,1,0) -> #N/A | FI28: =FF28*FH28 -> #N/A | FJ28: =FG28*FH28 -> #N/A | FL28: 19 | FM28: =FM$6*COS(FL28*PI()/180)+FN$5 -> #N/A | FN28: =FM$6*SIN(FL28*PI()/180)+FP$5 -> #N/A | FO28: =IF(SQRT((FM28-$J$5)^2+(FN28-$L$5)^2)<$I$6,1,0) -> #N/A | FP28: =FM28*FO28 -> #N/A | FQ28: =FN28*FO28 -> #N/A | FS28: 19 | FT28: =FT$6*COS(FS28*PI()/180)+FU$5 -> #N/A | FU28: =FT$6*SIN(FS28*PI()/180)+FW$5 -> #N/A | FV28: =IF(SQRT((FT28-$J$5)^2+(FU28-$L$5)^2)<$I$6,1,0) -> #N/A | FW28: =FT28*FV28 -> #N/A | FX28: =FU28*FV28 -> #N/A
A29: Joyner's Supplied Measurments (in) | D29: Quadrant Angle Definations | H29: 20 | I29: =$I$6*COS(H29*PI()/180)+$J$5 -> 1.4095389 | J29: =$I$6*SIN(H29*PI()/180)+$L$5 -> 0.51303021 | N29: 20 | O29: =$O$6*COS($N29*PI()/180)+$P$5 -> 0.54847701 | P29: =$O$6*SIN($N29*PI()/180)+$R$5 -> -0.11168683 | Q29: =IF(SQRT((O29-$J$5)^2+(P29-$L$5)^2)<$I$6,1,0) -> 1 | R29: =O29*Q29 -> 0.54847701 | S29: =P29*Q29 -> -0.11168683 | U29: 20 | V29: =V$6*COS(U29*PI()/180)+W$5 -> 0.307751 | W29: =V$6*SIN(U29*PI()/180)+Y$5 -> 0.20776737 | X29: =IF(SQRT((V29-$J$5)^2+(W29-$L$5)^2)<$I$6,1,0) -> 1 | Y29: =V29*X29 -> 0.307751 | Z29: =W29*X29 -> 0.20776737 | AB29: 20 | AC29: =AC$6*COS(AB29*PI()/180)+AD$5 -> 0.46404346 | AD29: =AC$6*SIN(AB29*PI()/180)+AF$5 -> 0.57596931 | AE29: =IF(SQRT((AC29-$J$5)^2+(AD29-$L$5)^2)<$I$6,1,0) -> 1 | AF29: =AC29*AE29 -> 0.46404346 | AG29: =AD29*AE29 -> 0.57596931 | AI29: 20 | AJ29: =AJ$6*COS(AI29*PI()/180)+AK$5 -> 0.86106192 | AK29: =AJ$6*SIN(AI29*PI()/180)+AM$5 -> 0.62471705 | AL29: =IF(SQRT((AJ29-$J$5)^2+(AK29-$L$5)^2)<$I$6,1,0) -> 1 | AM29: =AJ29*AL29 -> 0.86106192 | AN29: =AK29*AL29 -> 0.62471705 | AP29: 20 | AQ29: =AQ$6*COS(AP29*PI()/180)+AR$5 -> 1.1017879 | AR29: =AQ$6*SIN(AP29*PI()/180)+AT$5 -> 0.30526284 | AS29: =IF(SQRT((AQ29-$J$5)^2+(AR29-$L$5)^2)<$I$6,1,0) -> 1 | AT29: =AQ29*AS29 -> 1.1017879 | AU29: =AR29*AS29 -> 0.30526284 | AW29: 20 | AX29: =AX$6*COS(AW29*PI()/180)+AY$5 -> 0.94549547 | AY29: =AX$6*SIN(AW29*PI()/180)+BA$5 -> -0.062939097 | AZ29: =IF(SQRT((AX29-$J$5)^2+(AY29-$L$5)^2)<$I$6,1,0) -> 1 | BA29: =AX29*AZ29 -> 0.94549547 | BB29: =AY29*AZ29 -> -0.062939097 | BD29: 20 | BE29: =BE$6*COS(BD29*PI()/180)+BF$5 -> #N/A | BF29: =BE$6*SIN(BD29*PI()/180)+BH$5 -> #N/A | BG29: =IF(SQRT((BE29-$J$5)^2+(BF29-$L$5)^2)<$I$6,1,0) -> #N/A | BH29: =BE29*BG29 -> #N/A | BI29: =BF29*BG29 -> #N/A | BK29: 20 | BL29: =BL$6*COS(BK29*PI()/180)+BM$5 -> #N/A | BM29: =BL$6*SIN(BK29*PI()/180)+BO$5 -> #N/A | BN29: =IF(SQRT((BL29-$J$5)^2+(BM29-$L$5)^2)<$I$6,1,0) -> #N/A | BO29: =BL29*BN29 -> #N/A | BP29: =BM29*BN29 -> #N/A | BR29: 20 | BS29: =BS$6*COS(BR29*PI()/180)+BT$5 -> #N/A | BT29: =BS$6*SIN(BR29*PI()/180)+BV$5 -> #N/A | BU29: =IF(SQRT((BS29-$J$5)^2+(BT29-$L$5)^2)<$I$6,1,0) -> #N/A | BV29: =BS29*BU29 -> #N/A | BW29: =BT29*BU29 -> #N/A | BY29: 20 | BZ29: =BZ$6*COS(BY29*PI()/180)+CA$5 -> #N/A | CA29: =BZ$6*SIN(BY29*PI()/180)+CC$5 -> #N/A | CB29: =IF(SQRT((BZ29-$J$5)^2+(CA29-$L$5)^2)<$I$6,1,0) -> #N/A | CC29: =BZ29*CB29 -> #N/A | CD29: =CA29*CB29 -> #N/A | CF29: 20 | CG29: =CG$6*COS(CF29*PI()/180)+CH$5 -> #N/A | CH29: =CG$6*SIN(CF29*PI()/180)+CJ$5 -> #N/A | CI29: =IF(SQRT((CG29-$J$5)^2+(CH29-$L$5)^2)<$I$6,1,0) -> #N/A | CJ29: =CG29*CI29 -> #N/A | CK29: =CH29*CI29 -> #N/A | CM29: 20 | CN29: =CN$6*COS(CM29*PI()/180)+CO$5 -> #N/A | CO29: =CN$6*SIN(CM29*PI()/180)+CQ$5 -> #N/A | CP29: =IF(SQRT((CN29-$J$5)^2+(CO29-$L$5)^2)<$I$6,1,0) -> #N/A | CQ29: =CN29*CP29 -> #N/A | CR29: =CO29*CP29 -> #N/A | CT29: 20 | CU29: =CU$6*COS(CT29*PI()/180)+CV$5 -> #N/A | CV29: =CU$6*SIN(CT29*PI()/180)+CX$5 -> #N/A | CW29: =IF(SQRT((CU29-$J$5)^2+(CV29-$L$5)^2)<$I$6,1,0) -> #N/A | CX29: =CU29*CW29 -> #N/A | CY29: =CV29*CW29 -> #N/A | DA29: 20 | DB29: =DB$6*COS(DA29*PI()/180)+DC$5 -> #N/A | DC29: =DB$6*SIN(DA29*PI()/180)+DE$5 -> #N/A | DD29: =IF(SQRT((DB29-$J$5)^2+(DC29-$L$5)^2)<$I$6,1,0) -> #N/A | DE29: =DB29*DD29 -> #N/A | DF29: =DC29*DD29 -> #N/A | DH29: 20 | DI29: =DI$6*COS(DH29*PI()/180)+DJ$5 -> #N/A | DJ29: =DI$6*SIN(DH29*PI()/180)+DL$5 -> #N/A | DK29: =IF(SQRT((DI29-$J$5)^2+(DJ29-$L$5)^2)<$I$6,1,0) -> #N/A | DL29: =DI29*DK29 -> #N/A | DM29: =DJ29*DK29 -> #N/A | DO29: 20 | DP29: =DP$6*COS(DO29*PI()/180)+DQ$5 -> #N/A | DQ29: =DP$6*SIN(DO29*PI()/180)+DS$5 -> #N/A | DR29: =IF(SQRT((DP29-$J$5)^2+(DQ29-$L$5)^2)<$I$6,1,0) -> #N/A | DS29: =DP29*DR29 -> #N/A | DT29: =DQ29*DR29 -> #N/A | DV29: 20 | DW29: =DW$6*COS(DV29*PI()/180)+DX$5 -> #N/A | DX29: =DW$6*SIN(DV29*PI()/180)+DZ$5 -> #N/A | DY29: =IF(SQRT((DW29-$J$5)^2+(DX29-$L$5)^2)<$I$6,1,0) -> #N/A | DZ29: =DW29*DY29 -> #N/A | EA29: =DX29*DY29 -> #N/A | EC29: 20 | ED29: =ED$6*COS(EC29*PI()/180)+EE$5 -> #N/A | EE29: =ED$6*SIN(EC29*PI()/180)+EG$5 -> #N/A | EF29: =IF(SQRT((ED29-$J$5)^2+(EE29-$L$5)^2)<$I$6,1,0) -> #N/A | EG29: =ED29*EF29 -> #N/A | EH29: =EE29*EF29 -> #N/A | EJ29: 20 | EK29: =EK$6*COS(EJ29*PI()/180)+EL$5 -> #N/A | EL29: =EK$6*SIN(EJ29*PI()/180)+EN$5 -> #N/A | EM29: =IF(SQRT((EK29-$J$5)^2+(EL29-$L$5)^2)<$I$6,1,0) -> #N/A | EN29: =EK29*EM29 -> #N/A | EO29: =EL29*EM29 -> #N/A | EQ29: 20 | ER29: =ER$6*COS(EQ29*PI()/180)+ES$5 -> #N/A | ES29: =ER$6*SIN(EQ29*PI()/180)+EU$5 -> #N/A | ET29: =IF(SQRT((ER29-$J$5)^2+(ES29-$L$5)^2)<$I$6,1,0) -> #N/A | EU29: =ER29*ET29 -> #N/A | EV29: =ES29*ET29 -> #N/A | EX29: 20 | EY29: =EY$6*COS(EX29*PI()/180)+EZ$5 -> #N/A | EZ29: =EY$6*SIN(EX29*PI()/180)+FB$5 -> #N/A | FA29: =IF(SQRT((EY29-$J$5)^2+(EZ29-$L$5)^2)<$I$6,1,0) -> #N/A | FB29: =EY29*FA29 -> #N/A | FC29: =EZ29*FA29 -> #N/A | FE29: 20 | FF29: =FF$6*COS(FE29*PI()/180)+FG$5 -> #N/A | FG29: =FF$6*SIN(FE29*PI()/180)+FI$5 -> #N/A | FH29: =IF(SQRT((FF29-$J$5)^2+(FG29-$L$5)^2)<$I$6,1,0) -> #N/A | FI29: =FF29*FH29 -> #N/A | FJ29: =FG29*FH29 -> #N/A | FL29: 20 | FM29: =FM$6*COS(FL29*PI()/180)+FN$5 -> #N/A | FN29: =FM$6*SIN(FL29*PI()/180)+FP$5 -> #N/A | FO29: =IF(SQRT((FM29-$J$5)^2+(FN29-$L$5)^2)<$I$6,1,0) -> #N/A | FP29: =FM29*FO29 -> #N/A | FQ29: =FN29*FO29 -> #N/A | FS29: 20 | FT29: =FT$6*COS(FS29*PI()/180)+FU$5 -> #N/A | FU29: =FT$6*SIN(FS29*PI()/180)+FW$5 -> #N/A | FV29: =IF(SQRT((FT29-$J$5)^2+(FU29-$L$5)^2)<$I$6,1,0) -> #N/A | FW29: =FT29*FV29 -> #N/A | FX29: =FU29*FV29 -> #N/A
A30: Hole # | B30: Angle | C30: Distance | D30: Quad | E30: Min | F30: Max | H30: 21 | I30: =$I$6*COS(H30*PI()/180)+$J$5 -> 1.4003706 | J30: =$I$6*SIN(H30*PI()/180)+$L$5 -> 0.53755192 | N30: 21 | O30: =$O$6*COS($N30*PI()/180)+$P$5 -> 0.54389287 | P30: =$O$6*SIN($N30*PI()/180)+$R$5 -> -0.099425979 | Q30: =IF(SQRT((O30-$J$5)^2+(P30-$L$5)^2)<$I$6,1,0) -> 1 | R30: =O30*Q30 -> 0.54389287 | S30: =P30*Q30 -> -0.099425979 | U30: 21 | V30: =V$6*COS(U30*PI()/180)+W$5 -> 0.30316686 | W30: =V$6*SIN(U30*PI()/180)+Y$5 -> 0.22002822 | X30: =IF(SQRT((V30-$J$5)^2+(W30-$L$5)^2)<$I$6,1,0) -> 1 | Y30: =V30*X30 -> 0.30316686 | Z30: =W30*X30 -> 0.22002822 | AB30: 21 | AC30: =AC$6*COS(AB30*PI()/180)+AD$5 -> 0.45945931 | AD30: =AC$6*SIN(AB30*PI()/180)+AF$5 -> 0.58823017 | AE30: =IF(SQRT((AC30-$J$5)^2+(AD30-$L$5)^2)<$I$6,1,0) -> 1 | AF30: =AC30*AE30 -> 0.45945931 | AG30: =AD30*AE30 -> 0.58823017 | AI30: 21 | AJ30: =AJ$6*COS(AI30*PI()/180)+AK$5 -> 0.85647777 | AK30: =AJ$6*SIN(AI30*PI()/180)+AM$5 -> 0.6369779 | AL30: =IF(SQRT((AJ30-$J$5)^2+(AK30-$L$5)^2)<$I$6,1,0) -> 1 | AM30: =AJ30*AL30 -> 0.85647777 | AN30: =AK30*AL30 -> 0.6369779 | AP30: 21 | AQ30: =AQ$6*COS(AP30*PI()/180)+AR$5 -> 1.0972038 | AR30: =AQ$6*SIN(AP30*PI()/180)+AT$5 -> 0.3175237 | AS30: =IF(SQRT((AQ30-$J$5)^2+(AR30-$L$5)^2)<$I$6,1,0) -> 1 | AT30: =AQ30*AS30 -> 1.0972038 | AU30: =AR30*AS30 -> 0.3175237 | AW30: 21 | AX30: =AX$6*COS(AW30*PI()/180)+AY$5 -> 0.94091133 | AY30: =AX$6*SIN(AW30*PI()/180)+BA$5 -> -0.050678242 | AZ30: =IF(SQRT((AX30-$J$5)^2+(AY30-$L$5)^2)<$I$6,1,0) -> 1 | BA30: =AX30*AZ30 -> 0.94091133 | BB30: =AY30*AZ30 -> -0.050678242 | BD30: 21 | BE30: =BE$6*COS(BD30*PI()/180)+BF$5 -> #N/A | BF30: =BE$6*SIN(BD30*PI()/180)+BH$5 -> #N/A | BG30: =IF(SQRT((BE30-$J$5)^2+(BF30-$L$5)^2)<$I$6,1,0) -> #N/A | BH30: =BE30*BG30 -> #N/A | BI30: =BF30*BG30 -> #N/A | BK30: 21 | BL30: =BL$6*COS(BK30*PI()/180)+BM$5 -> #N/A | BM30: =BL$6*SIN(BK30*PI()/180)+BO$5 -> #N/A | BN30: =IF(SQRT((BL30-$J$5)^2+(BM30-$L$5)^2)<$I$6,1,0) -> #N/A | BO30: =BL30*BN30 -> #N/A | BP30: =BM30*BN30 -> #N/A | BR30: 21 | BS30: =BS$6*COS(BR30*PI()/180)+BT$5 -> #N/A | BT30: =BS$6*SIN(BR30*PI()/180)+BV$5 -> #N/A | BU30: =IF(SQRT((BS30-$J$5)^2+(BT30-$L$5)^2)<$I$6,1,0) -> #N/A | BV30: =BS30*BU30 -> #N/A | BW30: =BT30*BU30 -> #N/A | BY30: 21 | BZ30: =BZ$6*COS(BY30*PI()/180)+CA$5 -> #N/A | CA30: =BZ$6*SIN(BY30*PI()/180)+CC$5 -> #N/A | CB30: =IF(SQRT((BZ30-$J$5)^2+(CA30-$L$5)^2)<$I$6,1,0) -> #N/A | CC30: =BZ30*CB30 -> #N/A | CD30: =CA30*CB30 -> #N/A | CF30: 21 | CG30: =CG$6*COS(CF30*PI()/180)+CH$5 -> #N/A | CH30: =CG$6*SIN(CF30*PI()/180)+CJ$5 -> #N/A | CI30: =IF(SQRT((CG30-$J$5)^2+(CH30-$L$5)^2)<$I$6,1,0) -> #N/A | CJ30: =CG30*CI30 -> #N/A | CK30: =CH30*CI30 -> #N/A | CM30: 21 | CN30: =CN$6*COS(CM30*PI()/180)+CO$5 -> #N/A | CO30: =CN$6*SIN(CM30*PI()/180)+CQ$5 -> #N/A | CP30: =IF(SQRT((CN30-$J$5)^2+(CO30-$L$5)^2)<$I$6,1,0) -> #N/A | CQ30: =CN30*CP30 -> #N/A | CR30: =CO30*CP30 -> #N/A | CT30: 21 | CU30: =CU$6*COS(CT30*PI()/180)+CV$5 -> #N/A | CV30: =CU$6*SIN(CT30*PI()/180)+CX$5 -> #N/A | CW30: =IF(SQRT((CU30-$J$5)^2+(CV30-$L$5)^2)<$I$6,1,0) -> #N/A | CX30: =CU30*CW30 -> #N/A | CY30: =CV30*CW30 -> #N/A | DA30: 21 | DB30: =DB$6*COS(DA30*PI()/180)+DC$5 -> #N/A | DC30: =DB$6*SIN(DA30*PI()/180)+DE$5 -> #N/A | DD30: =IF(SQRT((DB30-$J$5)^2+(DC30-$L$5)^2)<$I$6,1,0) -> #N/A | DE30: =DB30*DD30 -> #N/A | DF30: =DC30*DD30 -> #N/A | DH30: 21 | DI30: =DI$6*COS(DH30*PI()/180)+DJ$5 -> #N/A | DJ30: =DI$6*SIN(DH30*PI()/180)+DL$5 -> #N/A | DK30: =IF(SQRT((DI30-$J$5)^2+(DJ30-$L$5)^2)<$I$6,1,0) -> #N/A | DL30: =DI30*DK30 -> #N/A | DM30: =DJ30*DK30 -> #N/A | DO30: 21 | DP30: =DP$6*COS(DO30*PI()/180)+DQ$5 -> #N/A | DQ30: =DP$6*SIN(DO30*PI()/180)+DS$5 -> #N/A | DR30: =IF(SQRT((DP30-$J$5)^2+(DQ30-$L$5)^2)<$I$6,1,0) -> #N/A | DS30: =DP30*DR30 -> #N/A | DT30: =DQ30*DR30 -> #N/A | DV30: 21 | DW30: =DW$6*COS(DV30*PI()/180)+DX$5 -> #N/A | DX30: =DW$6*SIN(DV30*PI()/180)+DZ$5 -> #N/A | DY30: =IF(SQRT((DW30-$J$5)^2+(DX30-$L$5)^2)<$I$6,1,0) -> #N/A | DZ30: =DW30*DY30 -> #N/A | EA30: =DX30*DY30 -> #N/A | EC30: 21 | ED30: =ED$6*COS(EC30*PI()/180)+EE$5 -> #N/A | EE30: =ED$6*SIN(EC30*PI()/180)+EG$5 -> #N/A | EF30: =IF(SQRT((ED30-$J$5)^2+(EE30-$L$5)^2)<$I$6,1,0) -> #N/A | EG30: =ED30*EF30 -> #N/A | EH30: =EE30*EF30 -> #N/A | EJ30: 21 | EK30: =EK$6*COS(EJ30*PI()/180)+EL$5 -> #N/A | EL30: =EK$6*SIN(EJ30*PI()/180)+EN$5 -> #N/A | EM30: =IF(SQRT((EK30-$J$5)^2+(EL30-$L$5)^2)<$I$6,1,0) -> #N/A | EN30: =EK30*EM30 -> #N/A | EO30: =EL30*EM30 -> #N/A | EQ30: 21 | ER30: =ER$6*COS(EQ30*PI()/180)+ES$5 -> #N/A | ES30: =ER$6*SIN(EQ30*PI()/180)+EU$5 -> #N/A | ET30: =IF(SQRT((ER30-$J$5)^2+(ES30-$L$5)^2)<$I$6,1,0) -> #N/A | EU30: =ER30*ET30 -> #N/A | EV30: =ES30*ET30 -> #N/A | EX30: 21 | EY30: =EY$6*COS(EX30*PI()/180)+EZ$5 -> #N/A | EZ30: =EY$6*SIN(EX30*PI()/180)+FB$5 -> #N/A | FA30: =IF(SQRT((EY30-$J$5)^2+(EZ30-$L$5)^2)<$I$6,1,0) -> #N/A | FB30: =EY30*FA30 -> #N/A | FC30: =EZ30*FA30 -> #N/A | FE30: 21 | FF30: =FF$6*COS(FE30*PI()/180)+FG$5 -> #N/A | FG30: =FF$6*SIN(FE30*PI()/180)+FI$5 -> #N/A | FH30: =IF(SQRT((FF30-$J$5)^2+(FG30-$L$5)^2)<$I$6,1,0) -> #N/A | FI30: =FF30*FH30 -> #N/A | FJ30: =FG30*FH30 -> #N/A | FL30: 21 | FM30: =FM$6*COS(FL30*PI()/180)+FN$5 -> #N/A | FN30: =FM$6*SIN(FL30*PI()/180)+FP$5 -> #N/A | FO30: =IF(SQRT((FM30-$J$5)^2+(FN30-$L$5)^2)<$I$6,1,0) -> #N/A | FP30: =FM30*FO30 -> #N/A | FQ30: =FN30*FO30 -> #N/A | FS30: 21 | FT30: =FT$6*COS(FS30*PI()/180)+FU$5 -> #N/A | FU30: =FT$6*SIN(FS30*PI()/180)+FW$5 -> #N/A | FV30: =IF(SQRT((FT30-$J$5)^2+(FU30-$L$5)^2)<$I$6,1,0) -> #N/A | FW30: =FT30*FV30 -> #N/A | FX30: =FU30*FV30 -> #N/A
A31: 1 | B31: 0 | C31: 0 | D31: 1 | E31: 0 | F31: 90 | H31: 22 | I31: =$I$6*COS(H31*PI()/180)+$J$5 -> 1.3907758 | J31: =$I$6*SIN(H31*PI()/180)+$L$5 -> 0.56190989 | N31: 22 | O31: =$O$6*COS($N31*PI()/180)+$P$5 -> 0.53909544 | P31: =$O$6*SIN($N31*PI()/180)+$R$5 -> -0.087246996 | Q31: =IF(SQRT((O31-$J$5)^2+(P31-$L$5)^2)<$I$6,1,0) -> 1 | R31: =O31*Q31 -> 0.53909544 | S31: =P31*Q31 -> -0.087246996 | U31: 22 | V31: =V$6*COS(U31*PI()/180)+W$5 -> 0.29836943 | W31: =V$6*SIN(U31*PI()/180)+Y$5 -> 0.23220721 | X31: =IF(SQRT((V31-$J$5)^2+(W31-$L$5)^2)<$I$6,1,0) -> 1 | Y31: =V31*X31 -> 0.29836943 | Z31: =W31*X31 -> 0.23220721 | AB31: 22 | AC31: =AC$6*COS(AB31*PI()/180)+AD$5 -> 0.45466188 | AD31: =AC$6*SIN(AB31*PI()/180)+AF$5 -> 0.60040915 | AE31: =IF(SQRT((AC31-$J$5)^2+(AD31-$L$5)^2)<$I$6,1,0) -> 1 | AF31: =AC31*AE31 -> 0.45466188 | AG31: =AD31*AE31 -> 0.60040915 | AI31: 22 | AJ31: =AJ$6*COS(AI31*PI()/180)+AK$5 -> 0.85168034 | AK31: =AJ$6*SIN(AI31*PI()/180)+AM$5 -> 0.64915689 | AL31: =IF(SQRT((AJ31-$J$5)^2+(AK31-$L$5)^2)<$I$6,1,0) -> 1 | AM31: =AJ31*AL31 -> 0.85168034 | AN31: =AK31*AL31 -> 0.64915689 | AP31: 22 | AQ31: =AQ$6*COS(AP31*PI()/180)+AR$5 -> 1.0924064 | AR31: =AQ$6*SIN(AP31*PI()/180)+AT$5 -> 0.32970268 | AS31: =IF(SQRT((AQ31-$J$5)^2+(AR31-$L$5)^2)<$I$6,1,0) -> 1 | AT31: =AQ31*AS31 -> 1.0924064 | AU31: =AR31*AS31 -> 0.32970268 | AW31: 22 | AX31: =AX$6*COS(AW31*PI()/180)+AY$5 -> 0.9361139 | AY31: =AX$6*SIN(AW31*PI()/180)+BA$5 -> -0.038499259 | AZ31: =IF(SQRT((AX31-$J$5)^2+(AY31-$L$5)^2)<$I$6,1,0) -> 1 | BA31: =AX31*AZ31 -> 0.9361139 | BB31: =AY31*AZ31 -> -0.038499259 | BD31: 22 | BE31: =BE$6*COS(BD31*PI()/180)+BF$5 -> #N/A | BF31: =BE$6*SIN(BD31*PI()/180)+BH$5 -> #N/A | BG31: =IF(SQRT((BE31-$J$5)^2+(BF31-$L$5)^2)<$I$6,1,0) -> #N/A | BH31: =BE31*BG31 -> #N/A | BI31: =BF31*BG31 -> #N/A | BK31: 22 | BL31: =BL$6*COS(BK31*PI()/180)+BM$5 -> #N/A | BM31: =BL$6*SIN(BK31*PI()/180)+BO$5 -> #N/A | BN31: =IF(SQRT((BL31-$J$5)^2+(BM31-$L$5)^2)<$I$6,1,0) -> #N/A | BO31: =BL31*BN31 -> #N/A | BP31: =BM31*BN31 -> #N/A | BR31: 22 | BS31: =BS$6*COS(BR31*PI()/180)+BT$5 -> #N/A | BT31: =BS$6*SIN(BR31*PI()/180)+BV$5 -> #N/A | BU31: =IF(SQRT((BS31-$J$5)^2+(BT31-$L$5)^2)<$I$6,1,0) -> #N/A | BV31: =BS31*BU31 -> #N/A | BW31: =BT31*BU31 -> #N/A | BY31: 22 | BZ31: =BZ$6*COS(BY31*PI()/180)+CA$5 -> #N/A | CA31: =BZ$6*SIN(BY31*PI()/180)+CC$5 -> #N/A | CB31: =IF(SQRT((BZ31-$J$5)^2+(CA31-$L$5)^2)<$I$6,1,0) -> #N/A | CC31: =BZ31*CB31 -> #N/A | CD31: =CA31*CB31 -> #N/A | CF31: 22 | CG31: =CG$6*COS(CF31*PI()/180)+CH$5 -> #N/A | CH31: =CG$6*SIN(CF31*PI()/180)+CJ$5 -> #N/A | CI31: =IF(SQRT((CG31-$J$5)^2+(CH31-$L$5)^2)<$I$6,1,0) -> #N/A | CJ31: =CG31*CI31 -> #N/A | CK31: =CH31*CI31 -> #N/A | CM31: 22 | CN31: =CN$6*COS(CM31*PI()/180)+CO$5 -> #N/A | CO31: =CN$6*SIN(CM31*PI()/180)+CQ$5 -> #N/A | CP31: =IF(SQRT((CN31-$J$5)^2+(CO31-$L$5)^2)<$I$6,1,0) -> #N/A | CQ31: =CN31*CP31 -> #N/A | CR31: =CO31*CP31 -> #N/A | CT31: 22 | CU31: =CU$6*COS(CT31*PI()/180)+CV$5 -> #N/A | CV31: =CU$6*SIN(CT31*PI()/180)+CX$5 -> #N/A | CW31: =IF(SQRT((CU31-$J$5)^2+(CV31-$L$5)^2)<$I$6,1,0) -> #N/A | CX31: =CU31*CW31 -> #N/A | CY31: =CV31*CW31 -> #N/A | DA31: 22 | DB31: =DB$6*COS(DA31*PI()/180)+DC$5 -> #N/A | DC31: =DB$6*SIN(DA31*PI()/180)+DE$5 -> #N/A | DD31: =IF(SQRT((DB31-$J$5)^2+(DC31-$L$5)^2)<$I$6,1,0) -> #N/A | DE31: =DB31*DD31 -> #N/A | DF31: =DC31*DD31 -> #N/A | DH31: 22 | DI31: =DI$6*COS(DH31*PI()/180)+DJ$5 -> #N/A | DJ31: =DI$6*SIN(DH31*PI()/180)+DL$5 -> #N/A | DK31: =IF(SQRT((DI31-$J$5)^2+(DJ31-$L$5)^2)<$I$6,1,0) -> #N/A | DL31: =DI31*DK31 -> #N/A | DM31: =DJ31*DK31 -> #N/A | DO31: 22 | DP31: =DP$6*COS(DO31*PI()/180)+DQ$5 -> #N/A | DQ31: =DP$6*SIN(DO31*PI()/180)+DS$5 -> #N/A | DR31: =IF(SQRT((DP31-$J$5)^2+(DQ31-$L$5)^2)<$I$6,1,0) -> #N/A | DS31: =DP31*DR31 -> #N/A | DT31: =DQ31*DR31 -> #N/A | DV31: 22 | DW31: =DW$6*COS(DV31*PI()/180)+DX$5 -> #N/A | DX31: =DW$6*SIN(DV31*PI()/180)+DZ$5 -> #N/A | DY31: =IF(SQRT((DW31-$J$5)^2+(DX31-$L$5)^2)<$I$6,1,0) -> #N/A | DZ31: =DW31*DY31 -> #N/A | EA31: =DX31*DY31 -> #N/A | EC31: 22 | ED31: =ED$6*COS(EC31*PI()/180)+EE$5 -> #N/A | EE31: =ED$6*SIN(EC31*PI()/180)+EG$5 -> #N/A | EF31: =IF(SQRT((ED31-$J$5)^2+(EE31-$L$5)^2)<$I$6,1,0) -> #N/A | EG31: =ED31*EF31 -> #N/A | EH31: =EE31*EF31 -> #N/A | EJ31: 22 | EK31: =EK$6*COS(EJ31*PI()/180)+EL$5 -> #N/A | EL31: =EK$6*SIN(EJ31*PI()/180)+EN$5 -> #N/A | EM31: =IF(SQRT((EK31-$J$5)^2+(EL31-$L$5)^2)<$I$6,1,0) -> #N/A | EN31: =EK31*EM31 -> #N/A | EO31: =EL31*EM31 -> #N/A | EQ31: 22 | ER31: =ER$6*COS(EQ31*PI()/180)+ES$5 -> #N/A | ES31: =ER$6*SIN(EQ31*PI()/180)+EU$5 -> #N/A | ET31: =IF(SQRT((ER31-$J$5)^2+(ES31-$L$5)^2)<$I$6,1,0) -> #N/A | EU31: =ER31*ET31 -> #N/A | EV31: =ES31*ET31 -> #N/A | EX31: 22 | EY31: =EY$6*COS(EX31*PI()/180)+EZ$5 -> #N/A | EZ31: =EY$6*SIN(EX31*PI()/180)+FB$5 -> #N/A | FA31: =IF(SQRT((EY31-$J$5)^2+(EZ31-$L$5)^2)<$I$6,1,0) -> #N/A | FB31: =EY31*FA31 -> #N/A | FC31: =EZ31*FA31 -> #N/A | FE31: 22 | FF31: =FF$6*COS(FE31*PI()/180)+FG$5 -> #N/A | FG31: =FF$6*SIN(FE31*PI()/180)+FI$5 -> #N/A | FH31: =IF(SQRT((FF31-$J$5)^2+(FG31-$L$5)^2)<$I$6,1,0) -> #N/A | FI31: =FF31*FH31 -> #N/A | FJ31: =FG31*FH31 -> #N/A | FL31: 22 | FM31: =FM$6*COS(FL31*PI()/180)+FN$5 -> #N/A | FN31: =FM$6*SIN(FL31*PI()/180)+FP$5 -> #N/A | FO31: =IF(SQRT((FM31-$J$5)^2+(FN31-$L$5)^2)<$I$6,1,0) -> #N/A | FP31: =FM31*FO31 -> #N/A | FQ31: =FN31*FO31 -> #N/A | FS31: 22 | FT31: =FT$6*COS(FS31*PI()/180)+FU$5 -> #N/A | FU31: =FT$6*SIN(FS31*PI()/180)+FW$5 -> #N/A | FV31: =IF(SQRT((FT31-$J$5)^2+(FU31-$L$5)^2)<$I$6,1,0) -> #N/A | FW31: =FT31*FV31 -> #N/A | FX31: =FU31*FV31 -> #N/A
A32: 2 | B32: 90 | C32: 0.4 | D32: 2 | E32: 90 | F32: 180 | H32: 23 | I32: =$I$6*COS(H32*PI()/180)+$J$5 -> 1.3807573 | J32: =$I$6*SIN(H32*PI()/180)+$L$5 -> 0.58609669 | N32: 23 | O32: =$O$6*COS($N32*PI()/180)+$P$5 -> 0.53408619 | P32: =$O$6*SIN($N32*PI()/180)+$R$5 -> -0.075153595 | Q32: =IF(SQRT((O32-$J$5)^2+(P32-$L$5)^2)<$I$6,1,0) -> 1 | R32: =O32*Q32 -> 0.53408619 | S32: =P32*Q32 -> -0.075153595 | U32: 23 | V32: =V$6*COS(U32*PI()/180)+W$5 -> 0.29336018 | W32: =V$6*SIN(U32*PI()/180)+Y$5 -> 0.24430061 | X32: =IF(SQRT((V32-$J$5)^2+(W32-$L$5)^2)<$I$6,1,0) -> 1 | Y32: =V32*X32 -> 0.29336018 | Z32: =W32*X32 -> 0.24430061 | AB32: 23 | AC32: =AC$6*COS(AB32*PI()/180)+AD$5 -> 0.44965263 | AD32: =AC$6*SIN(AB32*PI()/180)+AF$5 -> 0.61250255 | AE32: =IF(SQRT((AC32-$J$5)^2+(AD32-$L$5)^2)<$I$6,1,0) -> 1 | AF32: =AC32*AE32 -> 0.44965263 | AG32: =AD32*AE32 -> 0.61250255 | AI32: 23 | AJ32: =AJ$6*COS(AI32*PI()/180)+AK$5 -> 0.84667109 | AK32: =AJ$6*SIN(AI32*PI()/180)+AM$5 -> 0.66125029 | AL32: =IF(SQRT((AJ32-$J$5)^2+(AK32-$L$5)^2)<$I$6,1,0) -> 1 | AM32: =AJ32*AL32 -> 0.84667109 | AN32: =AK32*AL32 -> 0.66125029 | AP32: 23 | AQ32: =AQ$6*COS(AP32*PI()/180)+AR$5 -> 1.0873971 | AR32: =AQ$6*SIN(AP32*PI()/180)+AT$5 -> 0.34179608 | AS32: =IF(SQRT((AQ32-$J$5)^2+(AR32-$L$5)^2)<$I$6,1,0) -> 1 | AT32: =AQ32*AS32 -> 1.0873971 | AU32: =AR32*AS32 -> 0.34179608 | AW32: 23 | AX32: =AX$6*COS(AW32*PI()/180)+AY$5 -> 0.93110465 | AY32: =AX$6*SIN(AW32*PI()/180)+BA$5 -> -0.026405858 | AZ32: =IF(SQRT((AX32-$J$5)^2+(AY32-$L$5)^2)<$I$6,1,0) -> 1 | BA32: =AX32*AZ32 -> 0.93110465 | BB32: =AY32*AZ32 -> -0.026405858 | BD32: 23 | BE32: =BE$6*COS(BD32*PI()/180)+BF$5 -> #N/A | BF32: =BE$6*SIN(BD32*PI()/180)+BH$5 -> #N/A | BG32: =IF(SQRT((BE32-$J$5)^2+(BF32-$L$5)^2)<$I$6,1,0) -> #N/A | BH32: =BE32*BG32 -> #N/A | BI32: =BF32*BG32 -> #N/A | BK32: 23 | BL32: =BL$6*COS(BK32*PI()/180)+BM$5 -> #N/A | BM32: =BL$6*SIN(BK32*PI()/180)+BO$5 -> #N/A | BN32: =IF(SQRT((BL32-$J$5)^2+(BM32-$L$5)^2)<$I$6,1,0) -> #N/A | BO32: =BL32*BN32 -> #N/A | BP32: =BM32*BN32 -> #N/A | BR32: 23 | BS32: =BS$6*COS(BR32*PI()/180)+BT$5 -> #N/A | BT32: =BS$6*SIN(BR32*PI()/180)+BV$5 -> #N/A | BU32: =IF(SQRT((BS32-$J$5)^2+(BT32-$L$5)^2)<$I$6,1,0) -> #N/A | BV32: =BS32*BU32 -> #N/A | BW32: =BT32*BU32 -> #N/A | BY32: 23 | BZ32: =BZ$6*COS(BY32*PI()/180)+CA$5 -> #N/A | CA32: =BZ$6*SIN(BY32*PI()/180)+CC$5 -> #N/A | CB32: =IF(SQRT((BZ32-$J$5)^2+(CA32-$L$5)^2)<$I$6,1,0) -> #N/A | CC32: =BZ32*CB32 -> #N/A | CD32: =CA32*CB32 -> #N/A | CF32: 23 | CG32: =CG$6*COS(CF32*PI()/180)+CH$5 -> #N/A | CH32: =CG$6*SIN(CF32*PI()/180)+CJ$5 -> #N/A | CI32: =IF(SQRT((CG32-$J$5)^2+(CH32-$L$5)^2)<$I$6,1,0) -> #N/A | CJ32: =CG32*CI32 -> #N/A | CK32: =CH32*CI32 -> #N/A | CM32: 23 | CN32: =CN$6*COS(CM32*PI()/180)+CO$5 -> #N/A | CO32: =CN$6*SIN(CM32*PI()/180)+CQ$5 -> #N/A | CP32: =IF(SQRT((CN32-$J$5)^2+(CO32-$L$5)^2)<$I$6,1,0) -> #N/A | CQ32: =CN32*CP32 -> #N/A | CR32: =CO32*CP32 -> #N/A | CT32: 23 | CU32: =CU$6*COS(CT32*PI()/180)+CV$5 -> #N/A | CV32: =CU$6*SIN(CT32*PI()/180)+CX$5 -> #N/A | CW32: =IF(SQRT((CU32-$J$5)^2+(CV32-$L$5)^2)<$I$6,1,0) -> #N/A | CX32: =CU32*CW32 -> #N/A | CY32: =CV32*CW32 -> #N/A | DA32: 23 | DB32: =DB$6*COS(DA32*PI()/180)+DC$5 -> #N/A | DC32: =DB$6*SIN(DA32*PI()/180)+DE$5 -> #N/A | DD32: =IF(SQRT((DB32-$J$5)^2+(DC32-$L$5)^2)<$I$6,1,0) -> #N/A | DE32: =DB32*DD32 -> #N/A | DF32: =DC32*DD32 -> #N/A | DH32: 23 | DI32: =DI$6*COS(DH32*PI()/180)+DJ$5 -> #N/A | DJ32: =DI$6*SIN(DH32*PI()/180)+DL$5 -> #N/A | DK32: =IF(SQRT((DI32-$J$5)^2+(DJ32-$L$5)^2)<$I$6,1,0) -> #N/A | DL32: =DI32*DK32 -> #N/A | DM32: =DJ32*DK32 -> #N/A | DO32: 23 | DP32: =DP$6*COS(DO32*PI()/180)+DQ$5 -> #N/A | DQ32: =DP$6*SIN(DO32*PI()/180)+DS$5 -> #N/A | DR32: =IF(SQRT((DP32-$J$5)^2+(DQ32-$L$5)^2)<$I$6,1,0) -> #N/A | DS32: =DP32*DR32 -> #N/A | DT32: =DQ32*DR32 -> #N/A | DV32: 23 | DW32: =DW$6*COS(DV32*PI()/180)+DX$5 -> #N/A | DX32: =DW$6*SIN(DV32*PI()/180)+DZ$5 -> #N/A | DY32: =IF(SQRT((DW32-$J$5)^2+(DX32-$L$5)^2)<$I$6,1,0) -> #N/A | DZ32: =DW32*DY32 -> #N/A | EA32: =DX32*DY32 -> #N/A | EC32: 23 | ED32: =ED$6*COS(EC32*PI()/180)+EE$5 -> #N/A | EE32: =ED$6*SIN(EC32*PI()/180)+EG$5 -> #N/A | EF32: =IF(SQRT((ED32-$J$5)^2+(EE32-$L$5)^2)<$I$6,1,0) -> #N/A | EG32: =ED32*EF32 -> #N/A | EH32: =EE32*EF32 -> #N/A | EJ32: 23 | EK32: =EK$6*COS(EJ32*PI()/180)+EL$5 -> #N/A | EL32: =EK$6*SIN(EJ32*PI()/180)+EN$5 -> #N/A | EM32: =IF(SQRT((EK32-$J$5)^2+(EL32-$L$5)^2)<$I$6,1,0) -> #N/A | EN32: =EK32*EM32 -> #N/A | EO32: =EL32*EM32 -> #N/A | EQ32: 23 | ER32: =ER$6*COS(EQ32*PI()/180)+ES$5 -> #N/A | ES32: =ER$6*SIN(EQ32*PI()/180)+EU$5 -> #N/A | ET32: =IF(SQRT((ER32-$J$5)^2+(ES32-$L$5)^2)<$I$6,1,0) -> #N/A | EU32: =ER32*ET32 -> #N/A | EV32: =ES32*ET32 -> #N/A | EX32: 23 | EY32: =EY$6*COS(EX32*PI()/180)+EZ$5 -> #N/A | EZ32: =EY$6*SIN(EX32*PI()/180)+FB$5 -> #N/A | FA32: =IF(SQRT((EY32-$J$5)^2+(EZ32-$L$5)^2)<$I$6,1,0) -> #N/A | FB32: =EY32*FA32 -> #N/A | FC32: =EZ32*FA32 -> #N/A | FE32: 23 | FF32: =FF$6*COS(FE32*PI()/180)+FG$5 -> #N/A | FG32: =FF$6*SIN(FE32*PI()/180)+FI$5 -> #N/A | FH32: =IF(SQRT((FF32-$J$5)^2+(FG32-$L$5)^2)<$I$6,1,0) -> #N/A | FI32: =FF32*FH32 -> #N/A | FJ32: =FG32*FH32 -> #N/A | FL32: 23 | FM32: =FM$6*COS(FL32*PI()/180)+FN$5 -> #N/A | FN32: =FM$6*SIN(FL32*PI()/180)+FP$5 -> #N/A | FO32: =IF(SQRT((FM32-$J$5)^2+(FN32-$L$5)^2)<$I$6,1,0) -> #N/A | FP32: =FM32*FO32 -> #N/A | FQ32: =FN32*FO32 -> #N/A | FS32: 23 | FT32: =FT$6*COS(FS32*PI()/180)+FU$5 -> #N/A | FU32: =FT$6*SIN(FS32*PI()/180)+FW$5 -> #N/A | FV32: =IF(SQRT((FT32-$J$5)^2+(FU32-$L$5)^2)<$I$6,1,0) -> #N/A | FW32: =FT32*FV32 -> #N/A | FX32: =FU32*FV32 -> #N/A
A33: 3 | B33: 150 | C33: 0.45 | D33: 3 | E33: 180 | F33: 270 | H33: 24 | I33: =$I$6*COS(H33*PI()/180)+$J$5 -> 1.3703182 | J33: =$I$6*SIN(H33*PI()/180)+$L$5 -> 0.61010496 | N33: 24 | O33: =$O$6*COS($N33*PI()/180)+$P$5 -> 0.52886664 | P33: =$O$6*SIN($N33*PI()/180)+$R$5 -> -0.063149459 | Q33: =IF(SQRT((O33-$J$5)^2+(P33-$L$5)^2)<$I$6,1,0) -> 1 | R33: =O33*Q33 -> 0.52886664 | S33: =P33*Q33 -> -0.063149459 | U33: 24 | V33: =V$6*COS(U33*PI()/180)+W$5 -> 0.28814063 | W33: =V$6*SIN(U33*PI()/180)+Y$5 -> 0.25630474 | X33: =IF(SQRT((V33-$J$5)^2+(W33-$L$5)^2)<$I$6,1,0) -> 1 | Y33: =V33*X33 -> 0.28814063 | Z33: =W33*X33 -> 0.25630474 | AB33: 24 | AC33: =AC$6*COS(AB33*PI()/180)+AD$5 -> 0.44443308 | AD33: =AC$6*SIN(AB33*PI()/180)+AF$5 -> 0.62450669 | AE33: =IF(SQRT((AC33-$J$5)^2+(AD33-$L$5)^2)<$I$6,1,0) -> 1 | AF33: =AC33*AE33 -> 0.44443308 | AG33: =AD33*AE33 -> 0.62450669 | AI33: 24 | AJ33: =AJ$6*COS(AI33*PI()/180)+AK$5 -> 0.84145154 | AK33: =AJ$6*SIN(AI33*PI()/180)+AM$5 -> 0.67325442 | AL33: =IF(SQRT((AJ33-$J$5)^2+(AK33-$L$5)^2)<$I$6,1,0) -> 1 | AM33: =AJ33*AL33 -> 0.84145154 | AN33: =AK33*AL33 -> 0.67325442 | AP33: 24 | AQ33: =AQ$6*COS(AP33*PI()/180)+AR$5 -> 1.0821776 | AR33: =AQ$6*SIN(AP33*PI()/180)+AT$5 -> 0.35380022 | AS33: =IF(SQRT((AQ33-$J$5)^2+(AR33-$L$5)^2)<$I$6,1,0) -> 1 | AT33: =AQ33*AS33 -> 1.0821776 | AU33: =AR33*AS33 -> 0.35380022 | AW33: 24 | AX33: =AX$6*COS(AW33*PI()/180)+AY$5 -> 0.9258851 | AY33: =AX$6*SIN(AW33*PI()/180)+BA$5 -> -0.014401722 | AZ33: =IF(SQRT((AX33-$J$5)^2+(AY33-$L$5)^2)<$I$6,1,0) -> 1 | BA33: =AX33*AZ33 -> 0.9258851 | BB33: =AY33*AZ33 -> -0.014401722 | BD33: 24 | BE33: =BE$6*COS(BD33*PI()/180)+BF$5 -> #N/A | BF33: =BE$6*SIN(BD33*PI()/180)+BH$5 -> #N/A | BG33: =IF(SQRT((BE33-$J$5)^2+(BF33-$L$5)^2)<$I$6,1,0) -> #N/A | BH33: =BE33*BG33 -> #N/A | BI33: =BF33*BG33 -> #N/A | BK33: 24 | BL33: =BL$6*COS(BK33*PI()/180)+BM$5 -> #N/A | BM33: =BL$6*SIN(BK33*PI()/180)+BO$5 -> #N/A | BN33: =IF(SQRT((BL33-$J$5)^2+(BM33-$L$5)^2)<$I$6,1,0) -> #N/A | BO33: =BL33*BN33 -> #N/A | BP33: =BM33*BN33 -> #N/A | BR33: 24 | BS33: =BS$6*COS(BR33*PI()/180)+BT$5 -> #N/A | BT33: =BS$6*SIN(BR33*PI()/180)+BV$5 -> #N/A | BU33: =IF(SQRT((BS33-$J$5)^2+(BT33-$L$5)^2)<$I$6,1,0) -> #N/A | BV33: =BS33*BU33 -> #N/A | BW33: =BT33*BU33 -> #N/A | BY33: 24 | BZ33: =BZ$6*COS(BY33*PI()/180)+CA$5 -> #N/A | CA33: =BZ$6*SIN(BY33*PI()/180)+CC$5 -> #N/A | CB33: =IF(SQRT((BZ33-$J$5)^2+(CA33-$L$5)^2)<$I$6,1,0) -> #N/A | CC33: =BZ33*CB33 -> #N/A | CD33: =CA33*CB33 -> #N/A | CF33: 24 | CG33: =CG$6*COS(CF33*PI()/180)+CH$5 -> #N/A | CH33: =CG$6*SIN(CF33*PI()/180)+CJ$5 -> #N/A | CI33: =IF(SQRT((CG33-$J$5)^2+(CH33-$L$5)^2)<$I$6,1,0) -> #N/A | CJ33: =CG33*CI33 -> #N/A | CK33: =CH33*CI33 -> #N/A | CM33: 24 | CN33: =CN$6*COS(CM33*PI()/180)+CO$5 -> #N/A | CO33: =CN$6*SIN(CM33*PI()/180)+CQ$5 -> #N/A | CP33: =IF(SQRT((CN33-$J$5)^2+(CO33-$L$5)^2)<$I$6,1,0) -> #N/A | CQ33: =CN33*CP33 -> #N/A | CR33: =CO33*CP33 -> #N/A | CT33: 24 | CU33: =CU$6*COS(CT33*PI()/180)+CV$5 -> #N/A | CV33: =CU$6*SIN(CT33*PI()/180)+CX$5 -> #N/A | CW33: =IF(SQRT((CU33-$J$5)^2+(CV33-$L$5)^2)<$I$6,1,0) -> #N/A | CX33: =CU33*CW33 -> #N/A | CY33: =CV33*CW33 -> #N/A | DA33: 24 | DB33: =DB$6*COS(DA33*PI()/180)+DC$5 -> #N/A | DC33: =DB$6*SIN(DA33*PI()/180)+DE$5 -> #N/A | DD33: =IF(SQRT((DB33-$J$5)^2+(DC33-$L$5)^2)<$I$6,1,0) -> #N/A | DE33: =DB33*DD33 -> #N/A | DF33: =DC33*DD33 -> #N/A | DH33: 24 | DI33: =DI$6*COS(DH33*PI()/180)+DJ$5 -> #N/A | DJ33: =DI$6*SIN(DH33*PI()/180)+DL$5 -> #N/A | DK33: =IF(SQRT((DI33-$J$5)^2+(DJ33-$L$5)^2)<$I$6,1,0) -> #N/A | DL33: =DI33*DK33 -> #N/A | DM33: =DJ33*DK33 -> #N/A | DO33: 24 | DP33: =DP$6*COS(DO33*PI()/180)+DQ$5 -> #N/A | DQ33: =DP$6*SIN(DO33*PI()/180)+DS$5 -> #N/A | DR33: =IF(SQRT((DP33-$J$5)^2+(DQ33-$L$5)^2)<$I$6,1,0) -> #N/A | DS33: =DP33*DR33 -> #N/A | DT33: =DQ33*DR33 -> #N/A | DV33: 24 | DW33: =DW$6*COS(DV33*PI()/180)+DX$5 -> #N/A | DX33: =DW$6*SIN(DV33*PI()/180)+DZ$5 -> #N/A | DY33: =IF(SQRT((DW33-$J$5)^2+(DX33-$L$5)^2)<$I$6,1,0) -> #N/A | DZ33: =DW33*DY33 -> #N/A | EA33: =DX33*DY33 -> #N/A | EC33: 24 | ED33: =ED$6*COS(EC33*PI()/180)+EE$5 -> #N/A | EE33: =ED$6*SIN(EC33*PI()/180)+EG$5 -> #N/A | EF33: =IF(SQRT((ED33-$J$5)^2+(EE33-$L$5)^2)<$I$6,1,0) -> #N/A | EG33: =ED33*EF33 -> #N/A | EH33: =EE33*EF33 -> #N/A | EJ33: 24 | EK33: =EK$6*COS(EJ33*PI()/180)+EL$5 -> #N/A | EL33: =EK$6*SIN(EJ33*PI()/180)+EN$5 -> #N/A | EM33: =IF(SQRT((EK33-$J$5)^2+(EL33-$L$5)^2)<$I$6,1,0) -> #N/A | EN33: =EK33*EM33 -> #N/A | EO33: =EL33*EM33 -> #N/A | EQ33: 24 | ER33: =ER$6*COS(EQ33*PI()/180)+ES$5 -> #N/A | ES33: =ER$6*SIN(EQ33*PI()/180)+EU$5 -> #N/A | ET33: =IF(SQRT((ER33-$J$5)^2+(ES33-$L$5)^2)<$I$6,1,0) -> #N/A | EU33: =ER33*ET33 -> #N/A | EV33: =ES33*ET33 -> #N/A | EX33: 24 | EY33: =EY$6*COS(EX33*PI()/180)+EZ$5 -> #N/A | EZ33: =EY$6*SIN(EX33*PI()/180)+FB$5 -> #N/A | FA33: =IF(SQRT((EY33-$J$5)^2+(EZ33-$L$5)^2)<$I$6,1,0) -> #N/A | FB33: =EY33*FA33 -> #N/A | FC33: =EZ33*FA33 -> #N/A | FE33: 24 | FF33: =FF$6*COS(FE33*PI()/180)+FG$5 -> #N/A | FG33: =FF$6*SIN(FE33*PI()/180)+FI$5 -> #N/A | FH33: =IF(SQRT((FF33-$J$5)^2+(FG33-$L$5)^2)<$I$6,1,0) -> #N/A | FI33: =FF33*FH33 -> #N/A | FJ33: =FG33*FH33 -> #N/A | FL33: 24 | FM33: =FM$6*COS(FL33*PI()/180)+FN$5 -> #N/A | FN33: =FM$6*SIN(FL33*PI()/180)+FP$5 -> #N/A | FO33: =IF(SQRT((FM33-$J$5)^2+(FN33-$L$5)^2)<$I$6,1,0) -> #N/A | FP33: =FM33*FO33 -> #N/A | FQ33: =FN33*FO33 -> #N/A | FS33: 24 | FT33: =FT$6*COS(FS33*PI()/180)+FU$5 -> #N/A | FU33: =FT$6*SIN(FS33*PI()/180)+FW$5 -> #N/A | FV33: =IF(SQRT((FT33-$J$5)^2+(FU33-$L$5)^2)<$I$6,1,0) -> #N/A | FW33: =FT33*FV33 -> #N/A | FX33: =FU33*FV33 -> #N/A
A34: 4 | B34: 203 | C34: 0.5 | D34: 4 | E34: 270 | F34: 360 | H34: 25 | I34: =$I$6*COS(H34*PI()/180)+$J$5 -> 1.3594617 | J34: =$I$6*SIN(H34*PI()/180)+$L$5 -> 0.63392739 | N34: 25 | O34: =$O$6*COS($N34*PI()/180)+$P$5 -> 0.52343839 | P34: =$O$6*SIN($N34*PI()/180)+$R$5 -> -0.051238245 | Q34: =IF(SQRT((O34-$J$5)^2+(P34-$L$5)^2)<$I$6,1,0) -> 1 | R34: =O34*Q34 -> 0.52343839 | S34: =P34*Q34 -> -0.051238245 | U34: 25 | V34: =V$6*COS(U34*PI()/180)+W$5 -> 0.28271238 | W34: =V$6*SIN(U34*PI()/180)+Y$5 -> 0.26821596 | X34: =IF(SQRT((V34-$J$5)^2+(W34-$L$5)^2)<$I$6,1,0) -> 1 | Y34: =V34*X34 -> 0.28271238 | Z34: =W34*X34 -> 0.26821596 | AB34: 25 | AC34: =AC$6*COS(AB34*PI()/180)+AD$5 -> 0.43900483 | AD34: =AC$6*SIN(AB34*PI()/180)+AF$5 -> 0.6364179 | AE34: =IF(SQRT((AC34-$J$5)^2+(AD34-$L$5)^2)<$I$6,1,0) -> 1 | AF34: =AC34*AE34 -> 0.43900483 | AG34: =AD34*AE34 -> 0.6364179 | AI34: 25 | AJ34: =AJ$6*COS(AI34*PI()/180)+AK$5 -> 0.83602329 | AK34: =AJ$6*SIN(AI34*PI()/180)+AM$5 -> 0.68516564 | AL34: =IF(SQRT((AJ34-$J$5)^2+(AK34-$L$5)^2)<$I$6,1,0) -> 1 | AM34: =AJ34*AL34 -> 0.83602329 | AN34: =AK34*AL34 -> 0.68516564 | AP34: 25 | AQ34: =AQ$6*COS(AP34*PI()/180)+AR$5 -> 1.0767493 | AR34: =AQ$6*SIN(AP34*PI()/180)+AT$5 -> 0.36571143 | AS34: =IF(SQRT((AQ34-$J$5)^2+(AR34-$L$5)^2)<$I$6,1,0) -> 1 | AT34: =AQ34*AS34 -> 1.0767493 | AU34: =AR34*AS34 -> 0.36571143 | AW34: 25 | AX34: =AX$6*COS(AW34*PI()/180)+AY$5 -> 0.92045685 | AY34: =AX$6*SIN(AW34*PI()/180)+BA$5 -> -0.0024905077 | AZ34: =IF(SQRT((AX34-$J$5)^2+(AY34-$L$5)^2)<$I$6,1,0) -> 1 | BA34: =AX34*AZ34 -> 0.92045685 | BB34: =AY34*AZ34 -> -0.0024905077 | BD34: 25 | BE34: =BE$6*COS(BD34*PI()/180)+BF$5 -> #N/A | BF34: =BE$6*SIN(BD34*PI()/180)+BH$5 -> #N/A | BG34: =IF(SQRT((BE34-$J$5)^2+(BF34-$L$5)^2)<$I$6,1,0) -> #N/A | BH34: =BE34*BG34 -> #N/A | BI34: =BF34*BG34 -> #N/A | BK34: 25 | BL34: =BL$6*COS(BK34*PI()/180)+BM$5 -> #N/A | BM34: =BL$6*SIN(BK34*PI()/180)+BO$5 -> #N/A | BN34: =IF(SQRT((BL34-$J$5)^2+(BM34-$L$5)^2)<$I$6,1,0) -> #N/A | BO34: =BL34*BN34 -> #N/A | BP34: =BM34*BN34 -> #N/A | BR34: 25 | BS34: =BS$6*COS(BR34*PI()/180)+BT$5 -> #N/A | BT34: =BS$6*SIN(BR34*PI()/180)+BV$5 -> #N/A | BU34: =IF(SQRT((BS34-$J$5)^2+(BT34-$L$5)^2)<$I$6,1,0) -> #N/A | BV34: =BS34*BU34 -> #N/A | BW34: =BT34*BU34 -> #N/A | BY34: 25 | BZ34: =BZ$6*COS(BY34*PI()/180)+CA$5 -> #N/A | CA34: =BZ$6*SIN(BY34*PI()/180)+CC$5 -> #N/A | CB34: =IF(SQRT((BZ34-$J$5)^2+(CA34-$L$5)^2)<$I$6,1,0) -> #N/A | CC34: =BZ34*CB34 -> #N/A | CD34: =CA34*CB34 -> #N/A | CF34: 25 | CG34: =CG$6*COS(CF34*PI()/180)+CH$5 -> #N/A | CH34: =CG$6*SIN(CF34*PI()/180)+CJ$5 -> #N/A | CI34: =IF(SQRT((CG34-$J$5)^2+(CH34-$L$5)^2)<$I$6,1,0) -> #N/A | CJ34: =CG34*CI34 -> #N/A | CK34: =CH34*CI34 -> #N/A | CM34: 25 | CN34: =CN$6*COS(CM34*PI()/180)+CO$5 -> #N/A | CO34: =CN$6*SIN(CM34*PI()/180)+CQ$5 -> #N/A | CP34: =IF(SQRT((CN34-$J$5)^2+(CO34-$L$5)^2)<$I$6,1,0) -> #N/A | CQ34: =CN34*CP34 -> #N/A | CR34: =CO34*CP34 -> #N/A | CT34: 25 | CU34: =CU$6*COS(CT34*PI()/180)+CV$5 -> #N/A | CV34: =CU$6*SIN(CT34*PI()/180)+CX$5 -> #N/A | CW34: =IF(SQRT((CU34-$J$5)^2+(CV34-$L$5)^2)<$I$6,1,0) -> #N/A | CX34: =CU34*CW34 -> #N/A | CY34: =CV34*CW34 -> #N/A | DA34: 25 | DB34: =DB$6*COS(DA34*PI()/180)+DC$5 -> #N/A | DC34: =DB$6*SIN(DA34*PI()/180)+DE$5 -> #N/A | DD34: =IF(SQRT((DB34-$J$5)^2+(DC34-$L$5)^2)<$I$6,1,0) -> #N/A | DE34: =DB34*DD34 -> #N/A | DF34: =DC34*DD34 -> #N/A | DH34: 25 | DI34: =DI$6*COS(DH34*PI()/180)+DJ$5 -> #N/A | DJ34: =DI$6*SIN(DH34*PI()/180)+DL$5 -> #N/A | DK34: =IF(SQRT((DI34-$J$5)^2+(DJ34-$L$5)^2)<$I$6,1,0) -> #N/A | DL34: =DI34*DK34 -> #N/A | DM34: =DJ34*DK34 -> #N/A | DO34: 25 | DP34: =DP$6*COS(DO34*PI()/180)+DQ$5 -> #N/A | DQ34: =DP$6*SIN(DO34*PI()/180)+DS$5 -> #N/A | DR34: =IF(SQRT((DP34-$J$5)^2+(DQ34-$L$5)^2)<$I$6,1,0) -> #N/A | DS34: =DP34*DR34 -> #N/A | DT34: =DQ34*DR34 -> #N/A | DV34: 25 | DW34: =DW$6*COS(DV34*PI()/180)+DX$5 -> #N/A | DX34: =DW$6*SIN(DV34*PI()/180)+DZ$5 -> #N/A | DY34: =IF(SQRT((DW34-$J$5)^2+(DX34-$L$5)^2)<$I$6,1,0) -> #N/A | DZ34: =DW34*DY34 -> #N/A | EA34: =DX34*DY34 -> #N/A | EC34: 25 | ED34: =ED$6*COS(EC34*PI()/180)+EE$5 -> #N/A | EE34: =ED$6*SIN(EC34*PI()/180)+EG$5 -> #N/A | EF34: =IF(SQRT((ED34-$J$5)^2+(EE34-$L$5)^2)<$I$6,1,0) -> #N/A | EG34: =ED34*EF34 -> #N/A | EH34: =EE34*EF34 -> #N/A | EJ34: 25 | EK34: =EK$6*COS(EJ34*PI()/180)+EL$5 -> #N/A | EL34: =EK$6*SIN(EJ34*PI()/180)+EN$5 -> #N/A | EM34: =IF(SQRT((EK34-$J$5)^2+(EL34-$L$5)^2)<$I$6,1,0) -> #N/A | EN34: =EK34*EM34 -> #N/A | EO34: =EL34*EM34 -> #N/A | EQ34: 25 | ER34: =ER$6*COS(EQ34*PI()/180)+ES$5 -> #N/A | ES34: =ER$6*SIN(EQ34*PI()/180)+EU$5 -> #N/A | ET34: =IF(SQRT((ER34-$J$5)^2+(ES34-$L$5)^2)<$I$6,1,0) -> #N/A | EU34: =ER34*ET34 -> #N/A | EV34: =ES34*ET34 -> #N/A | EX34: 25 | EY34: =EY$6*COS(EX34*PI()/180)+EZ$5 -> #N/A | EZ34: =EY$6*SIN(EX34*PI()/180)+FB$5 -> #N/A | FA34: =IF(SQRT((EY34-$J$5)^2+(EZ34-$L$5)^2)<$I$6,1,0) -> #N/A | FB34: =EY34*FA34 -> #N/A | FC34: =EZ34*FA34 -> #N/A | FE34: 25 | FF34: =FF$6*COS(FE34*PI()/180)+FG$5 -> #N/A | FG34: =FF$6*SIN(FE34*PI()/180)+FI$5 -> #N/A | FH34: =IF(SQRT((FF34-$J$5)^2+(FG34-$L$5)^2)<$I$6,1,0) -> #N/A | FI34: =FF34*FH34 -> #N/A | FJ34: =FG34*FH34 -> #N/A | FL34: 25 | FM34: =FM$6*COS(FL34*PI()/180)+FN$5 -> #N/A | FN34: =FM$6*SIN(FL34*PI()/180)+FP$5 -> #N/A | FO34: =IF(SQRT((FM34-$J$5)^2+(FN34-$L$5)^2)<$I$6,1,0) -> #N/A | FP34: =FM34*FO34 -> #N/A | FQ34: =FN34*FO34 -> #N/A | FS34: 25 | FT34: =FT$6*COS(FS34*PI()/180)+FU$5 -> #N/A | FU34: =FT$6*SIN(FS34*PI()/180)+FW$5 -> #N/A | FV34: =IF(SQRT((FT34-$J$5)^2+(FU34-$L$5)^2)<$I$6,1,0) -> #N/A | FW34: =FT34*FV34 -> #N/A | FX34: =FU34*FV34 -> #N/A
A35: 5 | B35: 250 | C35: 0.55 | H35: 26 | I35: =$I$6*COS(H35*PI()/180)+$J$5 -> 1.3481911 | J35: =$I$6*SIN(H35*PI()/180)+$L$5 -> 0.65755672 | N35: 26 | O35: =$O$6*COS($N35*PI()/180)+$P$5 -> 0.51780308 | P35: =$O$6*SIN($N35*PI()/180)+$R$5 -> -0.039423581 | Q35: =IF(SQRT((O35-$J$5)^2+(P35-$L$5)^2)<$I$6,1,0) -> 1 | R35: =O35*Q35 -> 0.51780308 | S35: =P35*Q35 -> -0.039423581 | U35: 26 | V35: =V$6*COS(U35*PI()/180)+W$5 -> 0.27707707 | W35: =V$6*SIN(U35*PI()/180)+Y$5 -> 0.28003062 | X35: =IF(SQRT((V35-$J$5)^2+(W35-$L$5)^2)<$I$6,1,0) -> 1 | Y35: =V35*X35 -> 0.27707707 | Z35: =W35*X35 -> 0.28003062 | AB35: 26 | AC35: =AC$6*COS(AB35*PI()/180)+AD$5 -> 0.43336953 | AD35: =AC$6*SIN(AB35*PI()/180)+AF$5 -> 0.64823256 | AE35: =IF(SQRT((AC35-$J$5)^2+(AD35-$L$5)^2)<$I$6,1,0) -> 1 | AF35: =AC35*AE35 -> 0.43336953 | AG35: =AD35*AE35 -> 0.64823256 | AI35: 26 | AJ35: =AJ$6*COS(AI35*PI()/180)+AK$5 -> 0.83038799 | AK35: =AJ$6*SIN(AI35*PI()/180)+AM$5 -> 0.6969803 | AL35: =IF(SQRT((AJ35-$J$5)^2+(AK35-$L$5)^2)<$I$6,1,0) -> 1 | AM35: =AJ35*AL35 -> 0.83038799 | AN35: =AK35*AL35 -> 0.6969803 | AP35: 26 | AQ35: =AQ$6*COS(AP35*PI()/180)+AR$5 -> 1.071114 | AR35: =AQ$6*SIN(AP35*PI()/180)+AT$5 -> 0.3775261 | AS35: =IF(SQRT((AQ35-$J$5)^2+(AR35-$L$5)^2)<$I$6,1,0) -> 1 | AT35: =AQ35*AS35 -> 1.071114 | AU35: =AR35*AS35 -> 0.3775261 | AW35: 26 | AX35: =AX$6*COS(AW35*PI()/180)+AY$5 -> 0.91482154 | AY35: =AX$6*SIN(AW35*PI()/180)+BA$5 -> 0.0093241561 | AZ35: =IF(SQRT((AX35-$J$5)^2+(AY35-$L$5)^2)<$I$6,1,0) -> 1 | BA35: =AX35*AZ35 -> 0.91482154 | BB35: =AY35*AZ35 -> 0.0093241561 | BD35: 26 | BE35: =BE$6*COS(BD35*PI()/180)+BF$5 -> #N/A | BF35: =BE$6*SIN(BD35*PI()/180)+BH$5 -> #N/A | BG35: =IF(SQRT((BE35-$J$5)^2+(BF35-$L$5)^2)<$I$6,1,0) -> #N/A | BH35: =BE35*BG35 -> #N/A | BI35: =BF35*BG35 -> #N/A | BK35: 26 | BL35: =BL$6*COS(BK35*PI()/180)+BM$5 -> #N/A | BM35: =BL$6*SIN(BK35*PI()/180)+BO$5 -> #N/A | BN35: =IF(SQRT((BL35-$J$5)^2+(BM35-$L$5)^2)<$I$6,1,0) -> #N/A | BO35: =BL35*BN35 -> #N/A | BP35: =BM35*BN35 -> #N/A | BR35: 26 | BS35: =BS$6*COS(BR35*PI()/180)+BT$5 -> #N/A | BT35: =BS$6*SIN(BR35*PI()/180)+BV$5 -> #N/A | BU35: =IF(SQRT((BS35-$J$5)^2+(BT35-$L$5)^2)<$I$6,1,0) -> #N/A | BV35: =BS35*BU35 -> #N/A | BW35: =BT35*BU35 -> #N/A | BY35: 26 | BZ35: =BZ$6*COS(BY35*PI()/180)+CA$5 -> #N/A | CA35: =BZ$6*SIN(BY35*PI()/180)+CC$5 -> #N/A | CB35: =IF(SQRT((BZ35-$J$5)^2+(CA35-$L$5)^2)<$I$6,1,0) -> #N/A | CC35: =BZ35*CB35 -> #N/A | CD35: =CA35*CB35 -> #N/A | CF35: 26 | CG35: =CG$6*COS(CF35*PI()/180)+CH$5 -> #N/A | CH35: =CG$6*SIN(CF35*PI()/180)+CJ$5 -> #N/A | CI35: =IF(SQRT((CG35-$J$5)^2+(CH35-$L$5)^2)<$I$6,1,0) -> #N/A | CJ35: =CG35*CI35 -> #N/A | CK35: =CH35*CI35 -> #N/A | CM35: 26 | CN35: =CN$6*COS(CM35*PI()/180)+CO$5 -> #N/A | CO35: =CN$6*SIN(CM35*PI()/180)+CQ$5 -> #N/A | CP35: =IF(SQRT((CN35-$J$5)^2+(CO35-$L$5)^2)<$I$6,1,0) -> #N/A | CQ35: =CN35*CP35 -> #N/A | CR35: =CO35*CP35 -> #N/A | CT35: 26 | CU35: =CU$6*COS(CT35*PI()/180)+CV$5 -> #N/A | CV35: =CU$6*SIN(CT35*PI()/180)+CX$5 -> #N/A | CW35: =IF(SQRT((CU35-$J$5)^2+(CV35-$L$5)^2)<$I$6,1,0) -> #N/A | CX35: =CU35*CW35 -> #N/A | CY35: =CV35*CW35 -> #N/A | DA35: 26 | DB35: =DB$6*COS(DA35*PI()/180)+DC$5 -> #N/A | DC35: =DB$6*SIN(DA35*PI()/180)+DE$5 -> #N/A | DD35: =IF(SQRT((DB35-$J$5)^2+(DC35-$L$5)^2)<$I$6,1,0) -> #N/A | DE35: =DB35*DD35 -> #N/A | DF35: =DC35*DD35 -> #N/A | DH35: 26 | DI35: =DI$6*COS(DH35*PI()/180)+DJ$5 -> #N/A | DJ35: =DI$6*SIN(DH35*PI()/180)+DL$5 -> #N/A | DK35: =IF(SQRT((DI35-$J$5)^2+(DJ35-$L$5)^2)<$I$6,1,0) -> #N/A | DL35: =DI35*DK35 -> #N/A | DM35: =DJ35*DK35 -> #N/A | DO35: 26 | DP35: =DP$6*COS(DO35*PI()/180)+DQ$5 -> #N/A | DQ35: =DP$6*SIN(DO35*PI()/180)+DS$5 -> #N/A | DR35: =IF(SQRT((DP35-$J$5)^2+(DQ35-$L$5)^2)<$I$6,1,0) -> #N/A | DS35: =DP35*DR35 -> #N/A | DT35: =DQ35*DR35 -> #N/A | DV35: 26 | DW35: =DW$6*COS(DV35*PI()/180)+DX$5 -> #N/A | DX35: =DW$6*SIN(DV35*PI()/180)+DZ$5 -> #N/A | DY35: =IF(SQRT((DW35-$J$5)^2+(DX35-$L$5)^2)<$I$6,1,0) -> #N/A | DZ35: =DW35*DY35 -> #N/A | EA35: =DX35*DY35 -> #N/A | EC35: 26 | ED35: =ED$6*COS(EC35*PI()/180)+EE$5 -> #N/A | EE35: =ED$6*SIN(EC35*PI()/180)+EG$5 -> #N/A | EF35: =IF(SQRT((ED35-$J$5)^2+(EE35-$L$5)^2)<$I$6,1,0) -> #N/A | EG35: =ED35*EF35 -> #N/A | EH35: =EE35*EF35 -> #N/A | EJ35: 26 | EK35: =EK$6*COS(EJ35*PI()/180)+EL$5 -> #N/A | EL35: =EK$6*SIN(EJ35*PI()/180)+EN$5 -> #N/A | EM35: =IF(SQRT((EK35-$J$5)^2+(EL35-$L$5)^2)<$I$6,1,0) -> #N/A | EN35: =EK35*EM35 -> #N/A | EO35: =EL35*EM35 -> #N/A | EQ35: 26 | ER35: =ER$6*COS(EQ35*PI()/180)+ES$5 -> #N/A | ES35: =ER$6*SIN(EQ35*PI()/180)+EU$5 -> #N/A | ET35: =IF(SQRT((ER35-$J$5)^2+(ES35-$L$5)^2)<$I$6,1,0) -> #N/A | EU35: =ER35*ET35 -> #N/A | EV35: =ES35*ET35 -> #N/A | EX35: 26 | EY35: =EY$6*COS(EX35*PI()/180)+EZ$5 -> #N/A | EZ35: =EY$6*SIN(EX35*PI()/180)+FB$5 -> #N/A | FA35: =IF(SQRT((EY35-$J$5)^2+(EZ35-$L$5)^2)<$I$6,1,0) -> #N/A | FB35: =EY35*FA35 -> #N/A | FC35: =EZ35*FA35 -> #N/A | FE35: 26 | FF35: =FF$6*COS(FE35*PI()/180)+FG$5 -> #N/A | FG35: =FF$6*SIN(FE35*PI()/180)+FI$5 -> #N/A | FH35: =IF(SQRT((FF35-$J$5)^2+(FG35-$L$5)^2)<$I$6,1,0) -> #N/A | FI35: =FF35*FH35 -> #N/A | FJ35: =FG35*FH35 -> #N/A | FL35: 26 | FM35: =FM$6*COS(FL35*PI()/180)+FN$5 -> #N/A | FN35: =FM$6*SIN(FL35*PI()/180)+FP$5 -> #N/A | FO35: =IF(SQRT((FM35-$J$5)^2+(FN35-$L$5)^2)<$I$6,1,0) -> #N/A | FP35: =FM35*FO35 -> #N/A | FQ35: =FN35*FO35 -> #N/A | FS35: 26 | FT35: =FT$6*COS(FS35*PI()/180)+FU$5 -> #N/A | FU35: =FT$6*SIN(FS35*PI()/180)+FW$5 -> #N/A | FV35: =IF(SQRT((FT35-$J$5)^2+(FU35-$L$5)^2)<$I$6,1,0) -> #N/A | FW35: =FT35*FV35 -> #N/A | FX35: =FU35*FV35 -> #N/A
A36: 6 | B36: 293 | C36: 0.6 | H36: 27 | I36: =$I$6*COS(H36*PI()/180)+$J$5 -> 1.3365098 | J36: =$I$6*SIN(H36*PI()/180)+$L$5 -> 0.68098575 | N36: 27 | O36: =$O$6*COS($N36*PI()/180)+$P$5 -> 0.51196244 | P36: =$O$6*SIN($N36*PI()/180)+$R$5 -> -0.027709067 | Q36: =IF(SQRT((O36-$J$5)^2+(P36-$L$5)^2)<$I$6,1,0) -> 1 | R36: =O36*Q36 -> 0.51196244 | S36: =P36*Q36 -> -0.027709067 | U36: 27 | V36: =V$6*COS(U36*PI()/180)+W$5 -> 0.27123643 | W36: =V$6*SIN(U36*PI()/180)+Y$5 -> 0.29174514 | X36: =IF(SQRT((V36-$J$5)^2+(W36-$L$5)^2)<$I$6,1,0) -> 1 | Y36: =V36*X36 -> 0.27123643 | Z36: =W36*X36 -> 0.29174514 | AB36: 27 | AC36: =AC$6*COS(AB36*PI()/180)+AD$5 -> 0.42752888 | AD36: =AC$6*SIN(AB36*PI()/180)+AF$5 -> 0.65994708 | AE36: =IF(SQRT((AC36-$J$5)^2+(AD36-$L$5)^2)<$I$6,1,0) -> 1 | AF36: =AC36*AE36 -> 0.42752888 | AG36: =AD36*AE36 -> 0.65994708 | AI36: 27 | AJ36: =AJ$6*COS(AI36*PI()/180)+AK$5 -> 0.82454734 | AK36: =AJ$6*SIN(AI36*PI()/180)+AM$5 -> 0.70869482 | AL36: =IF(SQRT((AJ36-$J$5)^2+(AK36-$L$5)^2)<$I$6,1,0) -> 1 | AM36: =AJ36*AL36 -> 0.82454734 | AN36: =AK36*AL36 -> 0.70869482 | AP36: 27 | AQ36: =AQ$6*COS(AP36*PI()/180)+AR$5 -> 1.0652734 | AR36: =AQ$6*SIN(AP36*PI()/180)+AT$5 -> 0.38924061 | AS36: =IF(SQRT((AQ36-$J$5)^2+(AR36-$L$5)^2)<$I$6,1,0) -> 1 | AT36: =AQ36*AS36 -> 1.0652734 | AU36: =AR36*AS36 -> 0.38924061 | AW36: 27 | AX36: =AX$6*COS(AW36*PI()/180)+AY$5 -> 0.9089809 | AY36: =AX$6*SIN(AW36*PI()/180)+BA$5 -> 0.021038671 | AZ36: =IF(SQRT((AX36-$J$5)^2+(AY36-$L$5)^2)<$I$6,1,0) -> 1 | BA36: =AX36*AZ36 -> 0.9089809 | BB36: =AY36*AZ36 -> 0.021038671 | BD36: 27 | BE36: =BE$6*COS(BD36*PI()/180)+BF$5 -> #N/A | BF36: =BE$6*SIN(BD36*PI()/180)+BH$5 -> #N/A | BG36: =IF(SQRT((BE36-$J$5)^2+(BF36-$L$5)^2)<$I$6,1,0) -> #N/A | BH36: =BE36*BG36 -> #N/A | BI36: =BF36*BG36 -> #N/A | BK36: 27 | BL36: =BL$6*COS(BK36*PI()/180)+BM$5 -> #N/A | BM36: =BL$6*SIN(BK36*PI()/180)+BO$5 -> #N/A | BN36: =IF(SQRT((BL36-$J$5)^2+(BM36-$L$5)^2)<$I$6,1,0) -> #N/A | BO36: =BL36*BN36 -> #N/A | BP36: =BM36*BN36 -> #N/A | BR36: 27 | BS36: =BS$6*COS(BR36*PI()/180)+BT$5 -> #N/A | BT36: =BS$6*SIN(BR36*PI()/180)+BV$5 -> #N/A | BU36: =IF(SQRT((BS36-$J$5)^2+(BT36-$L$5)^2)<$I$6,1,0) -> #N/A | BV36: =BS36*BU36 -> #N/A | BW36: =BT36*BU36 -> #N/A | BY36: 27 | BZ36: =BZ$6*COS(BY36*PI()/180)+CA$5 -> #N/A | CA36: =BZ$6*SIN(BY36*PI()/180)+CC$5 -> #N/A | CB36: =IF(SQRT((BZ36-$J$5)^2+(CA36-$L$5)^2)<$I$6,1,0) -> #N/A | CC36: =BZ36*CB36 -> #N/A | CD36: =CA36*CB36 -> #N/A | CF36: 27 | CG36: =CG$6*COS(CF36*PI()/180)+CH$5 -> #N/A | CH36: =CG$6*SIN(CF36*PI()/180)+CJ$5 -> #N/A | CI36: =IF(SQRT((CG36-$J$5)^2+(CH36-$L$5)^2)<$I$6,1,0) -> #N/A | CJ36: =CG36*CI36 -> #N/A | CK36: =CH36*CI36 -> #N/A | CM36: 27 | CN36: =CN$6*COS(CM36*PI()/180)+CO$5 -> #N/A | CO36: =CN$6*SIN(CM36*PI()/180)+CQ$5 -> #N/A | CP36: =IF(SQRT((CN36-$J$5)^2+(CO36-$L$5)^2)<$I$6,1,0) -> #N/A | CQ36: =CN36*CP36 -> #N/A | CR36: =CO36*CP36 -> #N/A | CT36: 27 | CU36: =CU$6*COS(CT36*PI()/180)+CV$5 -> #N/A | CV36: =CU$6*SIN(CT36*PI()/180)+CX$5 -> #N/A | CW36: =IF(SQRT((CU36-$J$5)^2+(CV36-$L$5)^2)<$I$6,1,0) -> #N/A | CX36: =CU36*CW36 -> #N/A | CY36: =CV36*CW36 -> #N/A | DA36: 27 | DB36: =DB$6*COS(DA36*PI()/180)+DC$5 -> #N/A | DC36: =DB$6*SIN(DA36*PI()/180)+DE$5 -> #N/A | DD36: =IF(SQRT((DB36-$J$5)^2+(DC36-$L$5)^2)<$I$6,1,0) -> #N/A | DE36: =DB36*DD36 -> #N/A | DF36: =DC36*DD36 -> #N/A | DH36: 27 | DI36: =DI$6*COS(DH36*PI()/180)+DJ$5 -> #N/A | DJ36: =DI$6*SIN(DH36*PI()/180)+DL$5 -> #N/A | DK36: =IF(SQRT((DI36-$J$5)^2+(DJ36-$L$5)^2)<$I$6,1,0) -> #N/A | DL36: =DI36*DK36 -> #N/A | DM36: =DJ36*DK36 -> #N/A | DO36: 27 | DP36: =DP$6*COS(DO36*PI()/180)+DQ$5 -> #N/A | DQ36: =DP$6*SIN(DO36*PI()/180)+DS$5 -> #N/A | DR36: =IF(SQRT((DP36-$J$5)^2+(DQ36-$L$5)^2)<$I$6,1,0) -> #N/A | DS36: =DP36*DR36 -> #N/A | DT36: =DQ36*DR36 -> #N/A | DV36: 27 | DW36: =DW$6*COS(DV36*PI()/180)+DX$5 -> #N/A | DX36: =DW$6*SIN(DV36*PI()/180)+DZ$5 -> #N/A | DY36: =IF(SQRT((DW36-$J$5)^2+(DX36-$L$5)^2)<$I$6,1,0) -> #N/A | DZ36: =DW36*DY36 -> #N/A | EA36: =DX36*DY36 -> #N/A | EC36: 27 | ED36: =ED$6*COS(EC36*PI()/180)+EE$5 -> #N/A | EE36: =ED$6*SIN(EC36*PI()/180)+EG$5 -> #N/A | EF36: =IF(SQRT((ED36-$J$5)^2+(EE36-$L$5)^2)<$I$6,1,0) -> #N/A | EG36: =ED36*EF36 -> #N/A | EH36: =EE36*EF36 -> #N/A | EJ36: 27 | EK36: =EK$6*COS(EJ36*PI()/180)+EL$5 -> #N/A | EL36: =EK$6*SIN(EJ36*PI()/180)+EN$5 -> #N/A | EM36: =IF(SQRT((EK36-$J$5)^2+(EL36-$L$5)^2)<$I$6,1,0) -> #N/A | EN36: =EK36*EM36 -> #N/A | EO36: =EL36*EM36 -> #N/A | EQ36: 27 | ER36: =ER$6*COS(EQ36*PI()/180)+ES$5 -> #N/A | ES36: =ER$6*SIN(EQ36*PI()/180)+EU$5 -> #N/A | ET36: =IF(SQRT((ER36-$J$5)^2+(ES36-$L$5)^2)<$I$6,1,0) -> #N/A | EU36: =ER36*ET36 -> #N/A | EV36: =ES36*ET36 -> #N/A | EX36: 27 | EY36: =EY$6*COS(EX36*PI()/180)+EZ$5 -> #N/A | EZ36: =EY$6*SIN(EX36*PI()/180)+FB$5 -> #N/A | FA36: =IF(SQRT((EY36-$J$5)^2+(EZ36-$L$5)^2)<$I$6,1,0) -> #N/A | FB36: =EY36*FA36 -> #N/A | FC36: =EZ36*FA36 -> #N/A | FE36: 27 | FF36: =FF$6*COS(FE36*PI()/180)+FG$5 -> #N/A | FG36: =FF$6*SIN(FE36*PI()/180)+FI$5 -> #N/A | FH36: =IF(SQRT((FF36-$J$5)^2+(FG36-$L$5)^2)<$I$6,1,0) -> #N/A | FI36: =FF36*FH36 -> #N/A | FJ36: =FG36*FH36 -> #N/A | FL36: 27 | FM36: =FM$6*COS(FL36*PI()/180)+FN$5 -> #N/A | FN36: =FM$6*SIN(FL36*PI()/180)+FP$5 -> #N/A | FO36: =IF(SQRT((FM36-$J$5)^2+(FN36-$L$5)^2)<$I$6,1,0) -> #N/A | FP36: =FM36*FO36 -> #N/A | FQ36: =FN36*FO36 -> #N/A | FS36: 27 | FT36: =FT$6*COS(FS36*PI()/180)+FU$5 -> #N/A | FU36: =FT$6*SIN(FS36*PI()/180)+FW$5 -> #N/A | FV36: =IF(SQRT((FT36-$J$5)^2+(FU36-$L$5)^2)<$I$6,1,0) -> #N/A | FW36: =FT36*FV36 -> #N/A | FX36: =FU36*FV36 -> #N/A
A37: 7 | B37: 333 | C37: 0.65 | H37: 28 | I37: =$I$6*COS(H37*PI()/180)+$J$5 -> 1.3244214 | J37: =$I$6*SIN(H37*PI()/180)+$L$5 -> 0.70420734 | N37: 28 | O37: =$O$6*COS($N37*PI()/180)+$P$5 -> 0.50591824 | P37: =$O$6*SIN($N37*PI()/180)+$R$5 -> -0.016098269 | Q37: =IF(SQRT((O37-$J$5)^2+(P37-$L$5)^2)<$I$6,1,0) -> 1 | R37: =O37*Q37 -> 0.50591824 | S37: =P37*Q37 -> -0.016098269 | U37: 28 | V37: =V$6*COS(U37*PI()/180)+W$5 -> 0.26519223 | W37: =V$6*SIN(U37*PI()/180)+Y$5 -> 0.30335593 | X37: =IF(SQRT((V37-$J$5)^2+(W37-$L$5)^2)<$I$6,1,0) -> 1 | Y37: =V37*X37 -> 0.26519223 | Z37: =W37*X37 -> 0.30335593 | AB37: 28 | AC37: =AC$6*COS(AB37*PI()/180)+AD$5 -> 0.42148469 | AD37: =AC$6*SIN(AB37*PI()/180)+AF$5 -> 0.67155788 | AE37: =IF(SQRT((AC37-$J$5)^2+(AD37-$L$5)^2)<$I$6,1,0) -> 1 | AF37: =AC37*AE37 -> 0.42148469 | AG37: =AD37*AE37 -> 0.67155788 | AI37: 28 | AJ37: =AJ$6*COS(AI37*PI()/180)+AK$5 -> 0.81850315 | AK37: =AJ$6*SIN(AI37*PI()/180)+AM$5 -> 0.72030561 | AL37: =IF(SQRT((AJ37-$J$5)^2+(AK37-$L$5)^2)<$I$6,1,0) -> 1 | AM37: =AJ37*AL37 -> 0.81850315 | AN37: =AK37*AL37 -> 0.72030561 | AP37: 28 | AQ37: =AQ$6*COS(AP37*PI()/180)+AR$5 -> 1.0592292 | AR37: =AQ$6*SIN(AP37*PI()/180)+AT$5 -> 0.40085141 | AS37: =IF(SQRT((AQ37-$J$5)^2+(AR37-$L$5)^2)<$I$6,1,0) -> 1 | AT37: =AQ37*AS37 -> 1.0592292 | AU37: =AR37*AS37 -> 0.40085141 | AW37: 28 | AX37: =AX$6*COS(AW37*PI()/180)+AY$5 -> 0.9029367 | AY37: =AX$6*SIN(AW37*PI()/180)+BA$5 -> 0.032649468 | AZ37: =IF(SQRT((AX37-$J$5)^2+(AY37-$L$5)^2)<$I$6,1,0) -> 1 | BA37: =AX37*AZ37 -> 0.9029367 | BB37: =AY37*AZ37 -> 0.032649468 | BD37: 28 | BE37: =BE$6*COS(BD37*PI()/180)+BF$5 -> #N/A | BF37: =BE$6*SIN(BD37*PI()/180)+BH$5 -> #N/A | BG37: =IF(SQRT((BE37-$J$5)^2+(BF37-$L$5)^2)<$I$6,1,0) -> #N/A | BH37: =BE37*BG37 -> #N/A | BI37: =BF37*BG37 -> #N/A | BK37: 28 | BL37: =BL$6*COS(BK37*PI()/180)+BM$5 -> #N/A | BM37: =BL$6*SIN(BK37*PI()/180)+BO$5 -> #N/A | BN37: =IF(SQRT((BL37-$J$5)^2+(BM37-$L$5)^2)<$I$6,1,0) -> #N/A | BO37: =BL37*BN37 -> #N/A | BP37: =BM37*BN37 -> #N/A | BR37: 28 | BS37: =BS$6*COS(BR37*PI()/180)+BT$5 -> #N/A | BT37: =BS$6*SIN(BR37*PI()/180)+BV$5 -> #N/A | BU37: =IF(SQRT((BS37-$J$5)^2+(BT37-$L$5)^2)<$I$6,1,0) -> #N/A | BV37: =BS37*BU37 -> #N/A | BW37: =BT37*BU37 -> #N/A | BY37: 28 | BZ37: =BZ$6*COS(BY37*PI()/180)+CA$5 -> #N/A | CA37: =BZ$6*SIN(BY37*PI()/180)+CC$5 -> #N/A | CB37: =IF(SQRT((BZ37-$J$5)^2+(CA37-$L$5)^2)<$I$6,1,0) -> #N/A | CC37: =BZ37*CB37 -> #N/A | CD37: =CA37*CB37 -> #N/A | CF37: 28 | CG37: =CG$6*COS(CF37*PI()/180)+CH$5 -> #N/A | CH37: =CG$6*SIN(CF37*PI()/180)+CJ$5 -> #N/A | CI37: =IF(SQRT((CG37-$J$5)^2+(CH37-$L$5)^2)<$I$6,1,0) -> #N/A | CJ37: =CG37*CI37 -> #N/A | CK37: =CH37*CI37 -> #N/A | CM37: 28 | CN37: =CN$6*COS(CM37*PI()/180)+CO$5 -> #N/A | CO37: =CN$6*SIN(CM37*PI()/180)+CQ$5 -> #N/A | CP37: =IF(SQRT((CN37-$J$5)^2+(CO37-$L$5)^2)<$I$6,1,0) -> #N/A | CQ37: =CN37*CP37 -> #N/A | CR37: =CO37*CP37 -> #N/A | CT37: 28 | CU37: =CU$6*COS(CT37*PI()/180)+CV$5 -> #N/A | CV37: =CU$6*SIN(CT37*PI()/180)+CX$5 -> #N/A | CW37: =IF(SQRT((CU37-$J$5)^2+(CV37-$L$5)^2)<$I$6,1,0) -> #N/A | CX37: =CU37*CW37 -> #N/A | CY37: =CV37*CW37 -> #N/A | DA37: 28 | DB37: =DB$6*COS(DA37*PI()/180)+DC$5 -> #N/A | DC37: =DB$6*SIN(DA37*PI()/180)+DE$5 -> #N/A | DD37: =IF(SQRT((DB37-$J$5)^2+(DC37-$L$5)^2)<$I$6,1,0) -> #N/A | DE37: =DB37*DD37 -> #N/A | DF37: =DC37*DD37 -> #N/A | DH37: 28 | DI37: =DI$6*COS(DH37*PI()/180)+DJ$5 -> #N/A | DJ37: =DI$6*SIN(DH37*PI()/180)+DL$5 -> #N/A | DK37: =IF(SQRT((DI37-$J$5)^2+(DJ37-$L$5)^2)<$I$6,1,0) -> #N/A | DL37: =DI37*DK37 -> #N/A | DM37: =DJ37*DK37 -> #N/A | DO37: 28 | DP37: =DP$6*COS(DO37*PI()/180)+DQ$5 -> #N/A | DQ37: =DP$6*SIN(DO37*PI()/180)+DS$5 -> #N/A | DR37: =IF(SQRT((DP37-$J$5)^2+(DQ37-$L$5)^2)<$I$6,1,0) -> #N/A | DS37: =DP37*DR37 -> #N/A | DT37: =DQ37*DR37 -> #N/A | DV37: 28 | DW37: =DW$6*COS(DV37*PI()/180)+DX$5 -> #N/A | DX37: =DW$6*SIN(DV37*PI()/180)+DZ$5 -> #N/A | DY37: =IF(SQRT((DW37-$J$5)^2+(DX37-$L$5)^2)<$I$6,1,0) -> #N/A | DZ37: =DW37*DY37 -> #N/A | EA37: =DX37*DY37 -> #N/A | EC37: 28 | ED37: =ED$6*COS(EC37*PI()/180)+EE$5 -> #N/A | EE37: =ED$6*SIN(EC37*PI()/180)+EG$5 -> #N/A | EF37: =IF(SQRT((ED37-$J$5)^2+(EE37-$L$5)^2)<$I$6,1,0) -> #N/A | EG37: =ED37*EF37 -> #N/A | EH37: =EE37*EF37 -> #N/A | EJ37: 28 | EK37: =EK$6*COS(EJ37*PI()/180)+EL$5 -> #N/A | EL37: =EK$6*SIN(EJ37*PI()/180)+EN$5 -> #N/A | EM37: =IF(SQRT((EK37-$J$5)^2+(EL37-$L$5)^2)<$I$6,1,0) -> #N/A | EN37: =EK37*EM37 -> #N/A | EO37: =EL37*EM37 -> #N/A | EQ37: 28 | ER37: =ER$6*COS(EQ37*PI()/180)+ES$5 -> #N/A | ES37: =ER$6*SIN(EQ37*PI()/180)+EU$5 -> #N/A | ET37: =IF(SQRT((ER37-$J$5)^2+(ES37-$L$5)^2)<$I$6,1,0) -> #N/A | EU37: =ER37*ET37 -> #N/A | EV37: =ES37*ET37 -> #N/A | EX37: 28 | EY37: =EY$6*COS(EX37*PI()/180)+EZ$5 -> #N/A | EZ37: =EY$6*SIN(EX37*PI()/180)+FB$5 -> #N/A | FA37: =IF(SQRT((EY37-$J$5)^2+(EZ37-$L$5)^2)<$I$6,1,0) -> #N/A | FB37: =EY37*FA37 -> #N/A | FC37: =EZ37*FA37 -> #N/A | FE37: 28 | FF37: =FF$6*COS(FE37*PI()/180)+FG$5 -> #N/A | FG37: =FF$6*SIN(FE37*PI()/180)+FI$5 -> #N/A | FH37: =IF(SQRT((FF37-$J$5)^2+(FG37-$L$5)^2)<$I$6,1,0) -> #N/A | FI37: =FF37*FH37 -> #N/A | FJ37: =FG37*FH37 -> #N/A | FL37: 28 | FM37: =FM$6*COS(FL37*PI()/180)+FN$5 -> #N/A | FN37: =FM$6*SIN(FL37*PI()/180)+FP$5 -> #N/A | FO37: =IF(SQRT((FM37-$J$5)^2+(FN37-$L$5)^2)<$I$6,1,0) -> #N/A | FP37: =FM37*FO37 -> #N/A | FQ37: =FN37*FO37 -> #N/A | FS37: 28 | FT37: =FT$6*COS(FS37*PI()/180)+FU$5 -> #N/A | FU37: =FT$6*SIN(FS37*PI()/180)+FW$5 -> #N/A | FV37: =IF(SQRT((FT37-$J$5)^2+(FU37-$L$5)^2)<$I$6,1,0) -> #N/A | FW37: =FT37*FV37 -> #N/A | FX37: =FU37*FV37 -> #N/A
A38: 8 | B38: 9 | C38: 0.7 | H38: 29 | I38: =$I$6*COS(H38*PI()/180)+$J$5 -> 1.3119296 | J38: =$I$6*SIN(H38*PI()/180)+$L$5 -> 0.72721443 | N38: 29 | O38: =$O$6*COS($N38*PI()/180)+$P$5 -> 0.49967233 | P38: =$O$6*SIN($N38*PI()/180)+$R$5 -> -0.0045947262 | Q38: =IF(SQRT((O38-$J$5)^2+(P38-$L$5)^2)<$I$6,1,0) -> 1 | R38: =O38*Q38 -> 0.49967233 | S38: =P38*Q38 -> -0.0045947262 | U38: 29 | V38: =V$6*COS(U38*PI()/180)+W$5 -> 0.25894632 | W38: =V$6*SIN(U38*PI()/180)+Y$5 -> 0.31485948 | X38: =IF(SQRT((V38-$J$5)^2+(W38-$L$5)^2)<$I$6,1,0) -> 1 | Y38: =V38*X38 -> 0.25894632 | Z38: =W38*X38 -> 0.31485948 | AB38: 29 | AC38: =AC$6*COS(AB38*PI()/180)+AD$5 -> 0.41523877 | AD38: =AC$6*SIN(AB38*PI()/180)+AF$5 -> 0.68306142 | AE38: =IF(SQRT((AC38-$J$5)^2+(AD38-$L$5)^2)<$I$6,1,0) -> 1 | AF38: =AC38*AE38 -> 0.41523877 | AG38: =AD38*AE38 -> 0.68306142 | AI38: 29 | AJ38: =AJ$6*COS(AI38*PI()/180)+AK$5 -> 0.81225723 | AK38: =AJ$6*SIN(AI38*PI()/180)+AM$5 -> 0.73180916 | AL38: =IF(SQRT((AJ38-$J$5)^2+(AK38-$L$5)^2)<$I$6,1,0) -> 1 | AM38: =AJ38*AL38 -> 0.81225723 | AN38: =AK38*AL38 -> 0.73180916 | AP38: 29 | AQ38: =AQ$6*COS(AP38*PI()/180)+AR$5 -> 1.0529832 | AR38: =AQ$6*SIN(AP38*PI()/180)+AT$5 -> 0.41235495 | AS38: =IF(SQRT((AQ38-$J$5)^2+(AR38-$L$5)^2)<$I$6,1,0) -> 1 | AT38: =AQ38*AS38 -> 1.0529832 | AU38: =AR38*AS38 -> 0.41235495 | AW38: 29 | AX38: =AX$6*COS(AW38*PI()/180)+AY$5 -> 0.89669079 | AY38: =AX$6*SIN(AW38*PI()/180)+BA$5 -> 0.044153011 | AZ38: =IF(SQRT((AX38-$J$5)^2+(AY38-$L$5)^2)<$I$6,1,0) -> 1 | BA38: =AX38*AZ38 -> 0.89669079 | BB38: =AY38*AZ38 -> 0.044153011 | BD38: 29 | BE38: =BE$6*COS(BD38*PI()/180)+BF$5 -> #N/A | BF38: =BE$6*SIN(BD38*PI()/180)+BH$5 -> #N/A | BG38: =IF(SQRT((BE38-$J$5)^2+(BF38-$L$5)^2)<$I$6,1,0) -> #N/A | BH38: =BE38*BG38 -> #N/A | BI38: =BF38*BG38 -> #N/A | BK38: 29 | BL38: =BL$6*COS(BK38*PI()/180)+BM$5 -> #N/A | BM38: =BL$6*SIN(BK38*PI()/180)+BO$5 -> #N/A | BN38: =IF(SQRT((BL38-$J$5)^2+(BM38-$L$5)^2)<$I$6,1,0) -> #N/A | BO38: =BL38*BN38 -> #N/A | BP38: =BM38*BN38 -> #N/A | BR38: 29 | BS38: =BS$6*COS(BR38*PI()/180)+BT$5 -> #N/A | BT38: =BS$6*SIN(BR38*PI()/180)+BV$5 -> #N/A | BU38: =IF(SQRT((BS38-$J$5)^2+(BT38-$L$5)^2)<$I$6,1,0) -> #N/A | BV38: =BS38*BU38 -> #N/A | BW38: =BT38*BU38 -> #N/A | BY38: 29 | BZ38: =BZ$6*COS(BY38*PI()/180)+CA$5 -> #N/A | CA38: =BZ$6*SIN(BY38*PI()/180)+CC$5 -> #N/A | CB38: =IF(SQRT((BZ38-$J$5)^2+(CA38-$L$5)^2)<$I$6,1,0) -> #N/A | CC38: =BZ38*CB38 -> #N/A | CD38: =CA38*CB38 -> #N/A | CF38: 29 | CG38: =CG$6*COS(CF38*PI()/180)+CH$5 -> #N/A | CH38: =CG$6*SIN(CF38*PI()/180)+CJ$5 -> #N/A | CI38: =IF(SQRT((CG38-$J$5)^2+(CH38-$L$5)^2)<$I$6,1,0) -> #N/A | CJ38: =CG38*CI38 -> #N/A | CK38: =CH38*CI38 -> #N/A | CM38: 29 | CN38: =CN$6*COS(CM38*PI()/180)+CO$5 -> #N/A | CO38: =CN$6*SIN(CM38*PI()/180)+CQ$5 -> #N/A | CP38: =IF(SQRT((CN38-$J$5)^2+(CO38-$L$5)^2)<$I$6,1,0) -> #N/A | CQ38: =CN38*CP38 -> #N/A | CR38: =CO38*CP38 -> #N/A | CT38: 29 | CU38: =CU$6*COS(CT38*PI()/180)+CV$5 -> #N/A | CV38: =CU$6*SIN(CT38*PI()/180)+CX$5 -> #N/A | CW38: =IF(SQRT((CU38-$J$5)^2+(CV38-$L$5)^2)<$I$6,1,0) -> #N/A | CX38: =CU38*CW38 -> #N/A | CY38: =CV38*CW38 -> #N/A | DA38: 29 | DB38: =DB$6*COS(DA38*PI()/180)+DC$5 -> #N/A | DC38: =DB$6*SIN(DA38*PI()/180)+DE$5 -> #N/A | DD38: =IF(SQRT((DB38-$J$5)^2+(DC38-$L$5)^2)<$I$6,1,0) -> #N/A | DE38: =DB38*DD38 -> #N/A | DF38: =DC38*DD38 -> #N/A | DH38: 29 | DI38: =DI$6*COS(DH38*PI()/180)+DJ$5 -> #N/A | DJ38: =DI$6*SIN(DH38*PI()/180)+DL$5 -> #N/A | DK38: =IF(SQRT((DI38-$J$5)^2+(DJ38-$L$5)^2)<$I$6,1,0) -> #N/A | DL38: =DI38*DK38 -> #N/A | DM38: =DJ38*DK38 -> #N/A | DO38: 29 | DP38: =DP$6*COS(DO38*PI()/180)+DQ$5 -> #N/A | DQ38: =DP$6*SIN(DO38*PI()/180)+DS$5 -> #N/A | DR38: =IF(SQRT((DP38-$J$5)^2+(DQ38-$L$5)^2)<$I$6,1,0) -> #N/A | DS38: =DP38*DR38 -> #N/A | DT38: =DQ38*DR38 -> #N/A | DV38: 29 | DW38: =DW$6*COS(DV38*PI()/180)+DX$5 -> #N/A | DX38: =DW$6*SIN(DV38*PI()/180)+DZ$5 -> #N/A | DY38: =IF(SQRT((DW38-$J$5)^2+(DX38-$L$5)^2)<$I$6,1,0) -> #N/A | DZ38: =DW38*DY38 -> #N/A | EA38: =DX38*DY38 -> #N/A | EC38: 29 | ED38: =ED$6*COS(EC38*PI()/180)+EE$5 -> #N/A | EE38: =ED$6*SIN(EC38*PI()/180)+EG$5 -> #N/A | EF38: =IF(SQRT((ED38-$J$5)^2+(EE38-$L$5)^2)<$I$6,1,0) -> #N/A | EG38: =ED38*EF38 -> #N/A | EH38: =EE38*EF38 -> #N/A | EJ38: 29 | EK38: =EK$6*COS(EJ38*PI()/180)+EL$5 -> #N/A | EL38: =EK$6*SIN(EJ38*PI()/180)+EN$5 -> #N/A | EM38: =IF(SQRT((EK38-$J$5)^2+(EL38-$L$5)^2)<$I$6,1,0) -> #N/A | EN38: =EK38*EM38 -> #N/A | EO38: =EL38*EM38 -> #N/A | EQ38: 29 | ER38: =ER$6*COS(EQ38*PI()/180)+ES$5 -> #N/A | ES38: =ER$6*SIN(EQ38*PI()/180)+EU$5 -> #N/A | ET38: =IF(SQRT((ER38-$J$5)^2+(ES38-$L$5)^2)<$I$6,1,0) -> #N/A | EU38: =ER38*ET38 -> #N/A | EV38: =ES38*ET38 -> #N/A | EX38: 29 | EY38: =EY$6*COS(EX38*PI()/180)+EZ$5 -> #N/A | EZ38: =EY$6*SIN(EX38*PI()/180)+FB$5 -> #N/A | FA38: =IF(SQRT((EY38-$J$5)^2+(EZ38-$L$5)^2)<$I$6,1,0) -> #N/A | FB38: =EY38*FA38 -> #N/A | FC38: =EZ38*FA38 -> #N/A | FE38: 29 | FF38: =FF$6*COS(FE38*PI()/180)+FG$5 -> #N/A | FG38: =FF$6*SIN(FE38*PI()/180)+FI$5 -> #N/A | FH38: =IF(SQRT((FF38-$J$5)^2+(FG38-$L$5)^2)<$I$6,1,0) -> #N/A | FI38: =FF38*FH38 -> #N/A | FJ38: =FG38*FH38 -> #N/A | FL38: 29 | FM38: =FM$6*COS(FL38*PI()/180)+FN$5 -> #N/A | FN38: =FM$6*SIN(FL38*PI()/180)+FP$5 -> #N/A | FO38: =IF(SQRT((FM38-$J$5)^2+(FN38-$L$5)^2)<$I$6,1,0) -> #N/A | FP38: =FM38*FO38 -> #N/A | FQ38: =FN38*FO38 -> #N/A | FS38: 29 | FT38: =FT$6*COS(FS38*PI()/180)+FU$5 -> #N/A | FU38: =FT$6*SIN(FS38*PI()/180)+FW$5 -> #N/A | FV38: =IF(SQRT((FT38-$J$5)^2+(FU38-$L$5)^2)<$I$6,1,0) -> #N/A | FW38: =FT38*FV38 -> #N/A | FX38: =FU38*FV38 -> #N/A
A39: 9 | B39: 43 | C39: 0.75 | H39: 30 | I39: =$I$6*COS(H39*PI()/180)+$J$5 -> 1.2990381 | J39: =$I$6*SIN(H39*PI()/180)+$L$5 -> 0.75 | N39: 30 | O39: =$O$6*COS($N39*PI()/180)+$P$5 -> 0.4932266 | P39: =$O$6*SIN($N39*PI()/180)+$R$5 -> 0.0067980586 | Q39: =IF(SQRT((O39-$J$5)^2+(P39-$L$5)^2)<$I$6,1,0) -> 1 | R39: =O39*Q39 -> 0.4932266 | S39: =P39*Q39 -> 0.0067980586 | U39: 30 | V39: =V$6*COS(U39*PI()/180)+W$5 -> 0.25250059 | W39: =V$6*SIN(U39*PI()/180)+Y$5 -> 0.32625226 | X39: =IF(SQRT((V39-$J$5)^2+(W39-$L$5)^2)<$I$6,1,0) -> 1 | Y39: =V39*X39 -> 0.25250059 | Z39: =W39*X39 -> 0.32625226 | AB39: 30 | AC39: =AC$6*COS(AB39*PI()/180)+AD$5 -> 0.40879304 | AD39: =AC$6*SIN(AB39*PI()/180)+AF$5 -> 0.6944542 | AE39: =IF(SQRT((AC39-$J$5)^2+(AD39-$L$5)^2)<$I$6,1,0) -> 1 | AF39: =AC39*AE39 -> 0.40879304 | AG39: =AD39*AE39 -> 0.6944542 | AI39: 30 | AJ39: =AJ$6*COS(AI39*PI()/180)+AK$5 -> 0.8058115 | AK39: =AJ$6*SIN(AI39*PI()/180)+AM$5 -> 0.74320194 | AL39: =IF(SQRT((AJ39-$J$5)^2+(AK39-$L$5)^2)<$I$6,1,0) -> 1 | AM39: =AJ39*AL39 -> 0.8058115 | AN39: =AK39*AL39 -> 0.74320194 | AP39: 30 | AQ39: =AQ$6*COS(AP39*PI()/180)+AR$5 -> 1.0465375 | AR39: =AQ$6*SIN(AP39*PI()/180)+AT$5 -> 0.42374774 | AS39: =IF(SQRT((AQ39-$J$5)^2+(AR39-$L$5)^2)<$I$6,1,0) -> 1 | AT39: =AQ39*AS39 -> 1.0465375 | AU39: =AR39*AS39 -> 0.42374774 | AW39: 30 | AX39: =AX$6*COS(AW39*PI()/180)+AY$5 -> 0.89024506 | AY39: =AX$6*SIN(AW39*PI()/180)+BA$5 -> 0.055545796 | AZ39: =IF(SQRT((AX39-$J$5)^2+(AY39-$L$5)^2)<$I$6,1,0) -> 1 | BA39: =AX39*AZ39 -> 0.89024506 | BB39: =AY39*AZ39 -> 0.055545796 | BD39: 30 | BE39: =BE$6*COS(BD39*PI()/180)+BF$5 -> #N/A | BF39: =BE$6*SIN(BD39*PI()/180)+BH$5 -> #N/A | BG39: =IF(SQRT((BE39-$J$5)^2+(BF39-$L$5)^2)<$I$6,1,0) -> #N/A | BH39: =BE39*BG39 -> #N/A | BI39: =BF39*BG39 -> #N/A | BK39: 30 | BL39: =BL$6*COS(BK39*PI()/180)+BM$5 -> #N/A | BM39: =BL$6*SIN(BK39*PI()/180)+BO$5 -> #N/A | BN39: =IF(SQRT((BL39-$J$5)^2+(BM39-$L$5)^2)<$I$6,1,0) -> #N/A | BO39: =BL39*BN39 -> #N/A | BP39: =BM39*BN39 -> #N/A | BR39: 30 | BS39: =BS$6*COS(BR39*PI()/180)+BT$5 -> #N/A | BT39: =BS$6*SIN(BR39*PI()/180)+BV$5 -> #N/A | BU39: =IF(SQRT((BS39-$J$5)^2+(BT39-$L$5)^2)<$I$6,1,0) -> #N/A | BV39: =BS39*BU39 -> #N/A | BW39: =BT39*BU39 -> #N/A | BY39: 30 | BZ39: =BZ$6*COS(BY39*PI()/180)+CA$5 -> #N/A | CA39: =BZ$6*SIN(BY39*PI()/180)+CC$5 -> #N/A | CB39: =IF(SQRT((BZ39-$J$5)^2+(CA39-$L$5)^2)<$I$6,1,0) -> #N/A | CC39: =BZ39*CB39 -> #N/A | CD39: =CA39*CB39 -> #N/A | CF39: 30 | CG39: =CG$6*COS(CF39*PI()/180)+CH$5 -> #N/A | CH39: =CG$6*SIN(CF39*PI()/180)+CJ$5 -> #N/A | CI39: =IF(SQRT((CG39-$J$5)^2+(CH39-$L$5)^2)<$I$6,1,0) -> #N/A | CJ39: =CG39*CI39 -> #N/A | CK39: =CH39*CI39 -> #N/A | CM39: 30 | CN39: =CN$6*COS(CM39*PI()/180)+CO$5 -> #N/A | CO39: =CN$6*SIN(CM39*PI()/180)+CQ$5 -> #N/A | CP39: =IF(SQRT((CN39-$J$5)^2+(CO39-$L$5)^2)<$I$6,1,0) -> #N/A | CQ39: =CN39*CP39 -> #N/A | CR39: =CO39*CP39 -> #N/A | CT39: 30 | CU39: =CU$6*COS(CT39*PI()/180)+CV$5 -> #N/A | CV39: =CU$6*SIN(CT39*PI()/180)+CX$5 -> #N/A | CW39: =IF(SQRT((CU39-$J$5)^2+(CV39-$L$5)^2)<$I$6,1,0) -> #N/A | CX39: =CU39*CW39 -> #N/A | CY39: =CV39*CW39 -> #N/A | DA39: 30 | DB39: =DB$6*COS(DA39*PI()/180)+DC$5 -> #N/A | DC39: =DB$6*SIN(DA39*PI()/180)+DE$5 -> #N/A | DD39: =IF(SQRT((DB39-$J$5)^2+(DC39-$L$5)^2)<$I$6,1,0) -> #N/A | DE39: =DB39*DD39 -> #N/A | DF39: =DC39*DD39 -> #N/A | DH39: 30 | DI39: =DI$6*COS(DH39*PI()/180)+DJ$5 -> #N/A | DJ39: =DI$6*SIN(DH39*PI()/180)+DL$5 -> #N/A | DK39: =IF(SQRT((DI39-$J$5)^2+(DJ39-$L$5)^2)<$I$6,1,0) -> #N/A | DL39: =DI39*DK39 -> #N/A | DM39: =DJ39*DK39 -> #N/A | DO39: 30 | DP39: =DP$6*COS(DO39*PI()/180)+DQ$5 -> #N/A | DQ39: =DP$6*SIN(DO39*PI()/180)+DS$5 -> #N/A | DR39: =IF(SQRT((DP39-$J$5)^2+(DQ39-$L$5)^2)<$I$6,1,0) -> #N/A | DS39: =DP39*DR39 -> #N/A | DT39: =DQ39*DR39 -> #N/A | DV39: 30 | DW39: =DW$6*COS(DV39*PI()/180)+DX$5 -> #N/A | DX39: =DW$6*SIN(DV39*PI()/180)+DZ$5 -> #N/A | DY39: =IF(SQRT((DW39-$J$5)^2+(DX39-$L$5)^2)<$I$6,1,0) -> #N/A | DZ39: =DW39*DY39 -> #N/A | EA39: =DX39*DY39 -> #N/A | EC39: 30 | ED39: =ED$6*COS(EC39*PI()/180)+EE$5 -> #N/A | EE39: =ED$6*SIN(EC39*PI()/180)+EG$5 -> #N/A | EF39: =IF(SQRT((ED39-$J$5)^2+(EE39-$L$5)^2)<$I$6,1,0) -> #N/A | EG39: =ED39*EF39 -> #N/A | EH39: =EE39*EF39 -> #N/A | EJ39: 30 | EK39: =EK$6*COS(EJ39*PI()/180)+EL$5 -> #N/A | EL39: =EK$6*SIN(EJ39*PI()/180)+EN$5 -> #N/A | EM39: =IF(SQRT((EK39-$J$5)^2+(EL39-$L$5)^2)<$I$6,1,0) -> #N/A | EN39: =EK39*EM39 -> #N/A | EO39: =EL39*EM39 -> #N/A | EQ39: 30 | ER39: =ER$6*COS(EQ39*PI()/180)+ES$5 -> #N/A | ES39: =ER$6*SIN(EQ39*PI()/180)+EU$5 -> #N/A | ET39: =IF(SQRT((ER39-$J$5)^2+(ES39-$L$5)^2)<$I$6,1,0) -> #N/A | EU39: =ER39*ET39 -> #N/A | EV39: =ES39*ET39 -> #N/A | EX39: 30 | EY39: =EY$6*COS(EX39*PI()/180)+EZ$5 -> #N/A | EZ39: =EY$6*SIN(EX39*PI()/180)+FB$5 -> #N/A | FA39: =IF(SQRT((EY39-$J$5)^2+(EZ39-$L$5)^2)<$I$6,1,0) -> #N/A | FB39: =EY39*FA39 -> #N/A | FC39: =EZ39*FA39 -> #N/A | FE39: 30 | FF39: =FF$6*COS(FE39*PI()/180)+FG$5 -> #N/A | FG39: =FF$6*SIN(FE39*PI()/180)+FI$5 -> #N/A | FH39: =IF(SQRT((FF39-$J$5)^2+(FG39-$L$5)^2)<$I$6,1,0) -> #N/A | FI39: =FF39*FH39 -> #N/A | FJ39: =FG39*FH39 -> #N/A | FL39: 30 | FM39: =FM$6*COS(FL39*PI()/180)+FN$5 -> #N/A | FN39: =FM$6*SIN(FL39*PI()/180)+FP$5 -> #N/A | FO39: =IF(SQRT((FM39-$J$5)^2+(FN39-$L$5)^2)<$I$6,1,0) -> #N/A | FP39: =FM39*FO39 -> #N/A | FQ39: =FN39*FO39 -> #N/A | FS39: 30 | FT39: =FT$6*COS(FS39*PI()/180)+FU$5 -> #N/A | FU39: =FT$6*SIN(FS39*PI()/180)+FW$5 -> #N/A | FV39: =IF(SQRT((FT39-$J$5)^2+(FU39-$L$5)^2)<$I$6,1,0) -> #N/A | FW39: =FT39*FV39 -> #N/A | FX39: =FU39*FV39 -> #N/A
